BEGIN:VCALENDAR
VERSION:2.0
PRODID:-//Le site officiel de la Ville de Beaucaire - ECPv6.7.0//NONSGML v1.0//EN
CALSCALE:GREGORIAN
METHOD:PUBLISH
X-ORIGINAL-URL:https://www.beaucaire.fr
X-WR-CALDESC:Évènements pour Le site officiel de la Ville de Beaucaire
REFRESH-INTERVAL;VALUE=DURATION:PT1H
X-Robots-Tag:noindex
X-PUBLISHED-TTL:PT1H
BEGIN:VTIMEZONE
TZID:Europe/Paris
BEGIN:DAYLIGHT
TZOFFSETFROM:+0100
TZOFFSETTO:+0200
TZNAME:CEST
DTSTART:20180325T010000
END:DAYLIGHT
BEGIN:STANDARD
TZOFFSETFROM:+0200
TZOFFSETTO:+0100
TZNAME:CET
DTSTART:20181028T010000
END:STANDARD
END:VTIMEZONE
BEGIN:VEVENT
DTSTART;TZID=Europe/Paris:20181201T100000
DTEND;TZID=Europe/Paris:20181202T180000
DTSTAMP:20260423T231505
CREATED:20181126T141150Z
LAST-MODIFIED:20181126T143716Z
UID:23050-1543658400-1543773600@www.beaucaire.fr
SUMMARY:Marché de Noël du Mas des Tourelles
DESCRIPTION:Le Mas des Tourelles organise son Marché de Noël artisanal et gourmand les 1er et 2 décembre. \nPetits délices pour les gourmands (foies gras et canards frais\, charcuteries de pays\, fromages fermiers\, chocolats fins\, confiseries\, bières artisanales\, paniers garnis\, tapenades\, confitures\, miels\, vins du domaine et vins vinifiés d’après des recettes romaines\, nectars et jus de fruits) mais aussi créations originales\, objets pratiques\, jeux et décorations (bijoux\, décos\, sacs\, arts de la table\, plantes\, savons\, bois flottés\, céramiques\, lavandes\, bouffadous et autres idées cadeaux originales) seront au rendez-vous. \n> Marché de Noël du Mas des Tourelles\nLes 1er et 2 décembre de 10h à 18h\n4294 route de Saint-Gilles\, 30300 Beaucaire\nwww.tourelles.com
URL:https://www.beaucaire.fr/evenement/mas-tourelles-organise-marche-de-noel-artisanal-gourmand-1er-2-decembre/
LOCATION:Le Mas des Tourelles\, 4294 route de Saint Gilles (D38)\, Beaucaire\, 30300\, France
CATEGORIES:Événements
ATTACH;FMTTYPE=image/jpeg:https://www.beaucaire.fr/wp-content/uploads/2018/11/flyer-marché-de-noel-2018_vf-HD-1-1.jpg
END:VEVENT
END:VCALENDAR