BEGIN:VCALENDAR
VERSION:2.0
PRODID:-//Le site officiel de la Ville de Beaucaire - ECPv6.7.0//NONSGML v1.0//EN
CALSCALE:GREGORIAN
METHOD:PUBLISH
X-ORIGINAL-URL:https://www.beaucaire.fr
X-WR-CALDESC:Évènements pour Le site officiel de la Ville de Beaucaire
REFRESH-INTERVAL;VALUE=DURATION:PT1H
X-Robots-Tag:noindex
X-PUBLISHED-TTL:PT1H
BEGIN:VTIMEZONE
TZID:Europe/Paris
BEGIN:DAYLIGHT
TZOFFSETFROM:+0100
TZOFFSETTO:+0200
TZNAME:CEST
DTSTART:20180325T010000
END:DAYLIGHT
BEGIN:STANDARD
TZOFFSETFROM:+0200
TZOFFSETTO:+0100
TZNAME:CET
DTSTART:20181028T010000
END:STANDARD
END:VTIMEZONE
BEGIN:VEVENT
DTSTART;TZID=Europe/Paris:20181204T190000
DTEND;TZID=Europe/Paris:20181204T210000
DTSTAMP:20260423T231001
CREATED:20181109T145017Z
LAST-MODIFIED:20181120T093727Z
UID:22749-1543950000-1543957200@www.beaucaire.fr
SUMMARY:Vernissage de l'exposition de la crèche Provençale de Noël
DESCRIPTION:Mardi 4 décembre à 19h00\, la Mairie de Beaucaire vous invite au vernissage de l’exposition de la crèche Provençale de Noël dans la cour de l’Hôtel de Ville\, place Georges Clemenceau.\nUn apéritif sera servi à l’issue du vernissage. \nVenez nombreux !
URL:https://www.beaucaire.fr/evenement/vernissage-de-lexposition-de-creche-provencale-de-noel/
LOCATION:Hôtel de Ville\, place Georges Clemenceau\, Beaucaire\, 30300\, France
CATEGORIES:Événements
ATTACH;FMTTYPE=image/jpeg:https://www.beaucaire.fr/wp-content/uploads/2018/11/DSC_0375.jpg
END:VEVENT
END:VCALENDAR