BEGIN:VCALENDAR
VERSION:2.0
PRODID:-//Le site officiel de la Ville de Beaucaire - ECPv6.7.0//NONSGML v1.0//EN
CALSCALE:GREGORIAN
METHOD:PUBLISH
X-ORIGINAL-URL:https://www.beaucaire.fr
X-WR-CALDESC:Évènements pour Le site officiel de la Ville de Beaucaire
REFRESH-INTERVAL;VALUE=DURATION:PT1H
X-Robots-Tag:noindex
X-PUBLISHED-TTL:PT1H
BEGIN:VTIMEZONE
TZID:Europe/Paris
BEGIN:DAYLIGHT
TZOFFSETFROM:+0100
TZOFFSETTO:+0200
TZNAME:CEST
DTSTART:20180325T010000
END:DAYLIGHT
BEGIN:STANDARD
TZOFFSETFROM:+0200
TZOFFSETTO:+0100
TZNAME:CET
DTSTART:20181028T010000
END:STANDARD
END:VTIMEZONE
BEGIN:VEVENT
DTSTART;TZID=Europe/Paris:20181214T190000
DTEND;TZID=Europe/Paris:20181214T210000
DTSTAMP:20260423T231044
CREATED:20181122T162515Z
LAST-MODIFIED:20181122T162515Z
UID:22947-1544814000-1544821200@www.beaucaire.fr
SUMMARY:Soirée d'accueil des nouveaux habitants
DESCRIPTION:Vous venez d’arriver sur #Beaucaire ? Remplissez sans plus tarder le formulaire pour pouvoir recevoir votre invitation personnelle à la soirée d’accueil des nouveaux habitants : http://www.beaucaire.fr/notre-ville/presentation/formulaire-nouveaux-arrivants/
URL:https://www.beaucaire.fr/evenement/soiree-daccueil-nouveaux-habitants/
LOCATION:Hôtel de Ville\, place Georges Clemenceau\, Beaucaire\, 30300\, France
CATEGORIES:Événements
ATTACH;FMTTYPE=image/jpeg:https://www.beaucaire.fr/wp-content/uploads/2018/11/visuel-bienvenue-beaucaire-2018.jpg
END:VEVENT
END:VCALENDAR