BEGIN:VCALENDAR
VERSION:2.0
PRODID:-//Le site officiel de la Ville de Beaucaire - ECPv6.7.0//NONSGML v1.0//EN
CALSCALE:GREGORIAN
METHOD:PUBLISH
X-ORIGINAL-URL:https://www.beaucaire.fr
X-WR-CALDESC:Évènements pour Le site officiel de la Ville de Beaucaire
REFRESH-INTERVAL;VALUE=DURATION:PT1H
X-Robots-Tag:noindex
X-PUBLISHED-TTL:PT1H
BEGIN:VTIMEZONE
TZID:Europe/Paris
BEGIN:DAYLIGHT
TZOFFSETFROM:+0100
TZOFFSETTO:+0200
TZNAME:CEST
DTSTART:20180325T010000
END:DAYLIGHT
BEGIN:STANDARD
TZOFFSETFROM:+0200
TZOFFSETTO:+0100
TZNAME:CET
DTSTART:20181028T010000
END:STANDARD
END:VTIMEZONE
BEGIN:VEVENT
DTSTART;TZID=Europe/Paris:20181216T143000
DTEND;TZID=Europe/Paris:20181216T180000
DTSTAMP:20260423T231116
CREATED:20181120T144659Z
LAST-MODIFIED:20181120T150631Z
UID:22913-1544970600-1544983200@www.beaucaire.fr
SUMMARY:Super Loto du CCAS de la Mairie de Beaucaire
DESCRIPTION:Le dimanche 16 décembre 2018 à 14h30\, le CCAS de la Mairie de Beaucaire organise son Super Loto au Casino Municipal. Venez nombreux pour essayer de gagner un des nombreux lots mis en jeu ! \nTarifs :\n– 1 carton : 2€\n– 6 cartons : 10€\n– 12 cartons : 18€ \n– Tombola 2€ (1 permis bateau offert par Navi Permis Beaucaire à gagner !)
URL:https://www.beaucaire.fr/evenement/super-loto-ccas-de-mairie-de-beaucaire/
LOCATION:Casino Municipal\, 1\, allée du Casino\, Beaucaire\, 30300\, France
CATEGORIES:Événements
ATTACH;FMTTYPE=image/jpeg:https://www.beaucaire.fr/wp-content/uploads/2018/11/Super-loto-2018.jpg
END:VEVENT
END:VCALENDAR