BEGIN:VCALENDAR
VERSION:2.0
PRODID:-//Le site officiel de la Ville de Beaucaire - ECPv6.7.0//NONSGML v1.0//EN
CALSCALE:GREGORIAN
METHOD:PUBLISH
X-ORIGINAL-URL:https://www.beaucaire.fr
X-WR-CALDESC:Évènements pour Le site officiel de la Ville de Beaucaire
REFRESH-INTERVAL;VALUE=DURATION:PT1H
X-Robots-Tag:noindex
X-PUBLISHED-TTL:PT1H
BEGIN:VTIMEZONE
TZID:Europe/Paris
BEGIN:DAYLIGHT
TZOFFSETFROM:+0100
TZOFFSETTO:+0200
TZNAME:CEST
DTSTART:20190331T010000
END:DAYLIGHT
BEGIN:STANDARD
TZOFFSETFROM:+0200
TZOFFSETTO:+0100
TZNAME:CET
DTSTART:20191027T010000
END:STANDARD
END:VTIMEZONE
BEGIN:VEVENT
DTSTART;TZID=Europe/Paris:20190212T190000
DTEND;TZID=Europe/Paris:20190212T213000
DTSTAMP:20260423T202825
CREATED:20190211T112609Z
LAST-MODIFIED:20190211T112609Z
UID:24989-1549998000-1550007000@www.beaucaire.fr
SUMMARY:Tournée du Maire - Garrigues Planes
DESCRIPTION:Démocratie participative : Le Maire et l’équipe municipale vous donnent rendez-vous à travers 8 réunions publiques.\nSixième réunion : Mardi 12 février 2019 à 19h00\nGarrigues Planes \n> Les autres rendez-vous : \n\n  \nMercredi 20 février 2019 à 19h00\nCentre-ville | Hôtel de Ville \nJeudi 28 février 2019 à 19h00\nUgernum – Gaudon | Salle polyvalente de la Moulinelle
URL:https://www.beaucaire.fr/evenement/tournee-du-maire-garrigues-planes/
LOCATION:Ecole de Garrigues Planes\, Quartier Garrigues Planes\, Beaucaire\, 30300\, France Métropolitaine
CATEGORIES:Événements
ATTACH;FMTTYPE=image/jpeg:https://www.beaucaire.fr/wp-content/uploads/2019/02/12-fevrier-garrigues-planes.jpg
END:VEVENT
END:VCALENDAR