BEGIN:VCALENDAR
VERSION:2.0
PRODID:-//Le site officiel de la Ville de Beaucaire - ECPv6.7.0//NONSGML v1.0//EN
CALSCALE:GREGORIAN
METHOD:PUBLISH
X-ORIGINAL-URL:https://www.beaucaire.fr
X-WR-CALDESC:Évènements pour Le site officiel de la Ville de Beaucaire
REFRESH-INTERVAL;VALUE=DURATION:PT1H
X-Robots-Tag:noindex
X-PUBLISHED-TTL:PT1H
BEGIN:VTIMEZONE
TZID:Europe/Paris
BEGIN:DAYLIGHT
TZOFFSETFROM:+0100
TZOFFSETTO:+0200
TZNAME:CEST
DTSTART:20190331T010000
END:DAYLIGHT
BEGIN:STANDARD
TZOFFSETFROM:+0200
TZOFFSETTO:+0100
TZNAME:CET
DTSTART:20191027T010000
END:STANDARD
END:VTIMEZONE
BEGIN:VEVENT
DTSTART;TZID=Europe/Paris:20190410T160000
DTEND;TZID=Europe/Paris:20190410T170000
DTSTAMP:20260423T173416
CREATED:20190402T160507Z
LAST-MODIFIED:20190402T160507Z
UID:26210-1554912000-1554915600@www.beaucaire.fr
SUMMARY:Bibliothèque Municipale : Programme du mercredi 10 avril
DESCRIPTION:Tous les mercredis du mois d’avril à 16h\, retrouvez la lecture Kamishibaï ! \n  \n> 1 rue Roger Pascal (entrée du public Cours Gambetta)\n Renseignements et inscriptions : 04.66.59.26.98
URL:https://www.beaucaire.fr/evenement/bibliotheque-municipale-programme-du-mercredi-10-avril/
LOCATION:Bibliothèque Municipale\, 1 rue Roger Pascal\, Beaucaire\, 30300\, France
CATEGORIES:Événements
ATTACH;FMTTYPE=image/jpeg:https://www.beaucaire.fr/wp-content/uploads/2019/01/DSC_0159-845x321.jpg
END:VEVENT
END:VCALENDAR