BEGIN:VCALENDAR
VERSION:2.0
PRODID:-//Le site officiel de la Ville de Beaucaire - ECPv6.7.0//NONSGML v1.0//EN
CALSCALE:GREGORIAN
METHOD:PUBLISH
X-ORIGINAL-URL:https://www.beaucaire.fr
X-WR-CALDESC:Évènements pour Le site officiel de la Ville de Beaucaire
REFRESH-INTERVAL;VALUE=DURATION:PT1H
X-Robots-Tag:noindex
X-PUBLISHED-TTL:PT1H
BEGIN:VTIMEZONE
TZID:Europe/Paris
BEGIN:DAYLIGHT
TZOFFSETFROM:+0100
TZOFFSETTO:+0200
TZNAME:CEST
DTSTART:20190331T010000
END:DAYLIGHT
BEGIN:STANDARD
TZOFFSETFROM:+0200
TZOFFSETTO:+0100
TZNAME:CET
DTSTART:20191027T010000
END:STANDARD
END:VTIMEZONE
BEGIN:VEVENT
DTSTART;TZID=Europe/Paris:20190413T100000
DTEND;TZID=Europe/Paris:20190421T180000
DTSTAMP:20260423T172541
CREATED:20190319T093144Z
LAST-MODIFIED:20190326T085149Z
UID:25889-1555149600-1555869600@www.beaucaire.fr
SUMMARY:Exposition de peinture d'Eve Chaix
DESCRIPTION:La Mairie de Beaucaire vous invite à venir découvrir l’exposition de peinture acrylique « Regards » proposée par Eve Chaix tous les jours du samedi 13 au dimanche 21 avril à la salle des expositions (27 bis quai du Général de Gaulle). \nOuverture : \nLundi\, mardi\, jeudi et vendredi  de 15h00 à 18h00 \nSamedi et dimanche : 10h00 à 12h00 et de 15h00 à 18h00 \nEntrée libre
URL:https://www.beaucaire.fr/evenement/exposition-de-peinture-deve-chaix/
LOCATION:Salle des expositions\, 27 bis quai du général de Gaulle\, Beaucaire\, 30300\, France Métropolitaine
CATEGORIES:Événements,Nos expositions
ATTACH;FMTTYPE=image/jpeg:https://www.beaucaire.fr/wp-content/uploads/2019/03/eve-chaix-2.jpeg
END:VEVENT
END:VCALENDAR