BEGIN:VCALENDAR
VERSION:2.0
PRODID:-//Le site officiel de la Ville de Beaucaire - ECPv6.7.0//NONSGML v1.0//EN
CALSCALE:GREGORIAN
METHOD:PUBLISH
X-ORIGINAL-URL:https://www.beaucaire.fr
X-WR-CALDESC:Évènements pour Le site officiel de la Ville de Beaucaire
REFRESH-INTERVAL;VALUE=DURATION:PT1H
X-Robots-Tag:noindex
X-PUBLISHED-TTL:PT1H
BEGIN:VTIMEZONE
TZID:Europe/Paris
BEGIN:DAYLIGHT
TZOFFSETFROM:+0100
TZOFFSETTO:+0200
TZNAME:CEST
DTSTART:20190331T010000
END:DAYLIGHT
BEGIN:STANDARD
TZOFFSETFROM:+0200
TZOFFSETTO:+0100
TZNAME:CET
DTSTART:20191027T010000
END:STANDARD
END:VTIMEZONE
BEGIN:VEVENT
DTSTART;TZID=Europe/Paris:20190605T070000
DTEND;TZID=Europe/Paris:20190605T120000
DTSTAMP:20260423T145352
CREATED:20190531T124626Z
LAST-MODIFIED:20190531T125201Z
UID:27792-1559718000-1559736000@www.beaucaire.fr
SUMMARY:Brocante
DESCRIPTION:La Mairie de Beaucaire organise tous les mercredis matin de 7h à 12h\, une brocante sur la banquette devant le Casino Municipal. Ouvert aux particuliers et aux professionnels. \nTarifs d’accès : 10 € le véhicule – 20 € le véhicule avec remorque ou fourgon \nRenseignements complémentaires : 04 66 59 71 18  ou affaires.generales@beaucaire.fr
URL:https://www.beaucaire.fr/evenement/brocante/
LOCATION:Banquette\, face au Casino Municipal\, allée du Casino\, Beaucaire\, 30300\, France
CATEGORIES:Événements
ATTACH;FMTTYPE=image/png:https://www.beaucaire.fr/wp-content/uploads/2019/05/carre-web-brocante-2019.png
END:VEVENT
BEGIN:VEVENT
DTSTART;TZID=Europe/Paris:20190605T100000
DTEND;TZID=Europe/Paris:20190605T183000
DTSTAMP:20260423T145352
CREATED:20190525T152429Z
LAST-MODIFIED:20190603T142515Z
UID:27615-1559728800-1559759400@www.beaucaire.fr
SUMMARY:Portes ouvertes du Conservatoire Municipal
DESCRIPTION:Le Conservatoire Municipal ouvrira ses portes le mercredi 5 juin de 10h à 18h30 afin de faire connaître les enseignements et professeurs pour l’année à venir. \nVenez découvrir les classes de piano\, flûte\, violon\, batterie\, guitare\, danse\, chant\, théatre… \nEntrée libre \nConservatoire Municipal\nPlace Georges Clemenceau\nInformations : 04 66 59 38 24 \n 
URL:https://www.beaucaire.fr/evenement/portes-ouvertes-du-conservatoire-municipal/
CATEGORIES:Événements
ATTACH;FMTTYPE=image/jpeg:https://www.beaucaire.fr/wp-content/uploads/2019/05/Vignette-Facebook-Web-1.jpg
END:VEVENT
END:VCALENDAR