BEGIN:VCALENDAR
VERSION:2.0
PRODID:-//Le site officiel de la Ville de Beaucaire - ECPv6.7.0//NONSGML v1.0//EN
CALSCALE:GREGORIAN
METHOD:PUBLISH
X-ORIGINAL-URL:https://www.beaucaire.fr
X-WR-CALDESC:Évènements pour Le site officiel de la Ville de Beaucaire
REFRESH-INTERVAL;VALUE=DURATION:PT1H
X-Robots-Tag:noindex
X-PUBLISHED-TTL:PT1H
BEGIN:VTIMEZONE
TZID:Europe/Paris
BEGIN:DAYLIGHT
TZOFFSETFROM:+0100
TZOFFSETTO:+0200
TZNAME:CEST
DTSTART:20190331T010000
END:DAYLIGHT
BEGIN:STANDARD
TZOFFSETFROM:+0200
TZOFFSETTO:+0100
TZNAME:CET
DTSTART:20191027T010000
END:STANDARD
END:VTIMEZONE
BEGIN:VEVENT
DTSTART;TZID=Europe/Paris:20190701T090000
DTEND;TZID=Europe/Paris:20190830T160000
DTSTAMP:20260423T122540
CREATED:20190625T130057Z
LAST-MODIFIED:20190625T130057Z
UID:28488-1561971600-1567180800@www.beaucaire.fr
SUMMARY:Stages de voiles
DESCRIPTION:La Mairie de Beaucaire organise du 1er juillet au 30 août 2019 des stages de voile. \nDu lundi au vendredi de 9h à 11h ou de 14h à 16h venez faire le plein de sensations fortes.\nVenez participer à un stage de voile et multisport d’une semaine (selon la météo : paddle\, VTT\, jeux d’équipes…).\nApprentissage de la navigation\, de la météo\, des nœuds marins\, de la faune et la flore…\nLe stage se terminera par une surprise et un goûter.\nTarif : 98€ la semaine \nConditions : \n– De 7 à 16 ans (obligation de savoir nager).\n– Brevet de 50 mètres\n– Certificat médical de non contre-indication à la pratique de la voile\, paddle et VTT\n– Copie de votre attestation d’assurance en responsabilité civile \nInformations : 04 66 59 45 42 – 06 11 36 53 51 \nbase.nautique@beaucaire.fr \nBase Nautique Municipale Adrien Hardy\, 20 allée du Drac\, Champ de Foire
URL:https://www.beaucaire.fr/evenement/stages-de-voiles/
LOCATION:Base nautique municipale\, Champ de foire\, Beaucaire\, 30300\, France Métropolitaine
CATEGORIES:Événements,Sports
ATTACH;FMTTYPE=image/png:https://www.beaucaire.fr/wp-content/uploads/2019/06/stage-de-voile.png
END:VEVENT
BEGIN:VEVENT
DTSTART;TZID=Europe/Paris:20190705T190000
DTEND;TZID=Europe/Paris:20190830T233000
DTSTAMP:20260423T122540
CREATED:20190628T143821Z
LAST-MODIFIED:20190902T133103Z
UID:28743-1562353200-1567207800@www.beaucaire.fr
SUMMARY:Les Vendredis de Beaucaire 2019
DESCRIPTION:Les Vendredis de Beaucaire (anciennement Les Beaux Quais)\, animent le port de plaisance et le cœur de ville chaque vendredi de juillet et août. Les Beaucairois et les touristes viennent ainsi profiter\, dès 19h\, d’un marché artisanal de qualité le long du canal du Rhône à Sète. Les bars et restaurants de la ville organisent à cette occasion des animations musicales diverses et variées. L’ambiance y est décontractée\, il fait bon y flâner entre amis ou en famille. Les Vendredis de Beaucaire\, c’est aussi\, chaque vendredi de l’été dès 21h30\, un spectacle ou un concert gratuit sur la place Georges Clemenceau (devant la Mairie)\, offert par la Ville.\n– Dès 19h : Marché nocturne\, artistes de rue et déambulations (Port de plaisance)\n– Dès 21h : SPECTACLES gratuits (Place Georges Clemenceau) \nAu programme : \nVendredi 05 juillet : Élection de Miss Beaucaire \nVendredi 12 juillet : Grand spectacle équestre \nVendredi 19 juillet : Grand tournoi de joutes \nVendredi 02 août : Concert Latino avec Caramelo Latino \nVendredi 09 août : Concert de jazz manouche et de musiques gitanes avec Drom Blanchard Trio \nVendredi 16 août : Alain Sebbah chante Serge Lama et Michel Delpech  avec le Richard Gardet Orchestra \nVendredi 23 août : Concert pop rock avec le groupe Orblue \nVendredi 30 août : Concert de Julie Zenatti – Tournée d’été La Provence \n  \n \n 
URL:https://www.beaucaire.fr/evenement/les-vendredis-de-beaucaire/
LOCATION:Place Georges Clemenceau\, Place Georges Clemenceau\, Beaucaire\, 30300\, France
CATEGORIES:Événements,Fête,Les Vendredis de Beaucaire,Spectacles
ATTACH;FMTTYPE=image/png:https://www.beaucaire.fr/wp-content/uploads/2019/06/Facebook_Vendredis.png
END:VEVENT
BEGIN:VEVENT
DTSTART;TZID=Europe/Paris:20190725T180000
DTEND;TZID=Europe/Paris:20190729T233000
DTSTAMP:20260423T122540
CREATED:20190623T093005Z
LAST-MODIFIED:20190721T143358Z
UID:28355-1564077600-1564443000@www.beaucaire.fr
SUMMARY:Salon Taurin 2019
DESCRIPTION:Chaque année en juillet\, durant 5 jours\, le parking des Arènes est transformé en « Salon Taurin ». C’est la féria locale : bonne humeur\, décontraction\, danse dans la convivialité. Tous les Beaucairois se retrouvent\, ainsi que de nombreux voisins et touristes. Chaque jour\, dès 18h\, des bodégas associatives vous accueillent pour commencer la soirée avec le sourire à l’heure de l’apéritif puis vous proposent de dîner au pied du Château de Beaucaire et devant la grande scène du Salon Taurin. Puis\, à 21h30\, la Ville de Beaucaire offre gratuitement un spectacle différent chaque soir ! \nAu programme : \nJeudi 25 juillet : Soirée Musicale avec l’orchestre Jean Ribul \nVendredi 26 juillet : Soirée Disco avec la troupe Frenchy suivie du Richard Gardet Orchestra \nSamedi 27 juillet : Soirée Cabaret avec Idyllium Cabaret suivi de l’orchestre Show Lorca \nDimanche 28 juillet : Soirée Gipsy Kings avec Diego Baliardo from Gipsy Kings suivi du Richard Gardet orchestra \n\nLundi 29 juillet : Soirée Variétés avec l’Orchestre Cocktail de nuit \n  \nLes Bodégas et restauration du Champ de Foire :\n– Gym Flip Beaucaire Tarascon – 06 62 58 97 70\n– Stade Beaucairois 30 – 06 28 27 15 91 – 06 23 78 61 93 – 06 19 94 63 23\n– Les Chevaliers – 06 27 07 58 34\n– Tennis Club Beaucairois – 06 22 28 12 96\n– Espoir Football Club Beaucairois – 06 51 69 71 96\n– Aficion Taurine Beaucairoise – 07 67 60 89 12 – www.atbbeaucaire.com \nLes autres Bodégas :\n– Espace le Chalet – Champ de Foire – 06 10 51 26 87\n– Amicale des Sapeurs Pompiers de Beaucaire – 04 66 59 84 84 – Avenue des Anciens Combattants d’Afrique du Nord\n– La Guinguette des Arènes – 1 Avenue des Arènes – 04 66 58 06 88
URL:https://www.beaucaire.fr/evenement/salon-taurin-2019/
LOCATION:Champ de foire\, Champ de foire\, Beaucaire\, 30300\, France
CATEGORIES:Événements,Fête,Spectacles
ATTACH;FMTTYPE=image/png:https://www.beaucaire.fr/wp-content/uploads/2019/06/Carré_Web.png
END:VEVENT
BEGIN:VEVENT
DTSTART;TZID=Europe/Paris:20190729T103000
DTEND;TZID=Europe/Paris:20190729T120000
DTSTAMP:20260423T122540
CREATED:20190630T132536Z
LAST-MODIFIED:20190630T132536Z
UID:28808-1564396200-1564401600@www.beaucaire.fr
SUMMARY:Abrivado à l'ancienne
DESCRIPTION:Le lundi 29 juillet à 10h30\, venez participer à l’abrivado à l’ancienne avec calèches avec la Manade L’amista\nCette abrivado est agrémentée d’un défilé de personnes costumées en calèche.\nRéservation des calèches auprès du service des Festivités au 04 66 59 71 31 \n• Départ : Fer à Cheval\n• Voie communale du Fer à Cheval\n• Chemin de la Croix de Marbre\n• Route Départementale 90\n• Chemin de Saint Joseph\n• Quai de la Paix\n• Quai Général De Gaulle\n• Boulevard du Maréchal Foch\n• Boulevard du Maréchal Joffre\n• Rue des Anciens Combattants d’Afrique du Nord\n• Arrivée : Arènes Municipales Paul Laurent \nGratuit\nOrganisé par la Mairie de Beaucaire\nInformations : 04 66 59 71 31
URL:https://www.beaucaire.fr/evenement/abrivado-a-lancienne-3/
LOCATION:Beaucaire\, Beaucaire\, 30300\, France Métropolitaine
CATEGORIES:Événements,Manifestations taurines,Traditions
ATTACH;FMTTYPE=image/png:https://www.beaucaire.fr/wp-content/uploads/2019/06/carre-web-abrivado-a-lancienne.png
END:VEVENT
BEGIN:VEVENT
DTSTART;TZID=Europe/Paris:20190729T163000
DTEND;TZID=Europe/Paris:20190729T183000
DTSTAMP:20260423T122540
CREATED:20190621T085239Z
LAST-MODIFIED:20190621T085239Z
UID:28221-1564417800-1564425000@www.beaucaire.fr
SUMMARY:Courses camarguaises : Grande Finale de la Palme d'Or 2019
DESCRIPTION:Lundi 29 juillet à 16h30 :  Grande Finale de la Palme d’Or 2019 !\nLa Mairie de Beaucaire et Daniel Siméon vous ont préparé une très belle finale de la Palme d’Or avec au programme : \nCapelado suivie d’un concours de 7 manades\, avec les cocardiers :\n• BRENUS d’Occitane\n• TATOUÉ de Lautier\n• EPERVIER Cuillé\n• SCIPION de Saumade\n• TRANCARDEL de Bon\n• CUPIDON Paulin\n• TITAN de Laurent \net les meilleurs raseteurs du moment ! \nBilletterie en Mairie de Beaucaire ou aux Arènes le jour de la course : \n• Tarif Premières : 17€ (les quatre premiers rangs des tribunes A\, B et C / les six premiers rangs de la tribune H)\n• Tarif normal : 12€\n• Tarif réduit : 6€ pour les jeunes de 12 à 16 ans ainsi que pour les retraités Beaucairois (à partir de 65 ans sous présentation d’une carte d’identité et d’un justificatif de domicile).\n• Gratuit pour les moins de 12 ans et les personnes handicapées sur présentation de la carte d’invalidité. \n 
URL:https://www.beaucaire.fr/evenement/courses-camarguaises-grande-finale-de-la-palme-dor-2019/
LOCATION:Arènes de Beaucaire\, Champ de foire\, Beaucaire\, 30300\, France Métropolitaine
CATEGORIES:Courses camarguaises,Événements,Manifestations taurines,Traditions
ATTACH;FMTTYPE=image/jpeg:https://www.beaucaire.fr/wp-content/uploads/2019/06/carre-web-palme-dor-finale.jpg
END:VEVENT
BEGIN:VEVENT
DTSTART;TZID=Europe/Paris:20190729T230000
DTEND;TZID=Europe/Paris:20190729T233000
DTSTAMP:20260423T122540
CREATED:20190623T143402Z
LAST-MODIFIED:20190902T133050Z
UID:28415-1564441200-1564443000@www.beaucaire.fr
SUMMARY:Feu d’artifice de clôture des Fêtes de la Madeleine de Beaucaire
DESCRIPTION:Le feu clôturant les Fêtes de la Madeleine de Beaucaire sera tiré du Château le lundi 29 juillet à 23h et sera visible depuis le Salon Taurin.
URL:https://www.beaucaire.fr/evenement/feu-dartifice-de-cloture-des-fetes-de-la-madeleine-de-beaucaire/
LOCATION:Château de Beaucaire\, Beaucaire\, 30300\, France Métropolitaine
CATEGORIES:Événements,Fête
ATTACH;FMTTYPE=image/png:https://www.beaucaire.fr/wp-content/uploads/2019/06/Carré_Web_Feu_Artifice.png
END:VEVENT
END:VCALENDAR