BEGIN:VCALENDAR
VERSION:2.0
PRODID:-//Le site officiel de la Ville de Beaucaire - ECPv6.7.0//NONSGML v1.0//EN
CALSCALE:GREGORIAN
METHOD:PUBLISH
X-ORIGINAL-URL:https://www.beaucaire.fr
X-WR-CALDESC:Évènements pour Le site officiel de la Ville de Beaucaire
REFRESH-INTERVAL;VALUE=DURATION:PT1H
X-Robots-Tag:noindex
X-PUBLISHED-TTL:PT1H
BEGIN:VTIMEZONE
TZID:Europe/Paris
BEGIN:DAYLIGHT
TZOFFSETFROM:+0100
TZOFFSETTO:+0200
TZNAME:CEST
DTSTART:20190331T010000
END:DAYLIGHT
BEGIN:STANDARD
TZOFFSETFROM:+0200
TZOFFSETTO:+0100
TZNAME:CET
DTSTART:20191027T010000
END:STANDARD
END:VTIMEZONE
BEGIN:VEVENT
DTSTART;TZID=Europe/Paris:20191007T140000
DTEND;TZID=Europe/Paris:20191013T150000
DTSTAMP:20260423T100522
CREATED:20191001T122709Z
LAST-MODIFIED:20191003T100422Z
UID:35512-1570456800-1570978800@www.beaucaire.fr
SUMMARY:La Semaine Bleue
DESCRIPTION:La Semaine Bleue\, semaine des retraités et des seniors\, sera particulièrement animée cette année à Beaucaire !\nDu lundi 7 au dimanche 13 octobre 2019\, au Casino Municipal\, la Mairie de Beaucaire\, son Centre Communal d’Action Sociale et ses partenaires ont programmé de nombreuses activités gratuites pour nos aînés. \n\nLundi 7 octobre – 14h :\nOuverture officielle par le Maire de Beaucaire. Après-midi récréatif avec « Triangle Animation »\, spectacle et goûter offerts par le CCAS avec la participation de la F.N.A.T.H. (Fédération Nationale des Accidentés du Travail et des Handicapés).\nMardi 8 octobre – 14h :\nAnimation dansante offerte par le Secours Populaire. Goûter offert par le Rotary-Club du Pont du Gard avec la participation des élèves de l’Institut d’Alzon.\nMercredi 9 octobre – 14h :\nAprès-midi intergénération organisé par les Hôpitaux des Portes de Camargue\, l’association Loisirs et Partage\, la Croix Rouge\, la V.M.E.H. (Visite des Malades dans les Établissements Hospitaliers)\, Cris Danse Zumba\, Country Tarasconnaise et la chorale des résidents des Hôpitaux des Portes de Camargue. Goûter offert par les Hôpitaux des Portes de Camargue.\nJeudi 10 octobre – 14h :\nLoto gratuit organisé par le Club Municipal du 3ème âge. Goûter et loto offerts par le Lion’s Club\, avec la participation du CCAS.\nVendredi 11 octobre – 14h :\nKaraoké offert par les Hôpitaux des Portes de Camargue et la V.M.E.H. Goûter offert par le CCAS de Beaucaire.\nSamedi 12 octobre – 14h :\nLoto organisé par les Hôpitaux des Portes de Camargue\, l’association Loisirs et Partage et la V.M.E.H. Vente de pâtisseries et de boissons.\nDimanche 13 octobre – 12h :\nGrand déjeuner-spectacle de clôture offert par le CCAS de la ville de Beaucaire.\n\nDes ateliers d’initiation à internet et à la messagerie électronique sont organisés du mardi 8 au samedi 12 octobre 2019 à la Bibliothèque Municipale.\nInformations et inscriptions sur place\, 1 rue Roger Pascal. Tél : 04 66 59 26 98 \nPlus d’informations au 04.66.59.36.35 et sur beaucaire.fr
URL:https://www.beaucaire.fr/evenement/la-semaine-bleue-2019/
LOCATION:Casino Municipal\, 1\, allée du Casino\, Beaucaire\, 30300\, France
CATEGORIES:Événements
ATTACH;FMTTYPE=image/jpeg:https://www.beaucaire.fr/wp-content/uploads/2019/10/Carré-Web-Semaine-bleu.jpg
END:VEVENT
BEGIN:VEVENT
DTSTART;TZID=Europe/Paris:20191012T093000
DTEND;TZID=Europe/Paris:20191013T183000
DTSTAMP:20260423T100522
CREATED:20191001T132151Z
LAST-MODIFIED:20191011T070743Z
UID:35518-1570872600-1570991400@www.beaucaire.fr
SUMMARY:Championnats de France de Baseball 12U et 15U
DESCRIPTION:SAMEDI :– 10h00/12h00 : Demi-Finales 12U – Nice vs Savigny (terrain 1) et Paris vs Montendre (terrain 2)– 13h00/15h30 : 1ère Demi-Finale 15U – Montpellier vs Metz– 16h00/18h00 : 2ème Demi-Finale 15U – Sénart vs Boé Bon Encontre \nDIMANCHE : \n– 09h00/11h00 : Finale 12U (terrain 1) et petite Finale 12U (terrain 2)– 11h30/14h00 : Petite Finale 15U– 14h15/16h45 : Finale 15U– 17h00 : Remises des récompenses en présence des officiels
URL:https://www.beaucaire.fr/evenement/championnats-de-france-de-baseballe-12u-et-15u/
LOCATION:Stade Eric Baska\, 400 Chemin du Mas des Cailloux\, Beaucaire\, 30300\, France Métropolitaine
CATEGORIES:Événements,Sports
ATTACH;FMTTYPE=image/jpeg:https://www.beaucaire.fr/wp-content/uploads/2019/10/Affiche-Finale-12U-15U_SITE-723x1024.jpg
END:VEVENT
END:VCALENDAR