BEGIN:VCALENDAR
VERSION:2.0
PRODID:-//Le site officiel de la Ville de Beaucaire - ECPv6.7.0//NONSGML v1.0//EN
CALSCALE:GREGORIAN
METHOD:PUBLISH
X-ORIGINAL-URL:https://www.beaucaire.fr
X-WR-CALDESC:Évènements pour Le site officiel de la Ville de Beaucaire
REFRESH-INTERVAL;VALUE=DURATION:PT1H
X-Robots-Tag:noindex
X-PUBLISHED-TTL:PT1H
BEGIN:VTIMEZONE
TZID:Europe/Paris
BEGIN:DAYLIGHT
TZOFFSETFROM:+0100
TZOFFSETTO:+0200
TZNAME:CEST
DTSTART:20190331T010000
END:DAYLIGHT
BEGIN:STANDARD
TZOFFSETFROM:+0200
TZOFFSETTO:+0100
TZNAME:CET
DTSTART:20191027T010000
END:STANDARD
END:VTIMEZONE
BEGIN:VEVENT
DTSTART;TZID=Europe/Paris:20191201T110000
DTEND;TZID=Europe/Paris:20191201T140000
DTSTAMP:20260423T072044
CREATED:20191114T162650Z
LAST-MODIFIED:20191124T091850Z
UID:36609-1575198000-1575208800@www.beaucaire.fr
SUMMARY:Inauguration du nouveau skatepark
DESCRIPTION:Julien SANCHEZ\nMaire de Beaucaire\nConseiller régional d’Occitanie \nDidier LAUGA\nPréfet du Gard \nCarole DELGA\nAncienne ministre\nPrésidente de la région Occitanie / Pyrénées-Méditerranée \net les membres du conseil municipal ont le plaisir de vous convier à\nL’INAUGURATION DU SKATEPARK DE LA VILLE DE BEAUCAIRE \nInitialement le Samedi 23 novembre 2019 à 11h00\nReportée au Dimanche 1er décembre 2019 à 11h pour causes météorologiques\nChamp de foire (le long du Rhône) – Beaucaire
URL:https://www.beaucaire.fr/evenement/inauguration-du-nouveau-skatepark/
LOCATION:au Pré\, Allée Fanfonne Guillierme\, Beaucaire
CATEGORIES:Événements,Inaugurations
ATTACH;FMTTYPE=image/jpeg:https://www.beaucaire.fr/wp-content/uploads/2019/11/photo_2019-11-24_10-17-15.jpg
END:VEVENT
END:VCALENDAR