BEGIN:VCALENDAR
VERSION:2.0
PRODID:-//Le site officiel de la Ville de Beaucaire - ECPv6.7.0//NONSGML v1.0//EN
CALSCALE:GREGORIAN
METHOD:PUBLISH
X-ORIGINAL-URL:https://www.beaucaire.fr
X-WR-CALDESC:Évènements pour Le site officiel de la Ville de Beaucaire
REFRESH-INTERVAL;VALUE=DURATION:PT1H
X-Robots-Tag:noindex
X-PUBLISHED-TTL:PT1H
BEGIN:VTIMEZONE
TZID:Europe/Paris
BEGIN:DAYLIGHT
TZOFFSETFROM:+0100
TZOFFSETTO:+0200
TZNAME:CEST
DTSTART:20190331T010000
END:DAYLIGHT
BEGIN:STANDARD
TZOFFSETFROM:+0200
TZOFFSETTO:+0100
TZNAME:CET
DTSTART:20191027T010000
END:STANDARD
END:VTIMEZONE
BEGIN:VEVENT
DTSTART;TZID=Europe/Paris:20191214T150000
DTEND;TZID=Europe/Paris:20191214T170000
DTSTAMP:20260423T072120
CREATED:20191202T113416Z
LAST-MODIFIED:20191202T113416Z
UID:37325-1576335600-1576342800@www.beaucaire.fr
SUMMARY:Après-midi ciné-goûter à la bibliothèque municipale
DESCRIPTION:Retrouvez le programme complet des animations du samedi 14 décembre à la Bibliothèque Municipale : \n15 H 30 CINÉ GOÛTER \nLa bibliothèque propose d’emprunter des DVD ; d’où l’envie\, pour la structure communale de faire découvrir quelques films de ce fonds\, et d’en valoriser certains\, souvent méconnus.\nDécouvrez une sélection de courts-métrages d’animation jeunesse poétiques\, émouvants et drôlement bien faits\, aussi bien pour les plus jeunes que pour les plus grands ! Goûter partagé pour plus de convivialité !\n– 15h : accueil\, goûter\n– 15h30-17h00 : projection
URL:https://www.beaucaire.fr/evenement/apres-midi-cine-gouter-a-la-bibliotheque-municipale/
LOCATION:Bibliothèque Municipale\, 1 rue Roger Pascal\, Beaucaire\, 30300\, France
CATEGORIES:Culture,Événements
ATTACH;FMTTYPE=image/jpeg:https://www.beaucaire.fr/wp-content/uploads/2019/12/shutterstock_785109361.jpg
END:VEVENT
END:VCALENDAR