BEGIN:VCALENDAR
VERSION:2.0
PRODID:-//Le site officiel de la Ville de Beaucaire - ECPv6.7.0//NONSGML v1.0//EN
CALSCALE:GREGORIAN
METHOD:PUBLISH
X-ORIGINAL-URL:https://www.beaucaire.fr
X-WR-CALDESC:Évènements pour Le site officiel de la Ville de Beaucaire
REFRESH-INTERVAL;VALUE=DURATION:PT1H
X-Robots-Tag:noindex
X-PUBLISHED-TTL:PT1H
BEGIN:VTIMEZONE
TZID:Europe/Paris
BEGIN:DAYLIGHT
TZOFFSETFROM:+0100
TZOFFSETTO:+0200
TZNAME:CEST
DTSTART:20200329T010000
END:DAYLIGHT
BEGIN:STANDARD
TZOFFSETFROM:+0200
TZOFFSETTO:+0100
TZNAME:CET
DTSTART:20201025T010000
END:STANDARD
END:VTIMEZONE
BEGIN:VEVENT
DTSTART;TZID=Europe/Paris:20200108T100000
DTEND;TZID=Europe/Paris:20200108T170000
DTSTAMP:20260423T055303
CREATED:20200106T090928Z
LAST-MODIFIED:20200106T090928Z
UID:39514-1578477600-1578502800@www.beaucaire.fr
SUMMARY:Bibliothèque Municipale : Programme du 8 janvier 2020
DESCRIPTION:Retrouvez le programme complet des animations du mercredi 8 janvier à la Bibliothèque Municipale : \n10H ATELIER CREATIF \nA la Bibliothèque\, on ne vient pas que pour lire !\nNous vous proposons des rendez-vous réguliers sous forme d’ateliers de bricolage : pliages papier\, fabrication de doudous\, crochet… et d’autres !\nCes ateliers sont gratuits et accessibles à toutes et tous. Selon les cas\, nous pourrons vous demander quelques fois de ramener votre propre matériel.\nDates : Tous les mercredis matin de 10 h à 11 h hors vacances scolaire\nNous essaierons en fonction du succès de ces ateliers la mise en place d’expositions. \n11 H LECTURE KAMISHIBAÏ \n16 H LECTURE DE CONTE \nL’heure du conte ! Pour toutes celles et ceux qui ont envie d’entendre “Il était une fois”
URL:https://www.beaucaire.fr/evenement/bibliotheque-municipale-programme-du-8-janvier-2020/
LOCATION:Bibliothèque Municipale\, 1 rue Roger Pascal\, Beaucaire\, 30300\, France
CATEGORIES:Événements
ATTACH;FMTTYPE=image/jpeg:https://www.beaucaire.fr/wp-content/uploads/2019/12/shutterstock_785109361.jpg
END:VEVENT
END:VCALENDAR