BEGIN:VCALENDAR
VERSION:2.0
PRODID:-//Le site officiel de la Ville de Beaucaire - ECPv6.7.0//NONSGML v1.0//EN
CALSCALE:GREGORIAN
METHOD:PUBLISH
X-ORIGINAL-URL:https://www.beaucaire.fr
X-WR-CALDESC:Évènements pour Le site officiel de la Ville de Beaucaire
REFRESH-INTERVAL;VALUE=DURATION:PT1H
X-Robots-Tag:noindex
X-PUBLISHED-TTL:PT1H
BEGIN:VTIMEZONE
TZID:Europe/Paris
BEGIN:DAYLIGHT
TZOFFSETFROM:+0100
TZOFFSETTO:+0200
TZNAME:CEST
DTSTART:20200329T010000
END:DAYLIGHT
BEGIN:STANDARD
TZOFFSETFROM:+0200
TZOFFSETTO:+0100
TZNAME:CET
DTSTART:20201025T010000
END:STANDARD
END:VTIMEZONE
BEGIN:VEVENT
DTSTART;TZID=Europe/Paris:20200116T140000
DTEND;TZID=Europe/Paris:20200116T170000
DTSTAMP:20260423T055303
CREATED:20200106T091747Z
LAST-MODIFIED:20200106T091747Z
UID:39522-1579183200-1579194000@www.beaucaire.fr
SUMMARY:Atelier Café Tricot à la bibliothèque municipale
DESCRIPTION:Retrouvez le programme complet des animations du jeudi 16 janvier à la Bibliothèque Municipale : \n14h : Atelier Café Tricot \nLa Bibliothèque n’est plus un lieu sacré où le silence et les livres règnent : c’est un vrai lieu de vie.\nLe tricot gagne en popularité actuellement et dans ce contexte les ateliers biblio-tricot fleurissent un peu partout dans l’hexagone. Nous nous lançons donc nous aussi dans l’aventure.\nDans une ambiance décontractée\, nous offrirons les boissons chaudes\, conseils\, et la bonne humeur.\nNous sortirons des étagères nos ouvrages et nous nous lancerons dans la conception d’objets divers et variés.\nCet atelier est ouvert à tous\, débutants ou non de tous âges : chacun devrait y trouver son compte.\nC’est gratuit !\nOn peut y rester dix minutes\, une heure ou plus. Vous pouvez apporter votre matériel\, ou les bibliothécaires vous prêteront le leur.\nSi le cœur vous en dit\, venez nous rejoindre !\nEt si l’idée de tricoter vous défrise\, dégainez quand même vos pelotes et faites-en don à la Bibliothèque !\nNous déciderons ensemble de ce que nous ferons de nos créations (Assos préma\, Téléthon…) \n> 1 rue Roger Pascal (entrée du public Cours Gambetta)\n Renseignements et inscriptions : 04.66.59.26.98
URL:https://www.beaucaire.fr/evenement/atelier-cafe-tricot-a-la-bibliotheque-municipale-2/
LOCATION:Bibliothèque Municipale\, 1 rue Roger Pascal\, Beaucaire\, 30300\, France
CATEGORIES:Événements
ATTACH;FMTTYPE=image/jpeg:https://www.beaucaire.fr/wp-content/uploads/2019/12/shutterstock_785109361.jpg
END:VEVENT
END:VCALENDAR