BEGIN:VCALENDAR
VERSION:2.0
PRODID:-//Le site officiel de la Ville de Beaucaire - ECPv6.7.0//NONSGML v1.0//EN
CALSCALE:GREGORIAN
METHOD:PUBLISH
X-ORIGINAL-URL:https://www.beaucaire.fr
X-WR-CALDESC:Évènements pour Le site officiel de la Ville de Beaucaire
REFRESH-INTERVAL;VALUE=DURATION:PT1H
X-Robots-Tag:noindex
X-PUBLISHED-TTL:PT1H
BEGIN:VTIMEZONE
TZID:Europe/Paris
BEGIN:DAYLIGHT
TZOFFSETFROM:+0100
TZOFFSETTO:+0200
TZNAME:CEST
DTSTART:20200329T010000
END:DAYLIGHT
BEGIN:STANDARD
TZOFFSETFROM:+0200
TZOFFSETTO:+0100
TZNAME:CET
DTSTART:20201025T010000
END:STANDARD
END:VTIMEZONE
BEGIN:VEVENT
DTSTART;TZID=Europe/Paris:20200311T140000
DTEND;TZID=Europe/Paris:20200311T180000
DTSTAMP:20260423T030310
CREATED:20191127T142259Z
LAST-MODIFIED:20200317T150528Z
UID:37077-1583935200-1583949600@www.beaucaire.fr
SUMMARY:Les après-midis dansants
DESCRIPTION:La Mairie de Beaucaire et son CCAS (Centre Communal d’Action Sociale) organisent\, depuis 2016\, des après-midis dansants. Gratuits\, ils permettent aux seniors de bénéficier d’un moment convivial\, avec un groupe de musique et un goûter\, au Casino Municipal. \nLes prochains après-midis dansants : \n– Mercredi 11 mars 2020\, de 14h à 18h\nAvec l’orchestre Génération Musette \n– [ANNULÉ] Dimanche 12 avril 2020\, de 14h à 18h\nAvec l’orchestre Lionel Chayas Animation \n– Mercredi 6 mai 2020\, de 14h à 18h\nAvec l’orchestre Romance \n– Dimanche 21 juin 2020\, de 14h à 18h\nAvec l’orchestre CT Avant \n– Mercredi 16 septembre 2020\, de 14h à 18h\nAvec l’orchestre Génération Musette \n– Dimanche 25 octobre 2020\, de 14h à 18h\nAvec Alan Flor Animation \n– Dimanche 22 novembre 2020\, de 14h à 18h\nAvec l’orchestre Lionel Chayas Animation \n  \n \n 
URL:https://www.beaucaire.fr/evenement/les-apres-midis-dansants-2/
LOCATION:Casino Municipal\, 1\, allée du Casino\, Beaucaire\, 30300\, France
CATEGORIES:Événements,Spectacles
ATTACH;FMTTYPE=image/jpeg:https://www.beaucaire.fr/wp-content/uploads/2019/11/général.jpg
END:VEVENT
END:VCALENDAR