BEGIN:VCALENDAR
VERSION:2.0
PRODID:-//Le site officiel de la Ville de Beaucaire - ECPv6.7.0//NONSGML v1.0//EN
CALSCALE:GREGORIAN
METHOD:PUBLISH
X-ORIGINAL-URL:https://www.beaucaire.fr
X-WR-CALDESC:Évènements pour Le site officiel de la Ville de Beaucaire
REFRESH-INTERVAL;VALUE=DURATION:PT1H
X-Robots-Tag:noindex
X-PUBLISHED-TTL:PT1H
BEGIN:VTIMEZONE
TZID:Europe/Paris
BEGIN:DAYLIGHT
TZOFFSETFROM:+0100
TZOFFSETTO:+0200
TZNAME:CEST
DTSTART:20200329T010000
END:DAYLIGHT
BEGIN:STANDARD
TZOFFSETFROM:+0200
TZOFFSETTO:+0100
TZNAME:CET
DTSTART:20201025T010000
END:STANDARD
END:VTIMEZONE
BEGIN:VEVENT
DTSTART;TZID=Europe/Paris:20200910T080000
DTEND;TZID=Europe/Paris:20200910T170000
DTSTAMP:20260422T180226
CREATED:20200910T140228Z
LAST-MODIFIED:20200910T142847Z
UID:43684-1599724800-1599757200@www.beaucaire.fr
SUMMARY:Journée de la propreté
DESCRIPTION:☘️🌱Samedi 19 septembre\, la Mairie de Beaucaire organise une opération de sensibilisation à la propreté. \nDe 9h à 12h\, remontons nos manches pour notre planète. Des sacs\, des gants et des masques seront fournis par la municipalité.\nRendez-vous dans la cour d’honneur de la mairie à 9h.\nÀ 12h un verre de l’amitié clôturera cette matinée.
URL:https://www.beaucaire.fr/evenement/journee-de-la-proprete/
CATEGORIES:Événements
ATTACH;FMTTYPE=image/png:https://www.beaucaire.fr/wp-content/uploads/2020/09/Journee-de-la-proprete_Facebook.png
END:VEVENT
END:VCALENDAR