BEGIN:VCALENDAR
VERSION:2.0
PRODID:-//Le site officiel de la Ville de Beaucaire - ECPv6.7.0//NONSGML v1.0//EN
CALSCALE:GREGORIAN
METHOD:PUBLISH
X-ORIGINAL-URL:https://www.beaucaire.fr
X-WR-CALDESC:Évènements pour Le site officiel de la Ville de Beaucaire
REFRESH-INTERVAL;VALUE=DURATION:PT1H
X-Robots-Tag:noindex
X-PUBLISHED-TTL:PT1H
BEGIN:VTIMEZONE
TZID:Europe/Paris
BEGIN:DAYLIGHT
TZOFFSETFROM:+0100
TZOFFSETTO:+0200
TZNAME:CEST
DTSTART:20200329T010000
END:DAYLIGHT
BEGIN:STANDARD
TZOFFSETFROM:+0200
TZOFFSETTO:+0100
TZNAME:CET
DTSTART:20201025T010000
END:STANDARD
END:VTIMEZONE
BEGIN:VEVENT
DTSTART;TZID=Europe/Paris:20201002T140000
DTEND;TZID=Europe/Paris:20201004T190000
DTSTAMP:20260422T164045
CREATED:20200917T091619Z
LAST-MODIFIED:20200917T091902Z
UID:43834-1601647200-1601838000@www.beaucaire.fr
SUMMARY:Salon des Métiers d'Art de Beaucaire : XXème édition !
DESCRIPTION:Les 2\, 3 et 4 octobre 2020\, la Mairie de Beaucaire organise son XXème Salon des Métiers d’Art sur la place Georges Clemenceau\, avec une cinquantaine d’artisans présents.\nAu cœur du centre historique de Beaucaire et dans une ambiance musicale décontractée\, venez découvrir le savoir-faire exceptionnel des meilleurs artisans d’art.\n\nInvitée d’honneur cette année : Dominique Lombardi\, cabinets et curiosités\n\nLe samedi et le dimanche\, les enfants pourront participer à des initiations gratuites aux métiers d’art (10h à 12h30 et de 14h à 19h)\n\n> Inauguration le vendredi 2 octobre à 18h30\n> Remise des prix du Salon des Métiers d’Art le dimanche 6 octobre à 11h30\n>>Entrée libre et gratuite\n\nTéléchargez le programme ici 
URL:https://www.beaucaire.fr/evenement/salon-des-metiers-dart-de-beaucaire-xxeme-edition/
LOCATION:Place Georges Clemenceau\, Place Georges Clemenceau\, Beaucaire\, 30300\, France
CATEGORIES:Événements
ATTACH;FMTTYPE=image/png:https://www.beaucaire.fr/wp-content/uploads/2020/09/Facebook_Instagram.png
END:VEVENT
END:VCALENDAR