BEGIN:VCALENDAR
VERSION:2.0
PRODID:-//Le site officiel de la Ville de Beaucaire - ECPv6.7.0//NONSGML v1.0//EN
CALSCALE:GREGORIAN
METHOD:PUBLISH
X-ORIGINAL-URL:https://www.beaucaire.fr
X-WR-CALDESC:Évènements pour Le site officiel de la Ville de Beaucaire
REFRESH-INTERVAL;VALUE=DURATION:PT1H
X-Robots-Tag:noindex
X-PUBLISHED-TTL:PT1H
BEGIN:VTIMEZONE
TZID:Europe/Paris
BEGIN:DAYLIGHT
TZOFFSETFROM:+0100
TZOFFSETTO:+0200
TZNAME:CEST
DTSTART:20210328T010000
END:DAYLIGHT
BEGIN:STANDARD
TZOFFSETFROM:+0200
TZOFFSETTO:+0100
TZNAME:CET
DTSTART:20211031T010000
END:STANDARD
END:VTIMEZONE
BEGIN:VEVENT
DTSTART;TZID=Europe/Paris:20210519T070000
DTEND;TZID=Europe/Paris:20210519T120000
DTSTAMP:20260420T033438
CREATED:20210518T151005Z
LAST-MODIFIED:20210518T151005Z
UID:46338-1621407600-1621425600@www.beaucaire.fr
SUMMARY:Brocante de Beaucaire
DESCRIPTION:Ouvert aux particuliers et aux professionnels\, la brocante a lieu tous les mercredis matin de 7h à 12h à l’avenue Fanfonne Guillierme. \n\n\nTarifs d’accès : 10 € le véhicule – 20 € le véhicule avec remorque ou fourgon\n\n\n \n\n\nPort du masque obligatoire pour tous\n\n\nRenseignements complémentaires : 04 66 59 71 05 ou foires.marches@beaucaire.fr
URL:https://www.beaucaire.fr/evenement/brocante-de-beaucaire/
LOCATION:avenue Fanfonne Guillierme\, France
CATEGORIES:Événements
ATTACH;FMTTYPE=image/jpeg:https://www.beaucaire.fr/wp-content/uploads/Facebook-80.jpg
END:VEVENT
END:VCALENDAR