BEGIN:VCALENDAR
VERSION:2.0
PRODID:-//Le site officiel de la Ville de Beaucaire - ECPv6.7.0//NONSGML v1.0//EN
CALSCALE:GREGORIAN
METHOD:PUBLISH
X-ORIGINAL-URL:https://www.beaucaire.fr
X-WR-CALDESC:Évènements pour Le site officiel de la Ville de Beaucaire
REFRESH-INTERVAL;VALUE=DURATION:PT1H
X-Robots-Tag:noindex
X-PUBLISHED-TTL:PT1H
BEGIN:VTIMEZONE
TZID:Europe/Paris
BEGIN:DAYLIGHT
TZOFFSETFROM:+0100
TZOFFSETTO:+0200
TZNAME:CEST
DTSTART:20210328T010000
END:DAYLIGHT
BEGIN:STANDARD
TZOFFSETFROM:+0200
TZOFFSETTO:+0100
TZNAME:CET
DTSTART:20211031T010000
END:STANDARD
END:VTIMEZONE
BEGIN:VEVENT
DTSTART;TZID=Europe/Paris:20210930T100000
DTEND;TZID=Europe/Paris:20211002T170000
DTSTAMP:20260419T194932
CREATED:20210929T130648Z
LAST-MODIFIED:20210929T130648Z
UID:52193-1632996000-1633194000@www.beaucaire.fr
SUMMARY:Grande braderie de livres
DESCRIPTION:La Mairie de Beaucaire vous invite à participer à la cinquième grande braderie de livres de la bibliothèque municipale les 30 septembre\, 1 et 2 octobre 2021 (10h-17h). \nRomans\, albums jeunesse\, bandes dessinées\, magazines… genres et thèmes variés de livres venant du fond de la Bibliothèque municipale seront mis en vente. De quoi remplir sa bibliothèque personnelle et faire le plein de livres pour la rentrée. Une opération qui permet à la bibliothèque d’actualiser ses collections\, de favoriser l’accès à la lecture et de donner une seconde vie aux ouvrages. \nBibliothèque municipale\nAngle rue Roger Pascal / Cours Gambetta \nEntrée soumise au Pass sanitaire\nPlus d’infos : 04.66.59.26.98
URL:https://www.beaucaire.fr/evenement/grande-braderie-de-livres-4/
LOCATION:Bibliothèque Municipale\, 1 rue Roger Pascal\, Beaucaire\, 30300\, France
CATEGORIES:Culture,Événements
ATTACH;FMTTYPE=image/png:https://www.beaucaire.fr/wp-content/uploads/braderie-de-livres-2021.png
END:VEVENT
BEGIN:VEVENT
DTSTART;TZID=Europe/Paris:20211001T183000
DTEND;TZID=Europe/Paris:20211003T190000
DTSTAMP:20260419T194932
CREATED:20210907T143246Z
LAST-MODIFIED:20210927T065337Z
UID:51338-1633113000-1633287600@www.beaucaire.fr
SUMMARY:Salon des Métiers d’Art de Beaucaire : XXIème édition !
DESCRIPTION:Les 1\, 2 et 3 octobre 2021\, la Mairie de Beaucaire organise son XXIème Salon des Métiers d’Art sur la place Georges Clemenceau\, avec une cinquantaine d’artisans présents.\nAu cœur du centre historique de Beaucaire et dans une ambiance musicale décontractée\, venez découvrir le savoir-faire exceptionnel des meilleurs artisans d’art.\n\nInvitée d’honneur cette année : Daniel Salmeron\, peintre designer\n\nLe samedi et le dimanche\, les enfants pourront participer à des initiations gratuites aux métiers d’art (10h à 12h30 et de 14h à 19h)\n\n> Inauguration le vendredi 1er octobre à 18h30\n> Remise des prix du Salon des Métiers d’Art le dimanche 3 octobre à 11h30\n>> Mesure gouvernementale Pass Sanitaire\n\n Programme complet disponible ici 
URL:https://www.beaucaire.fr/evenement/salon-des-metiers-dart-de-beaucaire-xxieme-edition/
LOCATION:Place Georges Clemenceau\, Place Georges Clemenceau\, Beaucaire\, 30300\, France
CATEGORIES:Événements,Foire
ATTACH;FMTTYPE=image/png:https://www.beaucaire.fr/wp-content/uploads/Capture2.png
END:VEVENT
BEGIN:VEVENT
DTSTART;TZID=Europe/Paris:20211002T100000
DTEND;TZID=Europe/Paris:20211002T120000
DTSTAMP:20260419T194932
CREATED:20210928T144045Z
LAST-MODIFIED:20210928T144558Z
UID:52137-1633168800-1633176000@www.beaucaire.fr
SUMMARY:Conférence de Laurence Brangier
DESCRIPTION:Julien SANCHEZ\nMaire de Beaucaire\net conseiller régional d’Occitanie \nGilles DONADA\nAdjoint à l’urbanisme\net conseiller régional d’Occitanie \net l’ensemble du conseil municipal vous convient à\nUNE CONFÉRENCE SUR LE THÈME DU SITE PATRIMONIAL REMARQUABLE DE LA VILLE DE BEAUCAIRE\nET DE SON PLAN DE SAUVEGARDE ET DE MISE EN VALEUR DANS LE CADRE DE SA MISE EN RÉVISION \nPrésentée par\nLaurence BRANGIER\nIngénieur du Patrimoine\nUnité départementale de l’architecture et du patrimoine du Gard \nSAMEDI 2 OCTOBRE 2021 – 10H \nSalle du Conseil Municipal\, Hôtel de Ville \nService du protocole – 04.66.59.71.03 – protocole@beaucaire.fr \n> Pass sanitaire
URL:https://www.beaucaire.fr/evenement/conference-de-laurence-brangier/
CATEGORIES:Animation culturelle,Événements
END:VEVENT
END:VCALENDAR