BEGIN:VCALENDAR
VERSION:2.0
PRODID:-//Le site officiel de la Ville de Beaucaire - ECPv6.7.0//NONSGML v1.0//EN
CALSCALE:GREGORIAN
METHOD:PUBLISH
X-ORIGINAL-URL:https://www.beaucaire.fr
X-WR-CALDESC:Évènements pour Le site officiel de la Ville de Beaucaire
REFRESH-INTERVAL;VALUE=DURATION:PT1H
X-Robots-Tag:noindex
X-PUBLISHED-TTL:PT1H
BEGIN:VTIMEZONE
TZID:Europe/Paris
BEGIN:DAYLIGHT
TZOFFSETFROM:+0100
TZOFFSETTO:+0200
TZNAME:CEST
DTSTART:20210328T010000
END:DAYLIGHT
BEGIN:STANDARD
TZOFFSETFROM:+0200
TZOFFSETTO:+0100
TZNAME:CET
DTSTART:20211031T010000
END:STANDARD
END:VTIMEZONE
BEGIN:VEVENT
DTSTART;TZID=Europe/Paris:20211024T103000
DTEND;TZID=Europe/Paris:20211024T123000
DTSTAMP:20260419T200356
CREATED:20211006T094042Z
LAST-MODIFIED:20211006T094042Z
UID:52595-1635071400-1635078600@www.beaucaire.fr
SUMMARY:[Marche Rose au profit de la lutte contre le cancer du sein]
DESCRIPTION:Dans le cadre d’octobre rose\, la Mairie de Beaucaire\, son CCAS et l’association Gymnastique Volontaire se mobilisent et vous invitent à participer à une « marche rose » de 5km au profit de la lutte contre le cancer du sein\, le dimanche 24 octobre 2021. \nUn t-shirt sera offert aux 500 premiers inscrits ! \nParticipation 5€ (Intégralement reversée à l’association Ruban Rose). \nInscriptions auprès du CCAS de Beaucaire du 11 au 22 octobre et au Casino Municipal de Beaucaire le 24 octobre de 8h à 10h. \n\nDépart de la marche à 10h30 au Casino Municipal\, le dimanche 24 octobre. Arrivée place Georges Clemenceau. \nPlus d’informations au 04 66 59 36 35
URL:https://www.beaucaire.fr/evenement/marche-rose-au-profit-de-la-lutte-contre-le-cancer-du-sein/
LOCATION:Casino Municipal\, 1\, allée du Casino\, Beaucaire\, 30300\, France
CATEGORIES:Événements
ATTACH;FMTTYPE=image/png:https://www.beaucaire.fr/wp-content/uploads/marche_rose_facebook.png
END:VEVENT
END:VCALENDAR