BEGIN:VCALENDAR
VERSION:2.0
PRODID:-//Le site officiel de la Ville de Beaucaire - ECPv6.7.0//NONSGML v1.0//EN
CALSCALE:GREGORIAN
METHOD:PUBLISH
X-ORIGINAL-URL:https://www.beaucaire.fr
X-WR-CALDESC:Évènements pour Le site officiel de la Ville de Beaucaire
REFRESH-INTERVAL;VALUE=DURATION:PT1H
X-Robots-Tag:noindex
X-PUBLISHED-TTL:PT1H
BEGIN:VTIMEZONE
TZID:Europe/Paris
BEGIN:DAYLIGHT
TZOFFSETFROM:+0100
TZOFFSETTO:+0200
TZNAME:CEST
DTSTART:20250330T010000
END:DAYLIGHT
BEGIN:STANDARD
TZOFFSETFROM:+0200
TZOFFSETTO:+0100
TZNAME:CET
DTSTART:20251026T010000
END:STANDARD
END:VTIMEZONE
BEGIN:VEVENT
DTSTART;TZID=Europe/Paris:20250716T090000
DTEND;TZID=Europe/Paris:20250716T120000
DTSTAMP:20260421T163556
CREATED:20250612T081625Z
LAST-MODIFIED:20250612T081625Z
UID:90793-1752656400-1752667200@www.beaucaire.fr
SUMMARY:PROMENADE ENVIRONNEMENTALE
DESCRIPTION:Balade à vélo commentée le long du Rhône. À partir de 10 ans.\nOrganisée par la Mairie de Beaucaire. Informations et inscriptions\n(obligatoires) au 06 48 82 91 62. Gratuit.\nDépart de la Base Nautique Municipale Adrien Hardy\, 20 allée\ndu Drac\, Champ de Foire
URL:https://www.beaucaire.fr/evenement/promenade-environnementale-9/
LOCATION:Base nautique municipale\, Champ de foire\, Beaucaire\, 30300\, France Métropolitaine
CATEGORIES:Promenade environnementale
ATTACH;FMTTYPE=image/jpeg:https://www.beaucaire.fr/wp-content/uploads/20240731-Promenade-environnementale-6.jpg
END:VEVENT
END:VCALENDAR