BEGIN:VCALENDAR
VERSION:2.0
PRODID:-//Le site officiel de la Ville de Beaucaire - ECPv6.7.0//NONSGML v1.0//EN
CALSCALE:GREGORIAN
METHOD:PUBLISH
X-ORIGINAL-URL:https://www.beaucaire.fr
X-WR-CALDESC:Évènements pour Le site officiel de la Ville de Beaucaire
REFRESH-INTERVAL;VALUE=DURATION:PT1H
X-Robots-Tag:noindex
X-PUBLISHED-TTL:PT1H
BEGIN:VTIMEZONE
TZID:UTC
BEGIN:STANDARD
TZOFFSETFROM:+0000
TZOFFSETTO:+0000
TZNAME:UTC
DTSTART:20170101T000000
END:STANDARD
END:VTIMEZONE
BEGIN:VEVENT
DTSTART;TZID=UTC:20170114T203000
DTEND;TZID=UTC:20170114T223000
DTSTAMP:20260422T173019
CREATED:20160905T121148Z
LAST-MODIFIED:20161229T105749Z
UID:4455-1484425800-1484433000@www.beaucaire.fr
SUMMARY:Stentors
DESCRIPTION:Spectacle musical\nUn spectacle original à ne pas manquer !\nLe nouveau spectacle des Stentors convie le spectateur dans une promenade inédite à travers leurs grandes voix et leur technique de chanteurs d’opéra plus que jamais au service des standards de la chanson française. \nEnsemble\, ils ont sélectionné leurs titres préférés dans les répertoire de leurs parents et grands-parents. Ils redonnent ainsi une nouvelle vie aux plus belles chansons du patrimoine français et international\, en vous offrant\, avec leur voix lyrique\, les chansons à succès telles que « le déserteur » de Boris VIAN\, « Paris en colère ! » voire même les grands classiques : « l’hymne à l’amour »\, « les feuilles mortes »\, « le temps des cerises »\, « mon amant de saint jean »\, « les roses blanches »\, « j’attendrai » ou « le chant des partisans » que les résistants chantaient dans le maquis pour se reconnaître et bien d’autres encore. \nLes quatre voix lyriques des Stentors demeurent l’atout numéro un de ce formidable spectacle. \nCHANTEURS\nBaryton basse : Vianney GUYONNET\nBaryton : Christian ASHES\nTénor : Mowgli LAPS\nTénor : Mathieu SEMPERE \nPlein tarif : 25€\nTarif réduit : 20€* \nBilleterie : \n– Accueil de l’Hôtel de Ville (à partir du 1er janvier 2017)\n– Casino Municipal\, 1h avant le spectacle\n– Réseau France Billet (FNAC\, Carrefour\, Géant\, Super U\, Fnac.com\, Francebillet.com) \n* Le tarif réduit concerne les enfants de 12 à 16 ans\, les plus de 65 ans\, les personnes handicapées\, les demandeurs d’emploi et les bénéficiaires du RSA\, sur présentation d’un justificatif.
URL:https://www.beaucaire.fr/evenement/stentors/
LOCATION:Casino Municipal\, 1\, allée du Casino\, Beaucaire\, 30300\, France
CATEGORIES:Saison culturelle
ATTACH;FMTTYPE=image/png:https://www.beaucaire.fr/wp-content/uploads/2016/09/stentors.png
END:VEVENT
END:VCALENDAR