BEGIN:VCALENDAR
VERSION:2.0
PRODID:-//Le site officiel de la Ville de Beaucaire - ECPv6.7.0//NONSGML v1.0//EN
CALSCALE:GREGORIAN
METHOD:PUBLISH
X-ORIGINAL-URL:https://www.beaucaire.fr
X-WR-CALDESC:Évènements pour Le site officiel de la Ville de Beaucaire
REFRESH-INTERVAL;VALUE=DURATION:PT1H
X-Robots-Tag:noindex
X-PUBLISHED-TTL:PT1H
BEGIN:VTIMEZONE
TZID:UTC
BEGIN:STANDARD
TZOFFSETFROM:+0000
TZOFFSETTO:+0000
TZNAME:UTC
DTSTART:20170101T000000
END:STANDARD
END:VTIMEZONE
BEGIN:VEVENT
DTSTART;TZID=UTC:20170203T203000
DTEND;TZID=UTC:20170203T223000
DTSTAMP:20260422T155213
CREATED:20160905T121513Z
LAST-MODIFIED:20161229T110102Z
UID:4456-1486153800-1486161000@www.beaucaire.fr
SUMMARY:L'Avare
DESCRIPTION:Théâtre – Comédie\nUn classique revisité de manière contemporaine\nUn très grand succès pour la Compagnie du Théâtre de L’Esquisse avec ce classique de Molière. Une mise en scène dans un univers contemporain où Harpagon\, résolument noir\, apparaît tel un brocanteur gardant tout et ne se séparant de rien. \nCette comédie a pour thème l’Amour\, il est le point de départ dramatique de la pièce et le non-amour nourrit quant à lui son développement. Et ce sont ces sentiments opposés qui créent tous les ressorts comiques de cette pièce. \nComédie de Molière\nMise en scène de Jérôme Jalabert\nComédiens :\nLucile Barbier\, Amandine L’huillier\,\nMirabelle Miro\, Fabrique Chikhaoui\, Nicolas\nDandine\, Cédric Guerri\, Jérôme Jalabert\,\nSamuel Matthieu et Nicolas Pinero\nScénographie de Nikos\nCréation lumière de Michaël Harel\nCostumes de Sophie Plawczyk \n  \nPlein tarif : 12€\nTarif réduit : 7€* \nBilleterie : \n– Accueil de l’Hôtel de Ville (à partir du 1er janvier 2017)\n– Casino Municipal\, 1h avant le spectacle\n– Réseau France Billet (FNAC\, Carrefour\, Géant\, Super U\, Fnac.com\, Francebillet.com) \n* Le tarif réduit concerne les enfants de 12 à 16 ans\, les plus de 65 ans\, les personnes handicapées\, les demandeurs d’emploi et les bénéficiaires du RSA\, sur présentation d’un justificatif.
URL:https://www.beaucaire.fr/evenement/lavare/
LOCATION:Casino Municipal\, 1\, allée du Casino\, Beaucaire\, 30300\, France
CATEGORIES:Saison culturelle
ATTACH;FMTTYPE=image/png:https://www.beaucaire.fr/wp-content/uploads/2016/09/avare.png
END:VEVENT
BEGIN:VEVENT
DTSTART;TZID=UTC:20170218T203000
DTEND;TZID=UTC:20170218T220000
DTSTAMP:20260422T155213
CREATED:20160905T121817Z
LAST-MODIFIED:20170206T140050Z
UID:4457-1487449800-1487455200@www.beaucaire.fr
SUMMARY:Portrait craché
DESCRIPTION:Théâtre – Comédie\nUne comédie pleine de rebondissements et de surprises…\n25 ans après leur rupture tumultueuse\, Marie retrouve Philippe\, son amour de jeunesse\, aujourd’hui marié avec Sophie. Philippe et Sophie ont une fille\, Julie. Marie\, de son côté\, a fait un enfant toute seule – Arthur. \nRien de grave a priori. Même si elle est toujours un peu (beaucoup) amoureuse de Philippe\, Marie a assez d’humour\, d’énergie\net de caractère pour affronter ces retrouvailles inattendues. \nSauf qu’Arthur se trouve être le fils de Philippe sans qu’aucun ne le sache. Arthur est le fruit de l’amour entre Marie et Philippe\, et Julie est la fille de Sophie et Philippe. Quand Arthur et Julie tombent amoureux… \nComédie de Thierry LASSALLE\nMise en scène de Thomas LE DOUAREC\nAvec Véronique GENEST\, Gérard VIVES\, Julien CAFARO\, Caroline DEVISMES et Gaspard LECLERC. \n  \n  \n  \nPlein tarif : 25€\nTarif réduit : 20€* \nBilletterie : \n– Accueil de l’Hôtel de Ville (à partir du 1er janvier 2017)\n– Casino Municipal\, 1h avant le spectacle\n– Réseau France Billet (FNAC\, Carrefour\, Géant\, Super U\, Fnac.com\, Francebillet.com) \n* Le tarif réduit concerne les enfants de 12 à 16 ans\, les plus de 65 ans\, les personnes handicapées\, les demandeurs d’emploi et les bénéficiaires du RSA\, sur présentation d’un justificatif.
URL:https://www.beaucaire.fr/evenement/portrait-crache/
LOCATION:Casino Municipal\, 1\, allée du Casino\, Beaucaire\, 30300\, France
CATEGORIES:Saison culturelle
ATTACH;FMTTYPE=image/png:https://www.beaucaire.fr/wp-content/uploads/2016/09/portrait-craché.png
END:VEVENT
END:VCALENDAR