BEGIN:VCALENDAR
VERSION:2.0
PRODID:-//Le site officiel de la Ville de Beaucaire - ECPv6.7.0//NONSGML v1.0//EN
CALSCALE:GREGORIAN
METHOD:PUBLISH
X-ORIGINAL-URL:https://www.beaucaire.fr
X-WR-CALDESC:Évènements pour Le site officiel de la Ville de Beaucaire
REFRESH-INTERVAL;VALUE=DURATION:PT1H
X-Robots-Tag:noindex
X-PUBLISHED-TTL:PT1H
BEGIN:VTIMEZONE
TZID:Europe/Paris
BEGIN:DAYLIGHT
TZOFFSETFROM:+0100
TZOFFSETTO:+0200
TZNAME:CEST
DTSTART:20170326T010000
END:DAYLIGHT
BEGIN:STANDARD
TZOFFSETFROM:+0200
TZOFFSETTO:+0100
TZNAME:CET
DTSTART:20171029T010000
END:STANDARD
TZID:UTC
BEGIN:STANDARD
TZOFFSETFROM:+0000
TZOFFSETTO:+0000
TZNAME:UTC
DTSTART:20170101T000000
END:STANDARD
END:VTIMEZONE
BEGIN:VEVENT
DTSTART;VALUE=DATE:20170422
DTEND;VALUE=DATE:20170508
DTSTAMP:20260422T111850
CREATED:20170412T141725Z
LAST-MODIFIED:20170413T115506Z
UID:9230-1492819200-1494201599@www.beaucaire.fr
SUMMARY:Exposition "Angel's"
DESCRIPTION:La Ville de Beaucaire vous invite à découvrir l’exposition »Angel’s ».\nCette exposition vous présente la série de créations « Angel’s »\, acrylique\, encre et spray du peintre HERVE FAYOLLE. \n> Salle des expositions -27 bis quai du Général de Gaulle\, Beaucaire\nEntrée libre \nL’exposition sera ouverte au public du 22 avril au 7 mai (Ouverture les mardi\, mercredi\, jeudi\, vendredi de 10h à 12 h et de 15 h à 19h. Le samedi de 15h à 19 h et le dimanche de 10h à 12 h).
URL:https://www.beaucaire.fr/evenement/exposition-angels/
LOCATION:Salle des expositions\, 27 bis quai du général de Gaulle\, Beaucaire\, 30300\, France Métropolitaine
CATEGORIES:Saison culturelle
ATTACH;FMTTYPE=image/jpeg:https://www.beaucaire.fr/wp-content/uploads/2017/04/herve-fayolle.jpg
END:VEVENT
BEGIN:VEVENT
DTSTART;TZID=UTC:20170513T203000
DTEND;TZID=UTC:20170513T214500
DTSTAMP:20260422T111850
CREATED:20160905T133814Z
LAST-MODIFIED:20170206T140531Z
UID:4478-1494707400-1494711900@www.beaucaire.fr
SUMMARY:Ne dîtes pas à ma femme que je suis Marseillais !
DESCRIPTION:Théâtre – Comédie\nQue vous soyez Marseillais ou Beaucairois\, à vous de juger cette comédie hilarante !\nAprès s’être exilé de longues années 20H30 loin de sa ville natale\, François est de retour à Marseille. \nEntre temps\, il est devenu directeur des ressources humaines d’une grande entreprise et a épousé Vanilla\, une bourgeoise coincée. Mais\, ce retour dans la cite phocéenne va être synonyme de retrouvailles car François a rencontré au détour d’une rue son ami d’enfance Mickaël. Cacou incorrigible\, marié à Laurence\, cagole incorrigible\, celui-ci est resté le même ! \nCes quatre personnages vont se retrouver lors d’une soirée mouvementée où les révélations inattendues\, les quiproquos hilarants et les gags désopilants vont s’enchaîner sans aucun temps mort… et compliquer la vie de François\, tiraillé entre son passé marseillais et son présent de nouveau bourgeois. \nComédie de Jean JAQUE et Philippe ROMAIN\nMise en scène de Jean JAQUE\nAvec Sophie Autran\, Serge Gubern\,\nStéphanie Montluçon & Fabrice Perret \n  \nPlein tarif : 12€ \nTarif réduit : 7€* \nBilletterie : \n– Accueil de l’Hôtel de Ville (à partir du 1er janvier 2017)\n– Casino Municipal\, 1h avant le spectacle\n– Réseau France Billet (FNAC\, Carrefour\, Géant\, Super U\, Fnac.com\, Francebillet.com) \n* Le tarif réduit concerne les enfants de 12 à 16 ans\, les plus de 65 ans\, les personnes handicapées\, les demandeurs d’emploi et les bénéficiaires du RSA\, sur présentation d’un justificatif.
URL:https://www.beaucaire.fr/evenement/ne-dites-jamais-a-femme-suis-marseillais/
LOCATION:Casino Municipal\, 1\, allée du Casino\, Beaucaire\, 30300\, France
CATEGORIES:Saison culturelle
ATTACH;FMTTYPE=image/png:https://www.beaucaire.fr/wp-content/uploads/2016/09/femme-marseillais.png
END:VEVENT
BEGIN:VEVENT
DTSTART;TZID=UTC:20170514T150000
DTEND;TZID=UTC:20170514T161500
DTSTAMP:20260422T111851
CREATED:20160905T134324Z
LAST-MODIFIED:20170206T141512Z
UID:4480-1494774000-1494778500@www.beaucaire.fr
SUMMARY:Une soirée de ouf !
DESCRIPTION:Théâtre – Comédie\nApparition divine : il faut le voir pour y croire !\nLydia\, mère bourgeoise et très croyante\, reçoit son fils Paul\, qu’elle n’a pas vu depuis un an … En effet\, ce dernier est\ncensé être parti en formation afin de devenir prêtre. \nEntre la cuisson de la dinde et l’ouverture des huîtres\, Lydia va aller de surprises en surprises entre l’arrivée de la copine déjantée de Paul\net de son austère frère\, les blagues du père André et une apparition divine. Il faudra beaucoup de souffle au public pour reprendre sa respiration entre les vagues de rire que propose cette pièce !\nBref\, une soirée de ouf ! \nComédie de Florent AVEILLANT\nMise en scène de Fabrice PERRET\nAvec Léa Cavaignal\, Xavier Gibiat\, Florent Aveillan\, Stéphanie Montluçon et Serge Gubern \n  \n  \n  \n  \nPlein tarif : 12€ \nTarif réduit : 7€* \nBilletterie : \n– Accueil de l’Hôtel de Ville (à partir du 1er janvier 2017)\n– Casino Municipal\, 1h avant le spectacle\n– Réseau France Billet (FNAC\, Carrefour\, Géant\, Super U\, Fnac.com\, Francebillet.com) \n* Le tarif réduit concerne les enfants de 12 à 16 ans\, les plus de 65 ans\, les personnes handicapées\, les demandeurs d’emploi et les bénéficiaires du RSA\, sur présentation d’un justificatif.
URL:https://www.beaucaire.fr/evenement/soiree-de-ouf/
LOCATION:Casino Municipal\, 1\, allée du Casino\, Beaucaire\, 30300\, France
CATEGORIES:Saison culturelle
ATTACH;FMTTYPE=image/png:https://www.beaucaire.fr/wp-content/uploads/2016/09/soirée-de-ouf.png
END:VEVENT
END:VCALENDAR