BEGIN:VCALENDAR
VERSION:2.0
PRODID:-//Le site officiel de la Ville de Beaucaire - ECPv6.7.0//NONSGML v1.0//EN
CALSCALE:GREGORIAN
METHOD:PUBLISH
X-ORIGINAL-URL:https://www.beaucaire.fr
X-WR-CALDESC:Évènements pour Le site officiel de la Ville de Beaucaire
REFRESH-INTERVAL;VALUE=DURATION:PT1H
X-Robots-Tag:noindex
X-PUBLISHED-TTL:PT1H
BEGIN:VTIMEZONE
TZID:Europe/Paris
BEGIN:DAYLIGHT
TZOFFSETFROM:+0100
TZOFFSETTO:+0200
TZNAME:CEST
DTSTART:20180325T010000
END:DAYLIGHT
BEGIN:STANDARD
TZOFFSETFROM:+0200
TZOFFSETTO:+0100
TZNAME:CET
DTSTART:20181028T010000
END:STANDARD
END:VTIMEZONE
BEGIN:VEVENT
DTSTART;TZID=Europe/Paris:20180107T150000
DTEND;TZID=Europe/Paris:20180107T170000
DTSTAMP:20260421T225429
CREATED:20170924T124410Z
LAST-MODIFIED:20170925T120548Z
UID:12950-1515337200-1515344400@www.beaucaire.fr
SUMMARY:La Pastorale d'Antoine Maurel
DESCRIPTION:Depuis plus de 150 ans\, ce texte demeure le seul écrit Provençal que connaissent tous ceux qui ont accepté de recevoir de leur famille ou de leur milieu d’accueil\, l’héritage de la tradition historique propre à ces régions du coeur de la Provence.\nInlassablement recrée par l’effort collectif de troupes de théâtre amateur\, la Pastorale Maurel suscite toujours autant d’émotion auprès du public qui la découvre ou la redécouvre.\nLes Provençaux ont fait de la Pastorale le symbole de leur tradition et cristallisent autour de cette Comédie Musicale les racines de leur passé et la chaleur de leurs souvenirs d’enfance. \nPlein tarif : 12€ (hors frais de gestion)\nTarif réduit : 7€* (hors frais de gestion)\nGratuit pour les moins de 12 ans \nBilleterie : \n– Accueil de l’Hôtel de Ville\n– Casino Municipal\, 1h avant le spectacle\n– Réseau France Billet (FNAC\, Carrefour\, Géant\, Super U\, Fnac.com\, Francebillet.com) \n* Le tarif réduit concerne les enfants de 12 à 16 ans\, les plus de 65 ans\, les personnes handicapées\, les demandeurs d’emploi et les bénéficiaires du RSA\, sur présentation d’un justificatif.
URL:https://www.beaucaire.fr/evenement/pastorale-dantoine-maurel/
LOCATION:Casino Municipal\, 1\, allée du Casino\, Beaucaire\, 30300\, France
CATEGORIES:Saison culturelle,Spectacles
ATTACH;FMTTYPE=image/jpeg:https://www.beaucaire.fr/wp-content/uploads/2017/09/pastorale-3.jpg
END:VEVENT
BEGIN:VEVENT
DTSTART;TZID=Europe/Paris:20180128T150000
DTEND;TZID=Europe/Paris:20180128T170000
DTSTAMP:20260421T225429
CREATED:20170924T161817Z
LAST-MODIFIED:20171212T093359Z
UID:12952-1517151600-1517158800@www.beaucaire.fr
SUMMARY:Spectacle : L'Histoire de la France en chansons
DESCRIPTION:Guerres\, révolutions\, défaites\, victoires\, amours et haines… en France\, tout finit par des chansons ! A travers ce spectacle\, c’est une France en chansons que nous vous invitons à découvrir. Une France riche de ses différences\, de son histoire\, de sa géographie. De « La Marseillaise » de Rouget de Lisle à la « Douce France » de Trenet\, les chansons sont de véritables cartes postales d’une époque. Et si l’histoire de France a beaucoup inspiré les auteurs et compositeurs\, les beaux paysages de notre pays et de ses différentes régions sont aussi une source fertile de refrains. « La Montagne » de Jean Ferrat\, « L’eau vive » de Guy Béart\, « Les Corons » de Pierre Bachelet ou « les marchés de Provence » de Gilbert Bécaud\, toutes ces chansons nous font voyager aux quatres coins de l’hexagone et ravivent l’amour de la France que nous partageons tous. \nSpectacle musicale : L’Histoire de France en chansons\nAnimé par Fabien Lecoeuvre et Richard Gardet Orchestra \nPlein tarif : 25€ (hors frais de gestion)\nTarif réduit : 20€* (hors frais de gestion)\nGratuit pour les moins de 12 ans \nBilleterie : \n– Accueil de l’Hôtel de Ville\n– Casino Municipal\, 1h avant le spectacle\n– Réseau France Billet (FNAC\, Carrefour\, Géant\, Super U\, Fnac.com\, Francebillet.com) \n* Le tarif réduit concerne les enfants de 12 à 16 ans\, les plus de 65 ans\, les personnes handicapées\, les demandeurs d’emploi et les bénéficiaires du RSA\, sur présentation d’un justificatif. \n 
URL:https://www.beaucaire.fr/evenement/lhistoire-de-france-chansons/
LOCATION:Casino Municipal\, 1\, allée du Casino\, Beaucaire\, 30300\, France
CATEGORIES:Saison culturelle,Spectacles
ATTACH;FMTTYPE=image/jpeg:https://www.beaucaire.fr/wp-content/uploads/2017/09/AVT_Fabien-Lecoeuvre_6611.jpeg
END:VEVENT
END:VCALENDAR