BEGIN:VCALENDAR
VERSION:2.0
PRODID:-//Le site officiel de la Ville de Beaucaire - ECPv6.7.0//NONSGML v1.0//EN
CALSCALE:GREGORIAN
METHOD:PUBLISH
X-ORIGINAL-URL:https://www.beaucaire.fr
X-WR-CALDESC:Évènements pour Le site officiel de la Ville de Beaucaire
REFRESH-INTERVAL;VALUE=DURATION:PT1H
X-Robots-Tag:noindex
X-PUBLISHED-TTL:PT1H
BEGIN:VTIMEZONE
TZID:Europe/Paris
BEGIN:DAYLIGHT
TZOFFSETFROM:+0100
TZOFFSETTO:+0200
TZNAME:CEST
DTSTART:20180325T010000
END:DAYLIGHT
BEGIN:STANDARD
TZOFFSETFROM:+0200
TZOFFSETTO:+0100
TZNAME:CET
DTSTART:20181028T010000
END:STANDARD
END:VTIMEZONE
BEGIN:VEVENT
DTSTART;TZID=Europe/Paris:20180216T203000
DTEND;TZID=Europe/Paris:20180216T233000
DTSTAMP:20260421T210823
CREATED:20170924T164249Z
LAST-MODIFIED:20170925T120557Z
UID:12956-1518813000-1518823800@www.beaucaire.fr
SUMMARY:Spectacle : La Puce à l'oreille
DESCRIPTION:Raymonde Chandebise a des doutes sur la fidélité de son mari Victor Emmanuel\, parce que des bretelles lui appartenant viennent d’être livrées\, en provenance de l’Hôtel du Minet Galant\, un établissement connu pour abriter des rencontres illégitimes… Pour le démasquer\, elle demande alors à son amie Lucienne d’écrire une lettre anonyme à son mari en lui proposant un rendez-vous dans ce même lieu à la réputation douteuse… A la réception de la lettre\, Chandebise persuade son ami Tournel\, porté sur les femmes\, qu’elle lui est adressée. En compagnie du Docteur Finache\, un habitué du Minet Galant\, il le convainc même de se rendre au rendez-vous à sa place. Mais lorsqu’il montre ensuite sa lettre à Histangua\, le mari de Lucienne\, celui-ci reconnaît l’écriture de sa femme. Pris de fureur\, celui-ci décide de la tuer ainsi que son amant présumé. Chandebise va alors chercher à sauver son ami Tournel\, aidé par son cousin Camillle\, et son valet Etienne… Mais tout va se compliquer\, parce que Tournel ne rêve que de séduire Raymonde\, sauf qu’elle ne semble pas prête à tromper son mari… Avec tous ses ingrédients\, Feydau nous offre alors une mécanique aussi folle qu’implacable\, qui entraîne tous les personnages dans une succession de quiproquos\, de rebondissements inattendus et de situations burlesques… Chacun soupçonnera l’un et l’autre\, au point de ne plus savoir qui est qui\, entraînant les spectacteurs dans un déferlement de rires\, et en leur donnant toujours une longueur d’avance sur les protagonistes\, les rendant ainsi complices de toute l’histoire… \nSpectacle « La puce à l’oreille »\nVaudeville de Georges Feydeau\nMise en scène de Florence Kleinbort\nAvec les comédiens Florence Kleinbort\, Laure Rivolier\, David Faure\, Benoît Garrigos\, Olivier Douau et Patrick Seminor \n\n\n\nPlein tarif : 12€ (hors frais de gestion)\nTarif réduit : 7€* (hors frais de gestion)\nGratuit pour les moins de 12 ans \nBilleterie : \n– Accueil de l’Hôtel de Ville\n– Casino Municipal\, 1h avant le spectacle\n– Réseau France Billet (FNAC\, Carrefour\, Géant\, Super U\, Fnac.com\, Francebillet.com) \n* Le tarif réduit concerne les enfants de 12 à 16 ans\, les plus de 65 ans\, les personnes handicapées\, les demandeurs d’emploi et les bénéficiaires du RSA\, sur présentation d’un justificatif. \n\n\n\n\n 
URL:https://www.beaucaire.fr/evenement/spectacle-puce-a-loreille/
LOCATION:Casino Municipal\, 1\, allée du Casino\, Beaucaire\, 30300\, France
CATEGORIES:Saison culturelle,Spectacles
ATTACH;FMTTYPE=image/jpeg:https://www.beaucaire.fr/wp-content/uploads/2017/09/puce.jpg
END:VEVENT
BEGIN:VEVENT
DTSTART;TZID=Europe/Paris:20180223T203000
DTEND;TZID=Europe/Paris:20180223T233000
DTSTAMP:20260421T210823
CREATED:20170924T165127Z
LAST-MODIFIED:20180220T100418Z
UID:12958-1519417800-1519428600@www.beaucaire.fr
SUMMARY:Spectacle : Bon pour accord !
DESCRIPTION:Quand un dîner presque parfait se transforme en corrida ! Fabien (Didier Gustin)\, en bon copain\, organise un dîner en l’honneur de son ami et collègue de travail Michel (Clément Naslin) et de sa « prétendante » une jeune et belle roumaine qui se prénomme Roxana… en fait\, c’est une véritable mise à l’épreuve : Roxana est-elle sincèrement de Michel ? Chacun y va de ses défis… Mais pourquoi Fabien se met-il soudainement à sauter à cloche-pied ? Pourquoi se met-il à chanter une berceuse ? La folle soirée ne va pas s’arrêter là : Mireille (Geneviève Gil) collègue de bureau des deux amis\, amoureuse de Michel débarque à l’improviste… Règlement de compte\, jalousies\, mensonges et quatre vérités. Tous les couples seront remis en question jusqu’au bouquet final : la soirée était piégée… \nSpectacle « Bon pour accord ! »\nComédie de Eric Le Roch\nMise en scène de Luq Hamett \n\n\n\nPlein tarif : 25€ (hors frais de gestion)\nTarif réduit : 20€* (hors frais de gestion)\nGratuit pour les moins de 12 ans \nBilleterie : \n– Accueil de l’Hôtel de Ville\n– Casino Municipal\, 1h avant le spectacle\n– Réseau France Billet (FNAC\, Carrefour\, Géant\, Super U\, Fnac.com\, Francebillet.com) \n* Le tarif réduit concerne les enfants de 12 à 16 ans\, les plus de 65 ans\, les personnes handicapées\, les demandeurs d’emploi et les bénéficiaires du RSA\, sur présentation d’un justificatif.
URL:https://www.beaucaire.fr/evenement/spectacle-bon-pour-accord/
LOCATION:Casino Municipal\, 1\, allée du Casino\, Beaucaire\, 30300\, France
CATEGORIES:Saison culturelle,Spectacles
ATTACH;FMTTYPE=image/jpeg:https://www.beaucaire.fr/wp-content/uploads/2017/09/bon-pour-accord.jpg
END:VEVENT
END:VCALENDAR