BEGIN:VCALENDAR
VERSION:2.0
PRODID:-//Le site officiel de la Ville de Beaucaire - ECPv6.7.0//NONSGML v1.0//EN
CALSCALE:GREGORIAN
METHOD:PUBLISH
X-ORIGINAL-URL:https://www.beaucaire.fr
X-WR-CALDESC:Évènements pour Le site officiel de la Ville de Beaucaire
REFRESH-INTERVAL;VALUE=DURATION:PT1H
X-Robots-Tag:noindex
X-PUBLISHED-TTL:PT1H
BEGIN:VTIMEZONE
TZID:Europe/Paris
BEGIN:DAYLIGHT
TZOFFSETFROM:+0100
TZOFFSETTO:+0200
TZNAME:CEST
DTSTART:20180325T010000
END:DAYLIGHT
BEGIN:STANDARD
TZOFFSETFROM:+0200
TZOFFSETTO:+0100
TZNAME:CET
DTSTART:20181028T010000
END:STANDARD
END:VTIMEZONE
BEGIN:VEVENT
DTSTART;TZID=Europe/Paris:20180311T150000
DTEND;TZID=Europe/Paris:20180311T170000
DTSTAMP:20260421T193330
CREATED:20170924T170314Z
LAST-MODIFIED:20180306T130821Z
UID:12960-1520780400-1520787600@www.beaucaire.fr
SUMMARY:Spectacle : Cinéquinoxe
DESCRIPTION:Cinéquinoxe est un inoubliable spectacle musical sur le cinéma international. Vous revivrez les moments cultes des plus grands films comme Titanic\, Flash Dance\, la Môme\, Moulin Rouge\, Dirty Dancing\, Sister Act… \nSpectacle « Cinéquinoxe »\nDirecteur et chanteur : Gérard Vendrame\nChorégraphes et danseuses : Laeticia Vendrame\, Dauphin et Marion Tardy\nDanseurs : Virginie Rosetto\, Alizée Teulade\, Roxane Garrigos\, Jérémie Gaudre\, Loïc Quenouet et Grégory Meilhac. \n\n\n\nPlein tarif : 12€ (hors frais de gestion)\nTarif réduit : 7€* (hors frais de gestion)\nGratuit pour les moins de 12 ans \nBilleterie : \n– Accueil de l’Hôtel de Ville\n– Casino Municipal\, 1h avant le spectacle\n– Réseau France Billet (FNAC\, Carrefour\, Géant\, Super U\, Fnac.com\, Francebillet.com) \n* Le tarif réduit concerne les enfants de 12 à 16 ans\, les plus de 65 ans\, les personnes handicapées\, les demandeurs d’emploi et les bénéficiaires du RSA\, sur présentation d’un justificatif.
URL:https://www.beaucaire.fr/evenement/spectacle-cinequinox/
LOCATION:Casino Municipal\, 1\, allée du Casino\, Beaucaire\, 30300\, France
CATEGORIES:Saison culturelle,Spectacles
ATTACH;FMTTYPE=image/jpeg:https://www.beaucaire.fr/wp-content/uploads/2017/09/Affiche_CINEQUINOX_laety-rouge.jpg
END:VEVENT
BEGIN:VEVENT
DTSTART;TZID=Europe/Paris:20180324T203000
DTEND;TZID=Europe/Paris:20180324T233000
DTSTAMP:20260421T193330
CREATED:20170924T171944Z
LAST-MODIFIED:20170925T120607Z
UID:12962-1521923400-1521934200@www.beaucaire.fr
SUMMARY:Spectacle : Ma colocataire est une garce
DESCRIPTION:Nadège (Evelyne Leclerq) est jolie et manipulatrice. Hubert (Maurice Risch) est naïf\, timide et vieux garçon. Nadège va réveiller le quotidien d’Hubert. Cette pièce contient tous les ingrédients du Théâtre de boulevard\, une histoire décapante où les répliques fusent dans un face à face irrésistible : 1h30 de rire\, de fou rire et de détente. \nSpectacle Ma colocataire est une garce\nComédie de Fabrice Blind et Michel Delgado\nComédiens : Evelyne Leclercq et Maurice Risch \n\n\n\nPlein tarif : 25€ (hors frais de gestion)\nTarif réduit : 20€* (hors frais de gestion)\nGratuit pour les moins de 12 ans \nBilleterie : \n– Accueil de l’Hôtel de Ville\n– Casino Municipal\, 1h avant le spectacle\n– Réseau France Billet (FNAC\, Carrefour\, Géant\, Super U\, Fnac.com\, Francebillet.com) \n* Le tarif réduit concerne les enfants de 12 à 16 ans\, les plus de 65 ans\, les personnes handicapées\, les demandeurs d’emploi et les bénéficiaires du RSA\, sur présentation d’un justificatif.
URL:https://www.beaucaire.fr/evenement/spectacle-colocataire-garce/
LOCATION:Casino Municipal\, 1\, allée du Casino\, Beaucaire\, 30300\, France
CATEGORIES:Saison culturelle,Spectacles
ATTACH;FMTTYPE=image/jpeg:https://www.beaucaire.fr/wp-content/uploads/2017/09/ma-colocataire-3.jpg
END:VEVENT
END:VCALENDAR