BEGIN:VCALENDAR
VERSION:2.0
PRODID:-//Le site officiel de la Ville de Beaucaire - ECPv6.7.0//NONSGML v1.0//EN
CALSCALE:GREGORIAN
METHOD:PUBLISH
X-ORIGINAL-URL:https://www.beaucaire.fr
X-WR-CALDESC:Évènements pour Le site officiel de la Ville de Beaucaire
REFRESH-INTERVAL;VALUE=DURATION:PT1H
X-Robots-Tag:noindex
X-PUBLISHED-TTL:PT1H
BEGIN:VTIMEZONE
TZID:UTC
BEGIN:STANDARD
TZOFFSETFROM:+0000
TZOFFSETTO:+0000
TZNAME:UTC
DTSTART:20160101T000000
END:STANDARD
END:VTIMEZONE
BEGIN:VEVENT
DTSTART;TZID=UTC:20160903T110000
DTEND;TZID=UTC:20160903T120000
DTSTAMP:20260423T011954
CREATED:20160720T094109Z
LAST-MODIFIED:20160720T094259Z
UID:2577-1472900400-1472904000@www.beaucaire.fr
SUMMARY:Présentation de la saison culturelle 2016-2017
DESCRIPTION:
URL:https://www.beaucaire.fr/evenement/presentation-de-saison-culturelle-2016-2017/
LOCATION:Hôtel de Ville\, place Georges Clemenceau\, Beaucaire\, 30300\, France
CATEGORIES:Saison culturelle
END:VEVENT
END:VCALENDAR