BEGIN:VCALENDAR
VERSION:2.0
PRODID:-//Le site officiel de la Ville de Beaucaire - ECPv6.7.0//NONSGML v1.0//EN
CALSCALE:GREGORIAN
METHOD:PUBLISH
X-ORIGINAL-URL:https://www.beaucaire.fr
X-WR-CALDESC:Évènements pour Le site officiel de la Ville de Beaucaire
REFRESH-INTERVAL;VALUE=DURATION:PT1H
X-Robots-Tag:noindex
X-PUBLISHED-TTL:PT1H
BEGIN:VTIMEZONE
TZID:UTC
BEGIN:STANDARD
TZOFFSETFROM:+0000
TZOFFSETTO:+0000
TZNAME:UTC
DTSTART:20160101T000000
END:STANDARD
END:VTIMEZONE
BEGIN:VEVENT
DTSTART;TZID=UTC:20161126T203000
DTEND;TZID=UTC:20161126T220000
DTSTAMP:20260422T223046
CREATED:20160905T120833Z
LAST-MODIFIED:20161102T123659Z
UID:4454-1480192200-1480197600@www.beaucaire.fr
SUMMARY:Brindezingues
DESCRIPTION:Théâtre – Comédie\nUne comédie joyeusement incorrecte à découvrir !\nTimanman vient de mourir. La fratrie se retrouve à la ferme familiale pour le partage des biens. Mais les souvenirs surgissent d’un passé glauque et la zizanie s’installe vite entre Dom\, pas bien fini de la tête\, et ses deux vipères de soeurs. Les vrais caractères se révèlent. C’est alors l’empoignade pour un maigre héritage autour d’une défunte encore chaude. \nBrindezingues est la première pièce de la Compagnie Accordage qui est née en 2013. Elle remporte un beau succès depuis la première en novembre 2014 puisqu’elle a déjà participé à plusieurs Festivals dont le Festival des Escholiers à Annecy (74) qui réunissait 16 troupes venues de différentes régions de France et de Suisse et qui lui a attribué le prix jeune jury en juin 2015. \nComédie de Gérard LEVOYER\nMise en scène de Pierre GORSES\nAvec Maîthé DE GOULET\, Eric HEPP et Martine PALEM. \n  \n  \nPlein tarif : 12€\nTarif réduit : 7€* \nBilletterie : \n– Office de Tourisme de Beaucaire\n– Casino Municipal\, 1h avant le spectacle\n– Réseau France Billet (FNAC\, Carrefour\, Géant\, Super U\, Fnac.com\, Francebillet.com) \n* Le tarif réduit concerne les enfants de 12 à 16 ans\, les plus de 65 ans\, les personnes handicapées\, les demandeurs d’emploi et les bénéficiaires du RSA\, sur présentation d’un justificatif.
URL:https://www.beaucaire.fr/evenement/brindezingues/
LOCATION:Casino Municipal\, 1\, allée du Casino\, Beaucaire\, 30300\, France
CATEGORIES:Saison culturelle
ATTACH;FMTTYPE=image/png:https://www.beaucaire.fr/wp-content/uploads/2016/09/brindezingues.png
END:VEVENT
END:VCALENDAR