BEGIN:VCALENDAR
VERSION:2.0
PRODID:-//Le site officiel de la Ville de Beaucaire - ECPv6.7.0//NONSGML v1.0//EN
CALSCALE:GREGORIAN
METHOD:PUBLISH
X-ORIGINAL-URL:https://www.beaucaire.fr
X-WR-CALDESC:Évènements pour Le site officiel de la Ville de Beaucaire
REFRESH-INTERVAL;VALUE=DURATION:PT1H
X-Robots-Tag:noindex
X-PUBLISHED-TTL:PT1H
BEGIN:VTIMEZONE
TZID:Europe/Paris
BEGIN:DAYLIGHT
TZOFFSETFROM:+0100
TZOFFSETTO:+0200
TZNAME:CEST
DTSTART:20180325T010000
END:DAYLIGHT
BEGIN:STANDARD
TZOFFSETFROM:+0200
TZOFFSETTO:+0100
TZNAME:CET
DTSTART:20181028T010000
END:STANDARD
END:VTIMEZONE
BEGIN:VEVENT
DTSTART;TZID=Europe/Paris:20180512T203000
DTEND;TZID=Europe/Paris:20180512T233000
DTSTAMP:20260421T194606
CREATED:20170924T173337Z
LAST-MODIFIED:20180503T120538Z
UID:12966-1526157000-1526167800@www.beaucaire.fr
SUMMARY:Spectacle : Le tour du monde d'une blonde en 80 jours
DESCRIPTION:Elle est blonde et lécheuse de timbres dans une administration. Il est brun et directeur d’une agence de voyages. Alors quand Dorothée entre dans l’agence de Patrick pour s’offrir le voyage de sa vie\, celui-ci n’est pas indifférent à son phyique\, ni à son porte-monnaie. Il lui propose alors son produit phare\, le fameux « pack Jules Verne » à savoir un voyage autour du monde en 80 jours. Sauf qu’il n’avait pas prévu de tomber sur une blonde de chez blonde et de vivre des aventures touristiques et internationales aussi. \nSpectacle « Le tour du monde d’une blonde en 80 jours »\nComédie de Florent Aveillan et Jean Jaque\nMise en scène : Jean Jaque\nComédiens : Stéphanie Montluçon\, Serge Gubern \n\n\n\nPlein tarif : 12€ (hors frais de gestion)\nTarif réduit : 7€* (hors frais de gestion)\nGratuit pour les moins de 12 ans \nBilleterie : \n– Accueil de l’Hôtel de Ville\n– Casino Municipal\, 1h avant le spectacle\n– Réseau France Billet (FNAC\, Carrefour\, Géant\, Super U\, Fnac.com\, Francebillet.com) \n* Le tarif réduit concerne les enfants de 12 à 16 ans\, les plus de 65 ans\, les personnes handicapées\, les demandeurs d’emploi et les bénéficiaires du RSA\, sur présentation d’un justificatif.
URL:https://www.beaucaire.fr/evenement/spectacle-tour-monde-dune-blonde-80-jours/
LOCATION:Casino Municipal\, 1\, allée du Casino\, Beaucaire\, 30300\, France
CATEGORIES:Saison culturelle,Spectacles
ATTACH;FMTTYPE=image/jpeg:https://www.beaucaire.fr/wp-content/uploads/2017/09/le-tour-d-une-blonde.jpeg
END:VEVENT
END:VCALENDAR