BEGIN:VCALENDAR
VERSION:2.0
PRODID:-//Le site officiel de la Ville de Beaucaire - ECPv6.7.0//NONSGML v1.0//EN
CALSCALE:GREGORIAN
METHOD:PUBLISH
X-ORIGINAL-URL:https://www.beaucaire.fr
X-WR-CALDESC:Évènements pour Le site officiel de la Ville de Beaucaire
REFRESH-INTERVAL;VALUE=DURATION:PT1H
X-Robots-Tag:noindex
X-PUBLISHED-TTL:PT1H
BEGIN:VTIMEZONE
TZID:Europe/Paris
BEGIN:DAYLIGHT
TZOFFSETFROM:+0100
TZOFFSETTO:+0200
TZNAME:CEST
DTSTART:20180325T010000
END:DAYLIGHT
BEGIN:STANDARD
TZOFFSETFROM:+0200
TZOFFSETTO:+0100
TZNAME:CET
DTSTART:20181028T010000
END:STANDARD
END:VTIMEZONE
BEGIN:VEVENT
DTSTART;TZID=Europe/Paris:20180701T170000
DTEND;TZID=Europe/Paris:20180701T190000
DTSTAMP:20260425T174200
CREATED:20180606T100153Z
LAST-MODIFIED:20180622T091522Z
UID:17462-1530464400-1530471600@www.beaucaire.fr
SUMMARY:Spectacle de danse des élèves du Conservatoire
DESCRIPTION:La Mairie de Beaucaire vous invite au spectacle de danse des élèves du Conservatoire Municipal « Blanche Neige et Riquet à la Houppe » le dimanche 1er juillet à 17h au Casino Municipal. \nEntrée libre \n> Casino Municipal\n2 rue du Champ de Foire \n\nInformations au 04 66 59 38 24
URL:https://www.beaucaire.fr/evenement/spectacle-de-danse-eleves-conservatoire-2/
LOCATION:Casino Municipal\, 1\, allée du Casino\, Beaucaire\, 30300\, France
CATEGORIES:Spectacles
ATTACH;FMTTYPE=image/jpeg:https://www.beaucaire.fr/wp-content/uploads/2018/06/shutterstock_363626582.jpg
END:VEVENT
BEGIN:VEVENT
DTSTART;TZID=Europe/Paris:20180707T213000
DTEND;TZID=Europe/Paris:20180707T213000
DTSTAMP:20260425T174200
CREATED:20180704T145117Z
LAST-MODIFIED:20180709T074857Z
UID:18240-1530999000-1530999000@www.beaucaire.fr
SUMMARY:Concert Styl'Guitare
DESCRIPTION:La Mairie de Beaucaire vous invite au concert « Styl’Guitare » le samedi 7 juillet à 21h30 sur la place de la République (dite place Vieille).\nAu programme : Rock\, jazz standard et manouche\, jazz latino\, blues\, boléro\, valse et dixieland. \nOrganisé par la Mairie de Beaucaire\nPlus d’infos au 04 66 59 10 06
URL:https://www.beaucaire.fr/evenement/concert-stylguitare/
LOCATION:Place de la République\, Place de la République\, Beaucaire\, 30300
CATEGORIES:Spectacles
ATTACH;FMTTYPE=image/jpeg:https://www.beaucaire.fr/wp-content/uploads/2018/07/shutterstock_561620689.jpg
END:VEVENT
BEGIN:VEVENT
DTSTART;TZID=Europe/Paris:20180713T090000
DTEND;TZID=Europe/Paris:20180715T180000
DTSTAMP:20260425T174200
CREATED:20180601T080257Z
LAST-MODIFIED:20180711T093452Z
UID:17278-1531472400-1531677600@www.beaucaire.fr
SUMMARY:Les Rencontres Équestres
DESCRIPTION:Les Rencontres Équestres se tiennent du vendredi 13 au dimanche 15 juillet 2018.\nComme chaque année\, c’est aux abords du Rhône\, à l’ombre des très nombreux platanes\, que se déroule cet événement majeur.\nCette grande manifestation\, qui rayonne bien au-delà de nos frontières\, rassemble plus de 500 chevaux (venus d’Espagne\, du Portugal\, de France et de Belgique…)\, ce qui en fait l’un des plus grands rassemblement de chevaux d’Europe. \nPendant 3 jours\, du vendredi au dimanche\, les Rencontres Équestres de Beaucaire accueillent de prestigieuses compétitions : championnat de France « modèle et allure »\, concours d’équitation western « barrel racing »\, master du cheval ibérique (dressage)\,… \nAu-delà de ces compétitions\, le public peut participer à de nombreuses initiations\, flâner entre les boxes\, assister aux représentations et au grand spectacle nocturne équestre du vendredi soir (particulièrement beau) tout en dînant sur place pendant ce temps. \nDepuis 2015\, à la demande du Maire\, les enfants ne sont pas en reste avec un espace qui leur est dédié (animations et initiation à la voltige). Et\, bonne nouvelle\, tout est entièrement gratuit ! \nAu programme :  \nVendredi 13 juillet (Vendredi de Beaucaire)\nà partir de 19h\nMarché nocturne sur le thème de l’équitation – Quai Général de Gaulle – Cours Gambetta \n21h30\nGrand spectacle équestre avec Jean-François Pignon – Place Georges Clemenceau\nGratuit \nSamedi 14 juillet\n21h\nSpectacle équestre offert par la Mairie de Beaucaire au Champ de Foire\nEntrée libre \nPour consulter le programme complet des rencontres équestres cliquez ici \nInformations au 04 66 59 10 06
URL:https://www.beaucaire.fr/evenement/les-rencontres-equestres-2/
LOCATION:Champ de foire\, Champ de foire\, Beaucaire\, 30300\, France
CATEGORIES:Événements,Spectacles
ATTACH;FMTTYPE=image/png:https://www.beaucaire.fr/wp-content/uploads/2018/06/bannière-facebook.png
END:VEVENT
BEGIN:VEVENT
DTSTART;VALUE=DATE:20180714
DTEND;VALUE=DATE:20180715
DTSTAMP:20260425T174200
CREATED:20180606T132843Z
LAST-MODIFIED:20180606T133205Z
UID:17473-1531526400-1531612799@www.beaucaire.fr
SUMMARY:Fête Nationale du 14 Juillet
DESCRIPTION:« Chaque 14 juillet aura lieu une vraie fête nationale digne de ce nom à Beaucaire  » : C’était un de engagements de campagne du Maire élu en 2014.\nPromesse tenue ! depuis 2015\, une vrai fête Nationale digne de ce nom à été mise en place dans notre ville. \nProgramme du 14 juillet 2018\nÀ partir de 6h du matin – 6 Tirs de bombes\nComme le veut la tradition\, 6 bombes seront tirées par l’artificier de la ville pour célébrer la Fête Nationale.\n \n17h30 – Défilé des 100 chevaux\nA travers la ville (Canal – Port de plaisance) \n19h – Cérémonie de remise des médailles de la ville\nCour de l’Hôtel de Ville (suivie d’un apéritif) \n21h – Grand spectacle équestre\nChamp de foire – Gratuit \n22h30 – Bal populaire du 14 juillet\nBoulodrome Hilarion Arnaud – Champ de Foire\nVariété Française – Gratuit
URL:https://www.beaucaire.fr/evenement/fete-nationale-14-juillet-2/
LOCATION:Beaucaire\, Beaucaire\, 30300\, France Métropolitaine
CATEGORIES:Cérémonie,Culture,Événements,Remise des prix,Spectacles,Traditions
ATTACH;FMTTYPE=image/png:https://www.beaucaire.fr/wp-content/uploads/2018/06/Estivales-201823.png
END:VEVENT
BEGIN:VEVENT
DTSTART;TZID=Europe/Paris:20180726T180000
DTEND;TZID=Europe/Paris:20180726T180000
DTSTAMP:20260425T174200
CREATED:20180626T124100Z
LAST-MODIFIED:20180709T074728Z
UID:18194-1532628000-1532628000@www.beaucaire.fr
SUMMARY:Ouverture du Salon Taurin - Plateau live années 80
DESCRIPTION:Chaque année en juillet\, durant 5 jours\, le parking des Arènes est transformé en « Salon Taurin ». C’est la féria locale : bonne humeur\, décontraction\, danse dans la convivialité.\nTous les Beaucairois se retrouvent\, ainsi que de nombreux voisins et touristes. Chaque jour\, dès 18h\, des bodégas associatives vous accueillent pour commencer la soirée avec le sourire à l’heure de l’apéritif puis vous proposent de dîner au pied du Château de Beaucaire et devant la grande scène du Salon Taurin. Puis\, à 21h30\, la Ville de Beaucaire offre gratuitement un spectacle différent chaque soir ! \nQue ce soit sur le thème du disco ou en présence d’artistes de renommée comme Jean-Luc Lahaye : ambiance assurée avec une grande piste de danse faite pour vous ! D’autres bodégas vous proposent toute la nuit des plateaux exceptionnels de DJ ! Une fête foraine est présente à quelques mètres. Le Salon Taurin\, chaque année à Beaucaire\, c’est là que l’on peut s’amuser et décompresser entre amis\, quel que soit son âge\, et en toute sécurité. \nPour l’ouverture du Salon Taurin\, le jeudi 26 juillet à 21h30\, venez nombreux pour le plateau live années 80\, avec Jean-Luc Lahaye\, Sabine Paturel et Jakie Quartz suivi de l’orchestre Richard Gardet.\nLes bodégas du Salon Taurin : Pensez à réserver votre repas près des Arènes :\n• Gym Flip Beaucaire Tarascon (06 62 58 97 70)\n• Stade Beaucairois 30 (06 28 27 15 91 – 06 23 78 61 93 – 06 19 94 63 23)\n• Les Chevaliers (06 27 07 58 34)\n• Tennis Club Beaucairois (06 22 28 12 96)\n• Espoir Football Club Beaucairois (06 51 69 71 96)\n• Aficion Taurine Beaucairoise (06 48 85 91 07) Les autres Bodégas :\n• Espace le Chalet (Champ de Foire – 06 10 51 26 87)\n• Bodega l’Exception : DJ’s\, Show light\, perfomers (Espace Daudet – 06 52 83 44 49) \nOrganisé par la Mairie de Beaucaire\nInformations : 04 66 59 10 06\nParking des Arènes – Champ de Foire
URL:https://www.beaucaire.fr/evenement/ouverture-salon-taurin-plateau-live-annees-80/
LOCATION:Champ de foire\, Champ de foire\, Beaucaire\, 30300\, France
CATEGORIES:Événements,Spectacles
ATTACH;FMTTYPE=image/png:https://www.beaucaire.fr/wp-content/uploads/2018/06/carré-web-1-2.png
END:VEVENT
BEGIN:VEVENT
DTSTART;TZID=Europe/Paris:20180727T180000
DTEND;TZID=Europe/Paris:20180727T180000
DTSTAMP:20260425T174200
CREATED:20180706T122809Z
LAST-MODIFIED:20180709T074725Z
UID:18312-1532714400-1532714400@www.beaucaire.fr
SUMMARY:Salon Taurin : Soirée disco
DESCRIPTION:Chaque année en juillet\, durant 5 jours\, le parking des Arènes est transformé en « Salon Taurin ». C’est la féria locale : bonne humeur\, décontraction\, danse dans la convivialité.\nTous les Beaucairois se retrouvent\, ainsi que de nombreux voisins et touristes. Chaque jour\, dès 18h\, des bodégas associatives vous accueillent pour commencer la soirée avec le sourire à l’heure de l’apéritif puis vous proposent de dîner au pied du Château de Beaucaire et devant la grande scène du Salon Taurin. Puis\, à 21h30\, la Ville de Beaucaire offre gratuitement un spectacle différent chaque soir ! \nQue ce soit sur le thème du disco ou en présence d’artistes de renommée comme Jean-Luc Lahaye : ambiance assurée avec une grande piste de danse faite pour vous ! D’autres bodégas vous proposent toute la nuit des plateaux exceptionnels de DJ ! Une fête foraine est présente à quelques mètres. Le Salon Taurin\, chaque année à Beaucaire\, c’est là que l’on peut s’amuser et décompresser entre amis\, quel que soit son âge\, et en toute sécurité. \nLe vendredi 27 juillet à 21h30\, venez nombreux pour la soirée disco avec la troupe Frenchy suivie de l’orchestre Richard Gardet. \nLes bodégas du Salon Taurin : Pensez à réserver votre repas près des Arènes :\n• Gym Flip Beaucaire Tarascon (06 62 58 97 70)\n• Stade Beaucairois 30 (06 28 27 15 91 – 06 23 78 61 93 – 06 19 94 63 23)\n• Les Chevaliers (06 27 07 58 34)\n• Tennis Club Beaucairois (06 22 28 12 96)\n• Espoir Football Club Beaucairois (06 51 69 71 96)\n• Aficion Taurine Beaucairoise (06 48 85 91 07) Les autres Bodégas :\n• Espace le Chalet (Champ de Foire – 06 10 51 26 87)\n• Bodega l’Exception : DJ’s\, Show light\, perfomers (Espace Daudet – 06 52 83 44 49) \nOrganisé par la Mairie de Beaucaire\nInformations : 04 66 59 10 06\nParking des Arènes – Champ de Foire
URL:https://www.beaucaire.fr/evenement/salon-taurin-soiree-disco/
LOCATION:Champ de foire\, Champ de foire\, Beaucaire\, 30300\, France
CATEGORIES:Événements,Spectacles
ATTACH;FMTTYPE=image/png:https://www.beaucaire.fr/wp-content/uploads/2018/07/carré-web-2.png
END:VEVENT
BEGIN:VEVENT
DTSTART;TZID=Europe/Paris:20180728T180000
DTEND;TZID=Europe/Paris:20180728T180000
DTSTAMP:20260425T174200
CREATED:20180706T123111Z
LAST-MODIFIED:20180709T074619Z
UID:18313-1532800800-1532800800@www.beaucaire.fr
SUMMARY:Salon Taurin : Soirée années 90 avec Caroline Loeb
DESCRIPTION:Chaque année en juillet\, durant 5 jours\, le parking des Arènes est transformé en « Salon Taurin ». C’est la féria locale : bonne humeur\, décontraction\, danse dans la convivialité.\nTous les Beaucairois se retrouvent\, ainsi que de nombreux voisins et touristes. Chaque jour\, dès 18h\, des bodégas associatives vous accueillent pour commencer la soirée avec le sourire à l’heure de l’apéritif puis vous proposent de dîner au pied du Château de Beaucaire et devant la grande scène du Salon Taurin. Puis\, à 21h30\, la Ville de Beaucaire offre gratuitement un spectacle différent chaque soir ! \nQue ce soit sur le thème du disco ou en présence d’artistes de renommée comme Jean-Luc Lahaye : ambiance assurée avec une grande piste de danse faite pour vous ! D’autres bodégas vous proposent toute la nuit des plateaux exceptionnels de DJ ! Une fête foraine est présente à quelques mètres. Le Salon Taurin\, chaque année à Beaucaire\, c’est là que l’on peut s’amuser et décompresser entre amis\, quel que soit son âge\, et en toute sécurité. \nLe samedi 28 juillet à 21h30\, venez nombreux pour la soirée années 90 (avec Caroline Loeb) suivie de l’orchestre Douzet. \nLes bodégas du Salon Taurin : Pensez à réserver votre repas près des Arènes :\n• Gym Flip Beaucaire Tarascon (06 62 58 97 70)\n• Stade Beaucairois 30 (06 28 27 15 91 – 06 23 78 61 93 – 06 19 94 63 23)\n• Les Chevaliers (06 27 07 58 34)\n• Tennis Club Beaucairois (06 22 28 12 96)\n• Espoir Football Club Beaucairois (06 51 69 71 96)\n• Aficion Taurine Beaucairoise (06 48 85 91 07) Les autres Bodégas :\n• Espace le Chalet (Champ de Foire – 06 10 51 26 87)\n• Bodega l’Exception : DJ’s\, Show light\, perfomers (Espace Daudet – 06 52 83 44 49) \nOrganisé par la Mairie de Beaucaire\nInformations : 04 66 59 10 06\nParking des Arènes – Champ de Foire
URL:https://www.beaucaire.fr/evenement/salon-taurin-soiree-annees-90-caroline-loeb/
LOCATION:Champ de foire\, Champ de foire\, Beaucaire\, 30300\, France
CATEGORIES:Événements,Spectacles
ATTACH;FMTTYPE=image/png:https://www.beaucaire.fr/wp-content/uploads/2018/07/carré-web-3.png
END:VEVENT
BEGIN:VEVENT
DTSTART;TZID=Europe/Paris:20180729T180000
DTEND;TZID=Europe/Paris:20180729T180000
DTSTAMP:20260425T174200
CREATED:20180706T123340Z
LAST-MODIFIED:20180709T074621Z
UID:18314-1532887200-1532887200@www.beaucaire.fr
SUMMARY:Salon Taurin : soirée musicale
DESCRIPTION:Chaque année en juillet\, durant 5 jours\, le parking des Arènes est transformé en « Salon Taurin ». C’est la féria locale : bonne humeur\, décontraction\, danse dans la convivialité.\nTous les Beaucairois se retrouvent\, ainsi que de nombreux voisins et touristes. Chaque jour\, dès 18h\, des bodégas associatives vous accueillent pour commencer la soirée avec le sourire à l’heure de l’apéritif puis vous proposent de dîner au pied du Château de Beaucaire et devant la grande scène du Salon Taurin. Puis\, à 21h30\, la Ville de Beaucaire offre gratuitement un spectacle différent chaque soir ! \nQue ce soit sur le thème du disco ou en présence d’artistes de renommée comme Jean-Luc Lahaye : ambiance assurée avec une grande piste de danse faite pour vous ! D’autres bodégas vous proposent toute la nuit des plateaux exceptionnels de DJ ! Une fête foraine est présente à quelques mètres. Le Salon Taurin\, chaque année à Beaucaire\, c’est là que l’on peut s’amuser et décompresser entre amis\, quel que soit son âge\, et en toute sécurité. \nLe dimanche 29 juillet à 21h30\, venez nombreux pour la soirée musicale avec l’orchestre Kontrast et Pat Ottawan. \nLes bodégas du Salon Taurin : Pensez à réserver votre repas près des Arènes :\n• Gym Flip Beaucaire Tarascon (06 62 58 97 70)\n• Stade Beaucairois 30 (06 28 27 15 91 – 06 23 78 61 93 – 06 19 94 63 23)\n• Les Chevaliers (06 27 07 58 34)\n• Tennis Club Beaucairois (06 22 28 12 96)\n• Espoir Football Club Beaucairois (06 51 69 71 96)\n• Aficion Taurine Beaucairoise (06 48 85 91 07) Les autres Bodégas :\n• Espace le Chalet (Champ de Foire – 06 10 51 26 87)\n• Bodega l’Exception : DJ’s\, Show light\, perfomers (Espace Daudet – 06 52 83 44 49) \nOrganisé par la Mairie de Beaucaire\nInformations : 04 66 59 10 06\nParking des Arènes – Champ de Foire
URL:https://www.beaucaire.fr/evenement/salon-taurin-soiree-musicale/
LOCATION:Champ de foire\, Champ de foire\, Beaucaire\, 30300\, France
CATEGORIES:Événements,Spectacles
ATTACH;FMTTYPE=image/png:https://www.beaucaire.fr/wp-content/uploads/2018/07/carré-web-4.png
END:VEVENT
BEGIN:VEVENT
DTSTART;TZID=Europe/Paris:20180730T180000
DTEND;TZID=Europe/Paris:20180730T180000
DTSTAMP:20260425T174200
CREATED:20180706T123657Z
LAST-MODIFIED:20180709T074615Z
UID:18315-1532973600-1532973600@www.beaucaire.fr
SUMMARY:Salon Taurin : Soirée variétés
DESCRIPTION:Chaque année en juillet\, durant 5 jours\, le parking des Arènes est transformé en « Salon Taurin ». C’est la féria locale : bonne humeur\, décontraction\, danse dans la convivialité.\nTous les Beaucairois se retrouvent\, ainsi que de nombreux voisins et touristes. Chaque jour\, dès 18h\, des bodégas associatives vous accueillent pour commencer la soirée avec le sourire à l’heure de l’apéritif puis vous proposent de dîner au pied du Château de Beaucaire et devant la grande scène du Salon Taurin. Puis\, à 21h30\, la Ville de Beaucaire offre gratuitement un spectacle différent chaque soir ! \nQue ce soit sur le thème du disco ou en présence d’artistes de renommée comme Jean-Luc Lahaye : ambiance assurée avec une grande piste de danse faite pour vous ! D’autres bodégas vous proposent toute la nuit des plateaux exceptionnels de DJ ! Une fête foraine est présente à quelques mètres. Le Salon Taurin\, chaque année à Beaucaire\, c’est là que l’on peut s’amuser et décompresser entre amis\, quel que soit son âge\, et en toute sécurité. \nLe lundi 30 juillet à 21h30\, venez nombreux pour la soirée variétés avec l’orchestre Cocktail de Nuit. \nLes bodégas du Salon Taurin : Pensez à réserver votre repas près des Arènes :\n• Gym Flip Beaucaire Tarascon (06 62 58 97 70)\n• Stade Beaucairois 30 (06 28 27 15 91 – 06 23 78 61 93 – 06 19 94 63 23)\n• Les Chevaliers (06 27 07 58 34)\n• Tennis Club Beaucairois (06 22 28 12 96)\n• Espoir Football Club Beaucairois (06 51 69 71 96)\n• Aficion Taurine Beaucairoise (06 48 85 91 07) Les autres Bodégas :\n• Espace le Chalet (Champ de Foire – 06 10 51 26 87)\n• Bodega l’Exception : DJ’s\, Show light\, perfomers (Espace Daudet – 06 52 83 44 49) \nOrganisé par la Mairie de Beaucaire\nInformations : 04 66 59 10 06\nParking des Arènes – Champ de Foire \nA 23h : Le feu d’artifice de clôture des fêtes de la Madeleine sera tiré du Château de Beaucaire et sera visible depuis le Salon Taurin
URL:https://www.beaucaire.fr/evenement/salon-taurin-soiree-varietes/
LOCATION:Champ de foire\, Champ de foire\, Beaucaire\, 30300\, France
CATEGORIES:Événements,Spectacles
ATTACH;FMTTYPE=image/png:https://www.beaucaire.fr/wp-content/uploads/2018/07/carré-web-5.png
END:VEVENT
BEGIN:VEVENT
DTSTART;TZID=Europe/Paris:20180730T230000
DTEND;TZID=Europe/Paris:20180730T230000
DTSTAMP:20260425T174200
CREATED:20180710T120855Z
LAST-MODIFIED:20180723T122829Z
UID:18514-1532991600-1532991600@www.beaucaire.fr
SUMMARY:Feu d’artifice de clôture des Fêtes de la Madeleine de Beaucaire
DESCRIPTION:Le feu clôturant les Fêtes de la Madeleine de Beaucaire sera tiré du Château le lundi 30 juillet à 23h et sera visible depuis le Salon Taurin.
URL:https://www.beaucaire.fr/evenement/feu-dartifice-de-cloture-fetes-de-madeleine-de-beaucaire-2/
LOCATION:Château de Beaucaire\, Beaucaire\, 30300\, France Métropolitaine
CATEGORIES:Événements,Spectacles
ATTACH;FMTTYPE=image/jpeg:https://www.beaucaire.fr/wp-content/uploads/2018/07/carré-web-feu-dartifice-2018_Plan-de-travail-1.jpg
END:VEVENT
END:VCALENDAR