BEGIN:VCALENDAR
VERSION:2.0
PRODID:-//Le site officiel de la Ville de Beaucaire - ECPv6.7.0//NONSGML v1.0//EN
CALSCALE:GREGORIAN
METHOD:PUBLISH
X-ORIGINAL-URL:https://www.beaucaire.fr
X-WR-CALDESC:Évènements pour Le site officiel de la Ville de Beaucaire
REFRESH-INTERVAL;VALUE=DURATION:PT1H
X-Robots-Tag:noindex
X-PUBLISHED-TTL:PT1H
BEGIN:VTIMEZONE
TZID:Europe/Paris
BEGIN:DAYLIGHT
TZOFFSETFROM:+0100
TZOFFSETTO:+0200
TZNAME:CEST
DTSTART:20190331T010000
END:DAYLIGHT
BEGIN:STANDARD
TZOFFSETFROM:+0200
TZOFFSETTO:+0100
TZNAME:CET
DTSTART:20191027T010000
END:STANDARD
END:VTIMEZONE
BEGIN:VEVENT
DTSTART;TZID=Europe/Paris:20190213T140000
DTEND;TZID=Europe/Paris:20190213T180000
DTSTAMP:20260424T153450
CREATED:20190205T082720Z
LAST-MODIFIED:20190902T132933Z
UID:24773-1550066400-1550080800@www.beaucaire.fr
SUMMARY:Après-midi dansant
DESCRIPTION:Le CCAS et la Mairie de Beaucaire vous donnent rendez-vous le Mercredi 13 février\, pour un après-midi dansant. \nRetrouvez ci-dessous le programme complet de l’année. \nLES APRÈS-MIDIS DANSANTS\nde 14h à 18h\nEntrée gratuite – Goûters et animations offerts par le CCAS et la Mairie de Beaucaire.\nBuvette payante\n \nMercredi 13 Février\nOrchestre CT Avant \nMercredi 10 avril\nOrchestre Génération Musette \nMercredi 22 mai\nAlan Flor Animation \nDimanche 23 juin\nNathalie Morgane et son orchestre Jeroboam \nDimanche 15 septembre\nAlan Flor Animation \nMercredi 23 octobre\nOrchestre Génération Musette \nDimanche 24 novembre\nOrchestre Lionel Chayas Animation \n  \nLA SOIRÉE DANSANTE\nOrchestre Lionel Chayas Animation \nde 20h30 à 1h\n Entrée gratuite – animation offerte par le CCAS et la Mairie de Beaucaire.\nBuvette payante \n  \nInformations : 04 66 59 36 35
URL:https://www.beaucaire.fr/evenement/apres-midi-dansants-2019/
LOCATION:Casino Municipal\, 1\, allée du Casino\, Beaucaire\, 30300\, France
CATEGORIES:Spectacles
ATTACH;FMTTYPE=image/jpeg:https://www.beaucaire.fr/wp-content/uploads/2019/02/Vignette-Web.jpg
END:VEVENT
BEGIN:VEVENT
DTSTART;TZID=Europe/Paris:20190216T163000
DTEND;TZID=Europe/Paris:20190216T190000
DTSTAMP:20260424T153450
CREATED:20190118T101952Z
LAST-MODIFIED:20190211T124402Z
UID:24185-1550334600-1550343600@www.beaucaire.fr
SUMMARY:Spectacle de Chippendales
DESCRIPTION:Pour la Saint-Valentin… la Mairie de Beaucaire vous propose un spectacle de Chippendales le samedi 16 février à 16h30 au Casino Municipal.\nBeaucairoises ou pas\, célibataires ou pas\, vous êtes toutes les bienvenues. Une séance de dédicaces est prévue après le spectacle.\nEntrée : 2€\, au profit de l’association VMEH (Visite aux Malades dans les Établissements Hospitaliers)
URL:https://www.beaucaire.fr/evenement/les-chippendales-vous-attendent-au-casino-municipal/
LOCATION:Casino Municipal\, 1\, allée du Casino\, Beaucaire\, 30300\, France
CATEGORIES:Événements,Spectacles
ATTACH;FMTTYPE=image/jpeg:https://www.beaucaire.fr/wp-content/uploads/2019/01/Flyers-chippendales-V2.jpg
END:VEVENT
BEGIN:VEVENT
DTSTART;TZID=Europe/Paris:20190224T120000
DTEND;TZID=Europe/Paris:20190224T180000
DTSTAMP:20260424T153450
CREATED:20190205T083832Z
LAST-MODIFIED:20190902T133013Z
UID:24778-1551009600-1551031200@www.beaucaire.fr
SUMMARY:Déjeuner spectacle
DESCRIPTION:Chaque année\, en clôture de la Semaine Bleue (semaine dédiée à nos seniors se déroulant en octobre)\, un grand déjeuner-spectacle est offert par la Mairie et le Centre Communal d’Action Sociale. Parce que le gouvernement mène une politique d’austérité envers les français et plus particulièrement envers nos retraités qui pour beaucoup voient leurs retraites baisser\, M. le Maire souhaite\, à sa manière\, contribuer à leur apporter un peu plus. La Mairie et son CCAS organisent donc désormais deux déjeuners-spectacles dédiés aux retraités chaque année au lieu d’un aujourd’hui.\nLe prochain déjeuner-spectacle se déroulera donc le dimanche 24 février à 12h\, au Casino Municipal. \nParce qu’ils ont contribué et contribuent à faire la richesse de notre pays et de notre Ville\, la Mairie de Beaucaire tient à prendre soin de ses aînés ! \nInformations et inscriptions auprès du CCAS : 04.66.59.36.35 \nConditions :\n– Résider sur la commune de Beaucaire depuis plus de 2 ans\n– Etre âgé de 63 ans révolus à la date du repas \nPièces à fournir à l’inscription :\n– Carte nationale d’identité\n– Taxe d’habitation 2017\n– Numéro de téléphone
URL:https://www.beaucaire.fr/evenement/dejeuner-spectacle/
LOCATION:Casino Municipal\, 1\, allée du Casino\, Beaucaire\, 30300\, France
CATEGORIES:Spectacles
ATTACH;FMTTYPE=image/jpeg:https://www.beaucaire.fr/wp-content/uploads/2019/02/A3-déjeuner-spectacle-2018.jpg
ORGANIZER;CN="C.C.A.S.":MAILTO:ccas@beaucaire.fr
END:VEVENT
END:VCALENDAR