BEGIN:VCALENDAR
VERSION:2.0
PRODID:-//Le site officiel de la Ville de Beaucaire - ECPv6.7.0//NONSGML v1.0//EN
CALSCALE:GREGORIAN
METHOD:PUBLISH
X-ORIGINAL-URL:https://www.beaucaire.fr
X-WR-CALDESC:Évènements pour Le site officiel de la Ville de Beaucaire
REFRESH-INTERVAL;VALUE=DURATION:PT1H
X-Robots-Tag:noindex
X-PUBLISHED-TTL:PT1H
BEGIN:VTIMEZONE
TZID:Europe/Paris
BEGIN:DAYLIGHT
TZOFFSETFROM:+0100
TZOFFSETTO:+0200
TZNAME:CEST
DTSTART:20190331T010000
END:DAYLIGHT
BEGIN:STANDARD
TZOFFSETFROM:+0200
TZOFFSETTO:+0100
TZNAME:CET
DTSTART:20191027T010000
END:STANDARD
END:VTIMEZONE
BEGIN:VEVENT
DTSTART;TZID=Europe/Paris:20190301T203000
DTEND;TZID=Europe/Paris:20190302T010000
DTSTAMP:20260424T140336
CREATED:20190219T133439Z
LAST-MODIFIED:20190902T133009Z
UID:25198-1551472200-1551488400@www.beaucaire.fr
SUMMARY:Soirée Dansante
DESCRIPTION:Le CCAS et la Mairie de Beaucaire vous donnent rendez-vous le vendredi 1 mars\, pour la soirée dansante. \nRetrouvez ci-dessous le programme complet de l’année. \nLES APRÈS-MIDIS DANSANTS\nde 14h à 18h\nEntrée gratuite – Goûters et animations offerts par le CCAS et la Mairie de Beaucaire.\nBuvette payante\n \nMercredi 10 avril\nOrchestre Génération Musette \nMercredi 22 mai\nAlan Flor Animation \nDimanche 23 juin\nNathalie Morgane et son orchestre Jeroboam \nDimanche 15 septembre\nAlan Flor Animation \nMercredi 23 octobre\nOrchestre Génération Musette \nDimanche 24 novembre\nOrchestre Lionel Chayas Animation \n  \nLA SOIRÉE DANSANTE\nOrchestre Lionel Chayas Animation \nde 20h30 à 1h\n Entrée gratuite – animation offerte par le CCAS et la Mairie de Beaucaire.\nBuvette payante \nInformations : 04 66 59 36 35
URL:https://www.beaucaire.fr/evenement/soiree-dansante/
CATEGORIES:Spectacles
ATTACH;FMTTYPE=image/jpeg:https://www.beaucaire.fr/wp-content/uploads/2019/02/Vignette-Web.jpg
END:VEVENT
BEGIN:VEVENT
DTSTART;TZID=Europe/Paris:20190315T203000
DTEND;TZID=Europe/Paris:20190315T223000
DTSTAMP:20260424T140336
CREATED:20190308T151345Z
LAST-MODIFIED:20190902T133020Z
UID:25727-1552681800-1552689000@www.beaucaire.fr
SUMMARY:Conservatoire "Les années 80"
DESCRIPTION:Les élèves de la section chant du Conservatoire Municipal organisent un spectacle musical sur le thème des années 80 le vendredi 15 mars à 20h30\, au Casino Municipal. \nEntrée libre. \nCasino Municipal\nRue du champ de foire\, 30300 Beaucaire \n \n 
URL:https://www.beaucaire.fr/evenement/conservatoire-les-annees-80/
LOCATION:Casino Municipal\, 1\, allée du Casino\, Beaucaire\, 30300\, France
CATEGORIES:Spectacles
ATTACH;FMTTYPE=image/jpeg:https://www.beaucaire.fr/wp-content/uploads/2019/03/Carré-Web-Les-années-80.jpg
END:VEVENT
BEGIN:VEVENT
DTSTART;TZID=Europe/Paris:20190330T203000
DTEND;TZID=Europe/Paris:20190330T220000
DTSTAMP:20260424T140336
CREATED:20190320T150711Z
LAST-MODIFIED:20190320T150711Z
UID:25978-1553977800-1553983200@www.beaucaire.fr
SUMMARY:Spectacle musicale des professeurs
DESCRIPTION:Le Maire de Beaucaire\, son adjointe déléguée à la culture et l’ensemble du conseil municipal vous convient au concert des professeurs du Conservatoire de musique de Beaucaire le samedi 30 mars 2019 à 20h30.\nRendez-vous au Casino Municipal pour ce spectacle à ne pas manquer !
URL:https://www.beaucaire.fr/evenement/spectacle-musicale-des-professeurs/
LOCATION:Casino Municipal\, 1\, allée du Casino\, Beaucaire\, 30300\, France
CATEGORIES:Spectacles
ATTACH;FMTTYPE=image/jpeg:https://www.beaucaire.fr/wp-content/uploads/2019/03/Carré-Web-Concert-des-professeurs.jpg
END:VEVENT
END:VCALENDAR