BEGIN:VCALENDAR
VERSION:2.0
PRODID:-//Le site officiel de la Ville de Beaucaire - ECPv6.7.0//NONSGML v1.0//EN
CALSCALE:GREGORIAN
METHOD:PUBLISH
X-ORIGINAL-URL:https://www.beaucaire.fr
X-WR-CALDESC:Évènements pour Le site officiel de la Ville de Beaucaire
REFRESH-INTERVAL;VALUE=DURATION:PT1H
X-Robots-Tag:noindex
X-PUBLISHED-TTL:PT1H
BEGIN:VTIMEZONE
TZID:Europe/Paris
BEGIN:DAYLIGHT
TZOFFSETFROM:+0100
TZOFFSETTO:+0200
TZNAME:CEST
DTSTART:20190331T010000
END:DAYLIGHT
BEGIN:STANDARD
TZOFFSETFROM:+0200
TZOFFSETTO:+0100
TZNAME:CET
DTSTART:20191027T010000
END:STANDARD
END:VTIMEZONE
BEGIN:VEVENT
DTSTART;TZID=Europe/Paris:20190517T203000
DTEND;TZID=Europe/Paris:20190517T220000
DTSTAMP:20260424T105034
CREATED:20190503T143629Z
LAST-MODIFIED:20190506T081851Z
UID:27042-1558125000-1558130400@www.beaucaire.fr
SUMMARY:Conservatoire Municipal "Théâtre"
DESCRIPTION:Le Maire de Beaucaire\, son adjointe déléguée à la culture et l’ensemble du conseil municipal vous convient à la pièce de théâtre du Conservatoire Municipal de Beaucaire présenté par les élèves de la section Théâtre le samedi 17 mai 2019 à 20h30. \nRendez-vous au Casino Municipal pour ce spectacle à ne pas manquer !
URL:https://www.beaucaire.fr/evenement/conservatoire-municipal-theatre/
LOCATION:Casino Municipal\, 1\, allée du Casino\, Beaucaire\, 30300\, France
CATEGORIES:Spectacles
ATTACH;FMTTYPE=image/jpeg:https://www.beaucaire.fr/wp-content/uploads/2019/05/Carré-Web-Théâtre.jpg
END:VEVENT
BEGIN:VEVENT
DTSTART;TZID=Europe/Paris:20190522T140000
DTEND;TZID=Europe/Paris:20190522T180000
DTSTAMP:20260424T105034
CREATED:20190219T131220Z
LAST-MODIFIED:20190830T164019Z
UID:25184-1558533600-1558548000@www.beaucaire.fr
SUMMARY:Après-midi dansant
DESCRIPTION:Le CCAS et la Mairie de Beaucaire vous donnent rendez-vous le Mercredi 22 mai\, pour un après-midi dansant. \nRetrouvez ci-dessous le programme complet de l’année. \nLES APRÈS-MIDIS DANSANTS\nde 14h à 18h\nEntrée gratuite – Goûters et animations offerts par le CCAS et la Mairie de Beaucaire.\nBuvette payante\n \n  \nMercredi 22 mai\nAlan Flor Animation \nDimanche 23 juin\nNathalie Morgane et son orchestre Jeroboam \nDimanche 15 septembre\nAlan Flor Animation \nMercredi 23 octobre\nOrchestre Génération Musette \nDimanche 24 novembre\nOrchestre Lionel Chayas Animation \n  \nLA SOIRÉE DANSANTE\nOrchestre Lionel Chayas Animation \nde 20h30 à 1h\n Entrée gratuite – animation offerte par le CCAS et la Mairie de Beaucaire.\nBuvette payante \n  \nInformations : 04 66 59 36 35
URL:https://www.beaucaire.fr/evenement/apres-midi-dansant-2/
CATEGORIES:Spectacles
ATTACH;FMTTYPE=image/jpeg:https://www.beaucaire.fr/wp-content/uploads/2019/02/Vignette-Web.jpg
ORGANIZER;CN="C.C.A.S.":MAILTO:ccas@beaucaire.fr
END:VEVENT
BEGIN:VEVENT
DTSTART;TZID=Europe/Paris:20190525T140000
DTEND;TZID=Europe/Paris:20190525T230000
DTSTAMP:20260424T105034
CREATED:20190423T132113Z
LAST-MODIFIED:20190516T072401Z
UID:26742-1558792800-1558825200@www.beaucaire.fr
SUMMARY:Chante à Beaucaire
DESCRIPTION:Le Samedi 25 mai 2019\, la Mairie de Beaucaire organise « Chante à Beaucaire »\, Place Georges Clemenceau.  \nUn grand concours de chant organisé et inspiré des célèbres télé-crochets. \n14h – Pré-sélections | Demi-finale \n17h30 – Les chanteurs en herbe (Concours des moins de 8 ans) \n21h – Grande Finale et concert de Gwendal Marimoutou (Comédien et chanteur révélé par « The voice ») \nAvec cette journée festive et musicale\, la Mairie de Beaucaire souhaite révéler de nouveaux talents ! \n \nPlus d’informations : 04 66 59 71 30
URL:https://www.beaucaire.fr/evenement/chante-a-beaucaire-2019/
LOCATION:Place Georges Clemenceau\, Place Georges Clemenceau\, Beaucaire\, 30300\, France
CATEGORIES:Spectacles
ATTACH;FMTTYPE=image/jpeg:https://www.beaucaire.fr/wp-content/uploads/2019/04/Concours-Chante-à-Beaucaire-Format-Facebook-Site-Internet-Marimoutou-1.jpg
END:VEVENT
END:VCALENDAR