BEGIN:VCALENDAR
VERSION:2.0
PRODID:-//Le site officiel de la Ville de Beaucaire - ECPv6.7.0//NONSGML v1.0//EN
CALSCALE:GREGORIAN
METHOD:PUBLISH
X-ORIGINAL-URL:https://www.beaucaire.fr
X-WR-CALDESC:Évènements pour Le site officiel de la Ville de Beaucaire
REFRESH-INTERVAL;VALUE=DURATION:PT1H
X-Robots-Tag:noindex
X-PUBLISHED-TTL:PT1H
BEGIN:VTIMEZONE
TZID:Europe/Paris
BEGIN:DAYLIGHT
TZOFFSETFROM:+0100
TZOFFSETTO:+0200
TZNAME:CEST
DTSTART:20190331T010000
END:DAYLIGHT
BEGIN:STANDARD
TZOFFSETFROM:+0200
TZOFFSETTO:+0100
TZNAME:CET
DTSTART:20191027T010000
END:STANDARD
END:VTIMEZONE
BEGIN:VEVENT
DTSTART;TZID=Europe/Paris:20190610T203000
DTEND;TZID=Europe/Paris:20190610T220000
DTSTAMP:20260424T091211
CREATED:20190531T132515Z
LAST-MODIFIED:20190531T132515Z
UID:27815-1560198600-1560204000@www.beaucaire.fr
SUMMARY:Spectacle musical
DESCRIPTION:Le Maire de Beaucaire\, son adjointe déléguée à la culture et l’ensemble du conseil municipal vous convient au spectacle musical du Conservatoire Municipal de Beaucaire présenté par les élèves de la section chant le lundi 10 juin 2019 à 20h30. \nRendez-vous au Casino Municipal pour ce spectacle à ne pas manquer !
URL:https://www.beaucaire.fr/evenement/spectacle-musical/
LOCATION:Casino Municipal\, 1\, allée du Casino\, Beaucaire\, 30300\, France
CATEGORIES:Événements,Spectacles
ATTACH;FMTTYPE=image/png:https://www.beaucaire.fr/wp-content/uploads/2019/05/spectacle-de-chant.png
END:VEVENT
BEGIN:VEVENT
DTSTART;TZID=Europe/Paris:20190621T203000
DTEND;TZID=Europe/Paris:20190621T220000
DTSTAMP:20260424T091211
CREATED:20190612T141825Z
LAST-MODIFIED:20190617T080527Z
UID:28026-1561149000-1561154400@www.beaucaire.fr
SUMMARY:Spectacle de fin d'année des élèves du Conservatoire Municipal
DESCRIPTION:La Mairie de Beaucaire vous invite au spectacle de fin d’année des élèves du Conservatoire Municipal le vendredi 21 juin à 20h30 au Casino Municipal. \n\nEntrée libre \n> Casino Municipal\n1 allée du Casino \nInformations au 04 66 59 38 24
URL:https://www.beaucaire.fr/evenement/spectacle-de-fin-dannee-des-eleves-du-conservatoire-municipal/
LOCATION:Casino Municipal\, 1\, allée du Casino\, Beaucaire\, 30300\, France
CATEGORIES:Événements,Spectacles
ATTACH;FMTTYPE=image/png:https://www.beaucaire.fr/wp-content/uploads/2019/06/carre-web-2.png
END:VEVENT
BEGIN:VEVENT
DTSTART;TZID=Europe/Paris:20190623T140000
DTEND;TZID=Europe/Paris:20190623T180000
DTSTAMP:20260424T091211
CREATED:20190219T131644Z
LAST-MODIFIED:20190902T132958Z
UID:25189-1561298400-1561312800@www.beaucaire.fr
SUMMARY:Après-midi dansant
DESCRIPTION:Le CCAS et la Mairie de Beaucaire vous donnent rendez-vous le dimanche 23 juin\, pour un après-midi dansant. \nRetrouvez ci-dessous le programme complet de l’année. \nLES APRÈS-MIDIS DANSANTS\nde 14h à 18h\nEntrée gratuite – Goûters et animations offerts par le CCAS et la Mairie de Beaucaire.\nBuvette payante\n \n  \nDimanche 23 juin\nNathalie Morgane et son orchestre Jeroboam \nDimanche 15 septembre\nAlan Flor Animation \nMercredi 23 octobre\nOrchestre Génération Musette \nDimanche 24 novembre\nOrchestre Lionel Chayas Animation \n  \nLA SOIRÉE DANSANTE\nOrchestre Lionel Chayas Animation \nde 20h30 à 1h\n Entrée gratuite – animation offerte par le CCAS et la Mairie de Beaucaire.\nBuvette payante \n  \nInformations : 04 66 59 36 35
URL:https://www.beaucaire.fr/evenement/apres-midi-dansant-3/
LOCATION:Casino Municipal\, 1\, allée du Casino\, Beaucaire\, 30300\, France
CATEGORIES:Spectacles
ATTACH;FMTTYPE=image/jpeg:https://www.beaucaire.fr/wp-content/uploads/2019/01/CARRE-WEB-4.jpg
ORGANIZER;CN="C.C.A.S.":MAILTO:ccas@beaucaire.fr
END:VEVENT
BEGIN:VEVENT
DTSTART;TZID=Europe/Paris:20190629T203000
DTEND;TZID=Europe/Paris:20190629T220000
DTSTAMP:20260424T091211
CREATED:20190531T134836Z
LAST-MODIFIED:20190531T134836Z
UID:27818-1561840200-1561845600@www.beaucaire.fr
SUMMARY:Spectacle de danse des élèves du Conservatoire Municipal
DESCRIPTION:La Mairie de Beaucaire vous invite au spectacle de danse des élèves du Conservatoire Municipal le samedi 29 juin à 20h30 au Casino Municipal. \nEntrée libre \n> Casino Municipal\nallée du Casino \n\nInformations au 04 66 59 38 24
URL:https://www.beaucaire.fr/evenement/spectacle-de-danse-des-eleves-du-conservatoire-municipal/
LOCATION:Casino Municipal\, 1\, allée du Casino\, Beaucaire\, 30300\, France
CATEGORIES:Événements,Spectacles
ATTACH;FMTTYPE=image/png:https://www.beaucaire.fr/wp-content/uploads/2019/05/gala-de-danse.png
END:VEVENT
BEGIN:VEVENT
DTSTART;TZID=Europe/Paris:20190630T170000
DTEND;TZID=Europe/Paris:20190630T183000
DTSTAMP:20260424T091211
CREATED:20190531T135305Z
LAST-MODIFIED:20190531T135305Z
UID:27823-1561914000-1561919400@www.beaucaire.fr
SUMMARY:Spectacle de danse des élèves du Conservatoire Municipal
DESCRIPTION:La Mairie de Beaucaire vous invite au spectacle de danse des élèves du Conservatoire Municipal le dimanche 30 juin à 17h au Casino Municipal. \nEntrée libre \n> Casino Municipal\n1\, allée du Casino \n\nInformations au 04 66 59 38 24
URL:https://www.beaucaire.fr/evenement/spectacle-de-danse-des-eleves-du-conservatoire-municipal-2/
LOCATION:Casino Municipal\, 1\, allée du Casino\, Beaucaire\, 30300\, France
CATEGORIES:Événements,Spectacles
ATTACH;FMTTYPE=image/png:https://www.beaucaire.fr/wp-content/uploads/2019/05/gala-de-danse-du-30.06.png
END:VEVENT
END:VCALENDAR