BEGIN:VCALENDAR
VERSION:2.0
PRODID:-//Le site officiel de la Ville de Beaucaire - ECPv6.7.0//NONSGML v1.0//EN
CALSCALE:GREGORIAN
METHOD:PUBLISH
X-ORIGINAL-URL:https://www.beaucaire.fr
X-WR-CALDESC:Évènements pour Le site officiel de la Ville de Beaucaire
REFRESH-INTERVAL;VALUE=DURATION:PT1H
X-Robots-Tag:noindex
X-PUBLISHED-TTL:PT1H
BEGIN:VTIMEZONE
TZID:Europe/Paris
BEGIN:DAYLIGHT
TZOFFSETFROM:+0100
TZOFFSETTO:+0200
TZNAME:CEST
DTSTART:20190331T010000
END:DAYLIGHT
BEGIN:STANDARD
TZOFFSETFROM:+0200
TZOFFSETTO:+0100
TZNAME:CET
DTSTART:20191027T010000
END:STANDARD
END:VTIMEZONE
BEGIN:VEVENT
DTSTART;TZID=Europe/Paris:20190705T190000
DTEND;TZID=Europe/Paris:20190830T233000
DTSTAMP:20260424T073123
CREATED:20190628T143821Z
LAST-MODIFIED:20190902T133103Z
UID:28743-1562353200-1567207800@www.beaucaire.fr
SUMMARY:Les Vendredis de Beaucaire 2019
DESCRIPTION:Les Vendredis de Beaucaire (anciennement Les Beaux Quais)\, animent le port de plaisance et le cœur de ville chaque vendredi de juillet et août. Les Beaucairois et les touristes viennent ainsi profiter\, dès 19h\, d’un marché artisanal de qualité le long du canal du Rhône à Sète. Les bars et restaurants de la ville organisent à cette occasion des animations musicales diverses et variées. L’ambiance y est décontractée\, il fait bon y flâner entre amis ou en famille. Les Vendredis de Beaucaire\, c’est aussi\, chaque vendredi de l’été dès 21h30\, un spectacle ou un concert gratuit sur la place Georges Clemenceau (devant la Mairie)\, offert par la Ville.\n– Dès 19h : Marché nocturne\, artistes de rue et déambulations (Port de plaisance)\n– Dès 21h : SPECTACLES gratuits (Place Georges Clemenceau) \nAu programme : \nVendredi 05 juillet : Élection de Miss Beaucaire \nVendredi 12 juillet : Grand spectacle équestre \nVendredi 19 juillet : Grand tournoi de joutes \nVendredi 02 août : Concert Latino avec Caramelo Latino \nVendredi 09 août : Concert de jazz manouche et de musiques gitanes avec Drom Blanchard Trio \nVendredi 16 août : Alain Sebbah chante Serge Lama et Michel Delpech  avec le Richard Gardet Orchestra \nVendredi 23 août : Concert pop rock avec le groupe Orblue \nVendredi 30 août : Concert de Julie Zenatti – Tournée d’été La Provence \n  \n \n 
URL:https://www.beaucaire.fr/evenement/les-vendredis-de-beaucaire/
LOCATION:Place Georges Clemenceau\, Place Georges Clemenceau\, Beaucaire\, 30300\, France
CATEGORIES:Événements,Fête,Les Vendredis de Beaucaire,Spectacles
ATTACH;FMTTYPE=image/png:https://www.beaucaire.fr/wp-content/uploads/2019/06/Facebook_Vendredis.png
END:VEVENT
BEGIN:VEVENT
DTSTART;TZID=Europe/Paris:20190705T213000
DTEND;TZID=Europe/Paris:20190705T233000
DTSTAMP:20260424T073124
CREATED:20190604T143138Z
LAST-MODIFIED:20190621T105138Z
UID:27896-1562362200-1562369400@www.beaucaire.fr
SUMMARY:Les Vendredis de Beaucaire : Élection de Miss Beaucaire 2019
DESCRIPTION:Les Vendredis de Beaucaire (anciennement Les Beaux Quais)\, animent le port de plaisance et le cœur de ville chaque vendredi de juillet et août. Les Beaucairois et les touristes viennent ainsi profiter\, dès 19h\, d’un marché artisanal de qualité sur le Port de Plaisance. Les bars et restaurants de la ville organisent à cette occasion des animations musicales diverses et variées. L’ambiance y est décontractée\, il fait bon y flâner entre amis ou en famille. Les Vendredis de Beaucaire\, c’est aussi\, chaque vendredi de l’été dès 21h30\, un spectacle ou un concert gratuit sur la place Georges Clemenceau (devant la Mairie)\, offert par la Ville. \n– Dès 19h : Marché nocturne\, artistes de rue et déambulations (Port de plaisance)\n– Dès 21h : Election de Miss Beaucaire 2019 en présence de Vaimalama Chaves\, Miss France 2019 (Place Georges Clemenceau) \nUn événement gratuit\, proposé par la Mairie de Beaucaire. \n 
URL:https://www.beaucaire.fr/evenement/les-vendredis-de-beaucaire-elesction-de-miss-beaucaire-2019/
LOCATION:Place Georges Clemenceau\, Place Georges Clemenceau\, Beaucaire\, 30300\, France
CATEGORIES:Événements,Les Vendredis de Beaucaire,Spectacles
ATTACH;FMTTYPE=image/png:https://www.beaucaire.fr/wp-content/uploads/2019/06/vignette-miss-beaucaire.png
END:VEVENT
BEGIN:VEVENT
DTSTART;TZID=Europe/Paris:20190712T100000
DTEND;TZID=Europe/Paris:20190714T180000
DTSTAMP:20260424T073124
CREATED:20190612T125441Z
LAST-MODIFIED:20190612T125634Z
UID:28007-1562925600-1563127200@www.beaucaire.fr
SUMMARY:Les Rencontres Équestres 2019
DESCRIPTION:Cette année\, les Rencontres Équestres se tiendront du vendredi 12 au dimanche 14 juillet 2019.\nComme chaque année\, c’est aux abords du Rhône\, à l’ombre des très nombreux platanes\, que se déroule cet événement majeur.\nCette grande manifestation\, qui rayonne bien au-delà de nos frontières\, rassemble plus de 500 chevaux (venus d’Espagne\, du Portugal\, de France et de Belgique…)\, ce qui en fait l’un des plus grands rassemblement de chevaux d’Europe. \nPendant 3 jours\, du vendredi au dimanche\, les Rencontres Équestres de Beaucaire accueillent de prestigieuses compétitions : championnat de France « modèle et allure »\, concours d’équitation western\, master du cheval ibérique (dressage)\,… \nAu-delà de ces compétitions\, le public peut participer à de nombreuses initiations\, flâner entre les boxes\, assister aux représentations et au grand spectacle nocturne équestre du vendredi soir (particulièrement beau) tout en dînant sur place pendant ce temps. \nDepuis 2015\, à la demande du Maire\, les enfants ne sont pas en reste avec un espace qui leur est dédié (animations et initiation à la voltige). Et\, bonne nouvelle\, tout est entièrement gratuit ! \nAu programme :  \nVendredi 12 juillet (Vendredi de Beaucaire)\nà partir de 19h\nMarché nocturne – Port de Plaisance \n21h30\nGrand spectacle équestre avec G. Zoher\, C. & A. Hasta Luego\, L. Douziech\, M. Cassan – Place Georges Clemenceau\nGratuit \nSamedi 13 juillet\n13h et 21h\nSpectacle équestre offert par la Mairie de Beaucaire au Champ de Foire\nEntrée libre \nInformations au 04 66 59 10 06
URL:https://www.beaucaire.fr/evenement/les-rencontres-equestres-2019/
LOCATION:Champ de foire\, Champ de foire\, Beaucaire\, 30300\, France
CATEGORIES:Événements,Les Vendredis de Beaucaire,Spectacles
ATTACH;FMTTYPE=image/png:https://www.beaucaire.fr/wp-content/uploads/2019/06/carre-web.png
END:VEVENT
BEGIN:VEVENT
DTSTART;TZID=Europe/Paris:20190712T213000
DTEND;TZID=Europe/Paris:20190712T233000
DTSTAMP:20260424T073124
CREATED:20190604T144030Z
LAST-MODIFIED:20190604T144147Z
UID:27900-1562967000-1562974200@www.beaucaire.fr
SUMMARY:Les Vendredis de Beaucaire : Grand spectacle équestre
DESCRIPTION:Les Vendredis de Beaucaire (anciennement Les Beaux Quais)\, animent le port de plaisance et le cœur de ville chaque vendredi de juillet et août. Les Beaucairois et les touristes viennent ainsi profiter\, dès 19h\, d’un marché artisanal de qualité le long du canal du Rhône à Sète. Les bars et restaurants de la ville organisent à cette occasion des animations musicales diverses et variées. L’ambiance y est décontractée\, il fait bon y flâner entre amis ou en famille. Les Vendredis de Beaucaire\, c’est aussi\, chaque vendredi de l’été dès 21h30\, un spectacle ou un concert gratuit sur la place Georges Clemenceau (devant la Mairie)\, offert par la Ville.\n– Dès 19h : Marché nocturne\, artistes de rue et déambulations (Port de plaisance)\n– Dès 21h : Grand spectacle équestre avec G.Zoher\, C. Hasta Luego\, A. Hasta Luego\, L. Douziech\, M.Cassan (Place Georges Clemenceau) \n> Un événement gratuit\, proposé par la Mairie de Beaucaire. \n 
URL:https://www.beaucaire.fr/evenement/27900/
LOCATION:Place Georges Clemenceau\, Place Georges Clemenceau\, Beaucaire\, 30300\, France
CATEGORIES:Événements,Les Vendredis de Beaucaire,Spectacles
ATTACH;FMTTYPE=image/jpeg:https://www.beaucaire.fr/wp-content/uploads/2019/06/2-e1559659145985.jpg
END:VEVENT
BEGIN:VEVENT
DTSTART;TZID=Europe/Paris:20190725T180000
DTEND;TZID=Europe/Paris:20190729T233000
DTSTAMP:20260424T073124
CREATED:20190623T093005Z
LAST-MODIFIED:20190721T143358Z
UID:28355-1564077600-1564443000@www.beaucaire.fr
SUMMARY:Salon Taurin 2019
DESCRIPTION:Chaque année en juillet\, durant 5 jours\, le parking des Arènes est transformé en « Salon Taurin ». C’est la féria locale : bonne humeur\, décontraction\, danse dans la convivialité. Tous les Beaucairois se retrouvent\, ainsi que de nombreux voisins et touristes. Chaque jour\, dès 18h\, des bodégas associatives vous accueillent pour commencer la soirée avec le sourire à l’heure de l’apéritif puis vous proposent de dîner au pied du Château de Beaucaire et devant la grande scène du Salon Taurin. Puis\, à 21h30\, la Ville de Beaucaire offre gratuitement un spectacle différent chaque soir ! \nAu programme : \nJeudi 25 juillet : Soirée Musicale avec l’orchestre Jean Ribul \nVendredi 26 juillet : Soirée Disco avec la troupe Frenchy suivie du Richard Gardet Orchestra \nSamedi 27 juillet : Soirée Cabaret avec Idyllium Cabaret suivi de l’orchestre Show Lorca \nDimanche 28 juillet : Soirée Gipsy Kings avec Diego Baliardo from Gipsy Kings suivi du Richard Gardet orchestra \n\nLundi 29 juillet : Soirée Variétés avec l’Orchestre Cocktail de nuit \n  \nLes Bodégas et restauration du Champ de Foire :\n– Gym Flip Beaucaire Tarascon – 06 62 58 97 70\n– Stade Beaucairois 30 – 06 28 27 15 91 – 06 23 78 61 93 – 06 19 94 63 23\n– Les Chevaliers – 06 27 07 58 34\n– Tennis Club Beaucairois – 06 22 28 12 96\n– Espoir Football Club Beaucairois – 06 51 69 71 96\n– Aficion Taurine Beaucairoise – 07 67 60 89 12 – www.atbbeaucaire.com \nLes autres Bodégas :\n– Espace le Chalet – Champ de Foire – 06 10 51 26 87\n– Amicale des Sapeurs Pompiers de Beaucaire – 04 66 59 84 84 – Avenue des Anciens Combattants d’Afrique du Nord\n– La Guinguette des Arènes – 1 Avenue des Arènes – 04 66 58 06 88
URL:https://www.beaucaire.fr/evenement/salon-taurin-2019/
LOCATION:Champ de foire\, Champ de foire\, Beaucaire\, 30300\, France
CATEGORIES:Événements,Fête,Spectacles
ATTACH;FMTTYPE=image/png:https://www.beaucaire.fr/wp-content/uploads/2019/06/Carré_Web.png
END:VEVENT
BEGIN:VEVENT
DTSTART;TZID=Europe/Paris:20190727T180000
DTEND;TZID=Europe/Paris:20190727T200000
DTSTAMP:20260424T073124
CREATED:20190710T084809Z
LAST-MODIFIED:20190723T130503Z
UID:29328-1564250400-1564257600@www.beaucaire.fr
SUMMARY:Spectacle Landais
DESCRIPTION:Le samedi 27  juillet à 18h aux Arènes Municipales Paul Laurent\, la Mairie de Beaucaire organise pour la première fois un spectacle Landais ! \nLandes Émotions permet de manière contemporaine\, festive et originale de plonger les spectateurs au cœur de cet art de vivre\, en partageant des moments d’émotions\, d’identités locales\, de frissons et de traditions. La richesse artistique et émotionnelle de cet événement est l’occasion de découvrir ou redécouvrir\, les symboles culturels qui façonnent ce territoire : tauromachie\, bandas\, échassier\, chevaux\, feria\, vaches landaises et bien d’autres particularités qui valorisent les Landes.\nConté au travers de tableaux\, son et lumière respectant l’authenticité de la culture\, Landes Émotions offre aux spectateurs une expérience 100 % landaise. \nUn rendez-vous à partager en famille ou entre amis. \nBilletterie en Mairie de Beaucaire ou aux Arènes le jour du spectacle : \nTarif plein : 10€\nTarif réduit : 6€ pour les jeunes de 12 à 16 ans et pour les retraités Beaucairois (à partir de 65 ans sur présentation d’une carte d’identité et d’un justificatif de domicile)\nGratuit pour les moins de 12 ans accompagnés d’un adulte et les personnes handicapées sur présentation de la carte d’invalidité. \nInformations :  04 66 59 10 06 \nArènes Municipales Paul Laurent\nChamp de Foire \n \n 
URL:https://www.beaucaire.fr/evenement/spectacle-landais/
LOCATION:Champ de foire\, Champ de foire\, Beaucaire\, 30300\, France
CATEGORIES:Spectacles
ATTACH;FMTTYPE=image/jpeg:https://www.beaucaire.fr/wp-content/uploads/2019/07/Spectacle_Landais.jpg
END:VEVENT
END:VCALENDAR