BEGIN:VCALENDAR
VERSION:2.0
PRODID:-//Le site officiel de la Ville de Beaucaire - ECPv6.7.0//NONSGML v1.0//EN
CALSCALE:GREGORIAN
METHOD:PUBLISH
X-ORIGINAL-URL:https://www.beaucaire.fr
X-WR-CALDESC:Évènements pour Le site officiel de la Ville de Beaucaire
REFRESH-INTERVAL;VALUE=DURATION:PT1H
X-Robots-Tag:noindex
X-PUBLISHED-TTL:PT1H
BEGIN:VTIMEZONE
TZID:Europe/Paris
BEGIN:DAYLIGHT
TZOFFSETFROM:+0100
TZOFFSETTO:+0200
TZNAME:CEST
DTSTART:20190331T010000
END:DAYLIGHT
BEGIN:STANDARD
TZOFFSETFROM:+0200
TZOFFSETTO:+0100
TZNAME:CET
DTSTART:20191027T010000
END:STANDARD
END:VTIMEZONE
BEGIN:VEVENT
DTSTART;TZID=Europe/Paris:20190915T140000
DTEND;TZID=Europe/Paris:20190915T180000
DTSTAMP:20260424T041839
CREATED:20190219T132129Z
LAST-MODIFIED:20190902T133005Z
UID:25191-1568556000-1568570400@www.beaucaire.fr
SUMMARY:Après-midi dansant
DESCRIPTION:Le CCAS et la Mairie de Beaucaire vous donnent rendez-vous le dimanche 15 septembre\, pour un après-midi dansant. \nRetrouvez ci-dessous le programme complet de l’année. \nLES APRÈS-MIDIS DANSANTS\nde 14h à 18h\nEntrée gratuite – Goûters et animations offerts par le CCAS et la Mairie de Beaucaire.\nBuvette payante\n \n  \nDimanche 15 septembre\nAlan Flor Animation \nMercredi 23 octobre\nOrchestre Génération Musette \nDimanche 24 novembre\nOrchestre Lionel Chayas Animation \n  \nLA SOIRÉE DANSANTE\nOrchestre Lionel Chayas Animation \nde 20h30 à 1h\n Entrée gratuite – animation offerte par le CCAS et la Mairie de Beaucaire.\nBuvette payante \n  \nInformations : 04 66 59 36 35
URL:https://www.beaucaire.fr/evenement/apres-midi-dansant-4/
CATEGORIES:Spectacles
ATTACH;FMTTYPE=image/jpeg:https://www.beaucaire.fr/wp-content/uploads/2019/01/CARRE-WEB-4.jpg
ORGANIZER;CN="C.C.A.S.":MAILTO:ccas@beaucaire.fr
END:VEVENT
END:VCALENDAR