BEGIN:VCALENDAR
VERSION:2.0
PRODID:-//Le site officiel de la Ville de Beaucaire - ECPv6.7.0//NONSGML v1.0//EN
CALSCALE:GREGORIAN
METHOD:PUBLISH
X-ORIGINAL-URL:https://www.beaucaire.fr
X-WR-CALDESC:Évènements pour Le site officiel de la Ville de Beaucaire
REFRESH-INTERVAL;VALUE=DURATION:PT1H
X-Robots-Tag:noindex
X-PUBLISHED-TTL:PT1H
BEGIN:VTIMEZONE
TZID:Europe/Paris
BEGIN:DAYLIGHT
TZOFFSETFROM:+0100
TZOFFSETTO:+0200
TZNAME:CEST
DTSTART:20190331T010000
END:DAYLIGHT
BEGIN:STANDARD
TZOFFSETFROM:+0200
TZOFFSETTO:+0100
TZNAME:CET
DTSTART:20191027T010000
END:STANDARD
END:VTIMEZONE
BEGIN:VEVENT
DTSTART;TZID=Europe/Paris:20191213T183000
DTEND;TZID=Europe/Paris:20191213T193000
DTSTAMP:20260423T230443
CREATED:20191122T130319Z
LAST-MODIFIED:20191122T130623Z
UID:36806-1576261800-1576265400@www.beaucaire.fr
SUMMARY:Tinta et le livre de Noël
DESCRIPTION:Une aventure de Noël fantastique et interactive.  \nTinta a perdu son doudou et depuis\, elle est très grognon. Elle va découvrir dans l’atelier du Père Noël\, un grand livre magique dont s’échapperont de merveilleuses aventures :  » Il était une fois\, l’oiseau amoureux de la lune\, le sapin qui se sentait seul ou encore un vieil homme et la sirène…ces histoires\, aideront Tinta à comprendre le véritable sens de Noël\, et qui sait\, peut être retrouvera-t-elle doudou au bout du compte… après tout\, la nuit de Noël\, tout est possible !  » \nUne jolie mise en scène avec un décor créatif et poétique\, un livre géant dont chaque page dévoile un univers différent\, de l’interaction\, des émotions\, des marionnettes\, des surprises\, des chansons…tous les ingrédients réunis pour un spectacle réussi ! \n>> Bibliothèque Municipal – 1 rue Roger Pascal\nJeune public (de 9 mois à 6 ans)  \n  \n \n 
URL:https://www.beaucaire.fr/evenement/tinta-et-le-livre-de-noel/
LOCATION:Bibliothèque Municipale\, 1 rue Roger Pascal\, Beaucaire\, 30300\, France
CATEGORIES:Spectacles
ATTACH;FMTTYPE=image/jpeg:https://www.beaucaire.fr/wp-content/uploads/2019/11/Tinta-et-le-livre-de-Noël-carre-Web.jpg
END:VEVENT
END:VCALENDAR