BEGIN:VCALENDAR
VERSION:2.0
PRODID:-//Le site officiel de la Ville de Beaucaire - ECPv6.7.0//NONSGML v1.0//EN
CALSCALE:GREGORIAN
METHOD:PUBLISH
X-ORIGINAL-URL:https://www.beaucaire.fr
X-WR-CALDESC:Évènements pour Le site officiel de la Ville de Beaucaire
REFRESH-INTERVAL;VALUE=DURATION:PT1H
X-Robots-Tag:noindex
X-PUBLISHED-TTL:PT1H
BEGIN:VTIMEZONE
TZID:Europe/Paris
BEGIN:DAYLIGHT
TZOFFSETFROM:+0100
TZOFFSETTO:+0200
TZNAME:CEST
DTSTART:20220327T010000
END:DAYLIGHT
BEGIN:STANDARD
TZOFFSETFROM:+0200
TZOFFSETTO:+0100
TZNAME:CET
DTSTART:20221030T010000
END:STANDARD
END:VTIMEZONE
BEGIN:VEVENT
DTSTART;TZID=Europe/Paris:20220218T183000
DTEND;TZID=Europe/Paris:20220218T200000
DTSTAMP:20260422T102019
CREATED:20220210T093400Z
LAST-MODIFIED:20220210T093400Z
UID:56963-1645209000-1645214400@www.beaucaire.fr
SUMMARY:Les ptits Grain
DESCRIPTION:Ce vendredi 18 février à 18h30 la compagnie « Du sable dans le maillot » présente son spectacle «Les P’tits Grains» à la bibliothèque municipale.\nUn cabaret ludique de scènes de cinéma avec Nina Richard\, Florian Martinet\, la troupe du thêatre des Rocailles et la participation des élèves du Conservatoire.\nPour tous public\, ce spectacle ravira petits et grands\nBibliothèque municipale\nAngle rue Roger Pascal / Cours Gambetta\nEntrée gratuite – Mesures gouvernementales : Pass vaccinal et port du masque
URL:https://www.beaucaire.fr/evenement/les-ptits-grain/
LOCATION:Bibliothèque Municipale\, 1 rue Roger Pascal\, Beaucaire\, 30300\, France
CATEGORIES:Spectacles
ATTACH;FMTTYPE=image/png:https://www.beaucaire.fr/wp-content/uploads/Spectacle-les-petits-grains_Affiche-A3_V2.png
END:VEVENT
BEGIN:VEVENT
DTSTART;TZID=Europe/Paris:20220220T153000
DTEND;TZID=Europe/Paris:20220220T170000
DTSTAMP:20260422T102019
CREATED:20210909T115800Z
LAST-MODIFIED:20210913T130220Z
UID:51449-1645371000-1645376400@www.beaucaire.fr
SUMMARY:LES STARS DU SHOWBIZ 
DESCRIPTION:LES STARS DU SHOWBIZ\nSpectacle musical chorégraphié par Richard Gardet Orchestra\n\nSous forme de spectacle musical\, retrouvez les grandes stars des 50 dernières années : Claude Nougaro\, Dalida\, Florent Pagny\, Michel Sardou\, Charles Aznavour\, Gilbert Bécaud\, Dave\, Serge Lama\, Madonna\, Daniel Balavoine\, Patrick Bruel\, Jean Yanne et Mylène Farmer.\n\nUn beau moment où tous les refrains bien connus sont repris par le public autour des monuments incontournables de la chanson française et internationale.\n\nRéservez dès à présent sur FNAC.com
URL:https://www.beaucaire.fr/evenement/les-stars-du-showbiz/
LOCATION:Casino Municipal\, 1\, allée du Casino\, Beaucaire\, 30300\, France
CATEGORIES:Animation culturelle,Culture,Saison culturelle,Spectacles
ATTACH;FMTTYPE=image/jpeg:https://www.beaucaire.fr/wp-content/uploads/43880738_2257905837763029_2414655842449096704_o.jpg
END:VEVENT
END:VCALENDAR