BEGIN:VCALENDAR
VERSION:2.0
PRODID:-//Le site officiel de la Ville de Beaucaire - ECPv6.7.0//NONSGML v1.0//EN
CALSCALE:GREGORIAN
METHOD:PUBLISH
X-ORIGINAL-URL:https://www.beaucaire.fr
X-WR-CALDESC:Évènements pour Le site officiel de la Ville de Beaucaire
REFRESH-INTERVAL;VALUE=DURATION:PT1H
X-Robots-Tag:noindex
X-PUBLISHED-TTL:PT1H
BEGIN:VTIMEZONE
TZID:Europe/Paris
BEGIN:DAYLIGHT
TZOFFSETFROM:+0100
TZOFFSETTO:+0200
TZNAME:CEST
DTSTART:20220327T010000
END:DAYLIGHT
BEGIN:STANDARD
TZOFFSETFROM:+0200
TZOFFSETTO:+0100
TZNAME:CET
DTSTART:20221030T010000
END:STANDARD
END:VTIMEZONE
BEGIN:VEVENT
DTSTART;TZID=Europe/Paris:20220615T190000
DTEND;TZID=Europe/Paris:20220615T210000
DTSTAMP:20260422T043728
CREATED:20220614T141032Z
LAST-MODIFIED:20220614T141240Z
UID:59939-1655319600-1655326800@www.beaucaire.fr
SUMMARY:Spectacle de fin d'année des élèves du conservatoire
DESCRIPTION:Le Maire de Beaucaire\, son adjointe déléguée à la culture\, sa conseillère municipale déléguée au conservatoire et l’ensemble du conseil municipal vous convient au spectacle de fin d’année des élèves du Conservatoire Municipal de Beaucaire présenté par l’ensemble des élèves de chaque formation\, ce mercredi 16 juin 2022 à 19h.\n\n\nThéâtre\, musique \, chant…\nLes élèves de toutes les disciplines se produiront sur la scène du Casino Municipal de Beaucaire pour ce spectacle à ne pas manquer !\nGratuit – Ouvert à tous
URL:https://www.beaucaire.fr/evenement/spectacle-de-fin-dannee-des-eleves-du-conservatoire/
LOCATION:Casino Municipal\, 1\, allée du Casino\, Beaucaire\, 30300\, France
CATEGORIES:Spectacles
ATTACH;FMTTYPE=image/png:https://www.beaucaire.fr/wp-content/uploads/Spectacle-de-fin-dannee-des-eleves-du-conservatoire_RS-.png
END:VEVENT
END:VCALENDAR