BEGIN:VCALENDAR
VERSION:2.0
PRODID:-//Le site officiel de la Ville de Beaucaire - ECPv6.7.0//NONSGML v1.0//EN
CALSCALE:GREGORIAN
METHOD:PUBLISH
X-ORIGINAL-URL:https://www.beaucaire.fr
X-WR-CALDESC:Évènements pour Le site officiel de la Ville de Beaucaire
REFRESH-INTERVAL;VALUE=DURATION:PT1H
X-Robots-Tag:noindex
X-PUBLISHED-TTL:PT1H
BEGIN:VTIMEZONE
TZID:Europe/Paris
BEGIN:DAYLIGHT
TZOFFSETFROM:+0100
TZOFFSETTO:+0200
TZNAME:CEST
DTSTART:20220327T010000
END:DAYLIGHT
BEGIN:STANDARD
TZOFFSETFROM:+0200
TZOFFSETTO:+0100
TZNAME:CET
DTSTART:20221030T010000
END:STANDARD
END:VTIMEZONE
BEGIN:VEVENT
DTSTART;TZID=Europe/Paris:20221108T203000
DTEND;TZID=Europe/Paris:20221108T230000
DTSTAMP:20260421T204528
CREATED:20221103T145125Z
LAST-MODIFIED:20221103T145445Z
UID:66453-1667939400-1667948400@www.beaucaire.fr
SUMMARY:Spectacle Pierre Diot
DESCRIPTION:Rendez-vous le mardi 8 novembre au Casino Municipal de Beaucaire à 20h30 pour un spectacle de Pierre Diot en faveur du Téléthon !\n\n\nPierre Diot passe un entretien d’embauche en 2034 à POLE PLEIN EMPLOI.\nIl doit raconter sa vie\, son enfance\, ses expériences professionnelles…ses rencontres.\n\n\nVous verrez défiler tour à tour plusieurs personnages truculents… Une journaliste arracheuse de larmes\, une psychothérapeute psychopathe\, un petit chaperon rouge en cellule psychologique\, un directeur de zoo en plein burn out ou un prof hors programme…\n\n\nUn beau moment de rire garantit !\n\n\nSans plus attendre\, réservez vos places auprès du CCAS de la ville de Beaucaire\, 04 66 59 36 35 ou directement en ligne : https://bit.ly/3h436EA \nTarifs :\nAdultes 10€\nEnfants (moins de 12ans) 5€
URL:https://www.beaucaire.fr/evenement/spectacle-pierre-diot/
LOCATION:Casino Municipal\, 1\, allée du Casino\, Beaucaire\, 30300\, France
CATEGORIES:Spectacles
ATTACH;FMTTYPE=image/png:https://www.beaucaire.fr/wp-content/uploads/Pierre-Diot-Affiche-Spectacle.png
END:VEVENT
END:VCALENDAR