BEGIN:VCALENDAR
VERSION:2.0
PRODID:-//Le site officiel de la Ville de Beaucaire - ECPv6.7.0//NONSGML v1.0//EN
CALSCALE:GREGORIAN
METHOD:PUBLISH
X-ORIGINAL-URL:https://www.beaucaire.fr
X-WR-CALDESC:Évènements pour Le site officiel de la Ville de Beaucaire
REFRESH-INTERVAL;VALUE=DURATION:PT1H
X-Robots-Tag:noindex
X-PUBLISHED-TTL:PT1H
BEGIN:VTIMEZONE
TZID:Europe/Paris
BEGIN:DAYLIGHT
TZOFFSETFROM:+0100
TZOFFSETTO:+0200
TZNAME:CEST
DTSTART:20230326T010000
END:DAYLIGHT
BEGIN:STANDARD
TZOFFSETFROM:+0200
TZOFFSETTO:+0100
TZNAME:CET
DTSTART:20231029T010000
END:STANDARD
END:VTIMEZONE
BEGIN:VEVENT
DTSTART;TZID=Europe/Paris:20230510T190000
DTEND;TZID=Europe/Paris:20230510T203000
DTSTAMP:20260421T115431
CREATED:20230508T073344Z
LAST-MODIFIED:20230508T073344Z
UID:71457-1683745200-1683750600@www.beaucaire.fr
SUMMARY:Théâtre
DESCRIPTION:🎭Le Maire de Beaucaire\, son adjointe déléguée à la culture\, sa conseillère municipale déléguée au conservatoire et l’ensemble du conseil municipal vous convient au spectacle de théâtre des élèves du groupe enfant et adolescent du Conservatoire Municipal de Beaucaire le mercredi 10 mai 2023 à 19h.\n\n\n \n\n\nRendez-vous au Casino Municipal pour assister à un extrait des pièces » Fantaisie pour téléphone portables » de Pauline Noblecourt et « Le Parasol de Robinson » de Stéphanie Leclerc\n\n\n \n\n\n \n\n\nGratuit – Ouvert à tous
URL:https://www.beaucaire.fr/evenement/theatre/
LOCATION:Casino Municipal\, 1\, allée du Casino\, Beaucaire\, 30300\, France
CATEGORIES:Spectacles
ATTACH;FMTTYPE=image/png:https://www.beaucaire.fr/wp-content/uploads/Capture-16.png
END:VEVENT
END:VCALENDAR