BEGIN:VCALENDAR
VERSION:2.0
PRODID:-//Le site officiel de la Ville de Beaucaire - ECPv6.7.0//NONSGML v1.0//EN
CALSCALE:GREGORIAN
METHOD:PUBLISH
X-ORIGINAL-URL:https://www.beaucaire.fr
X-WR-CALDESC:Évènements pour Le site officiel de la Ville de Beaucaire
REFRESH-INTERVAL;VALUE=DURATION:PT1H
X-Robots-Tag:noindex
X-PUBLISHED-TTL:PT1H
BEGIN:VTIMEZONE
TZID:Europe/Paris
BEGIN:DAYLIGHT
TZOFFSETFROM:+0100
TZOFFSETTO:+0200
TZNAME:CEST
DTSTART:20180325T010000
END:DAYLIGHT
BEGIN:STANDARD
TZOFFSETFROM:+0200
TZOFFSETTO:+0100
TZNAME:CET
DTSTART:20181028T010000
END:STANDARD
END:VTIMEZONE
BEGIN:VEVENT
DTSTART;TZID=Europe/Paris:20180613T203000
DTEND;TZID=Europe/Paris:20180613T223000
DTSTAMP:20260425T204838
CREATED:20180601T093326Z
LAST-MODIFIED:20180601T095120Z
UID:17288-1528921800-1528929000@www.beaucaire.fr
SUMMARY:Spectacle de fin d'année des élèves de chant du Conservatoire Municipal
DESCRIPTION:La Mairie de Beaucaire vous invite au spectacle de fin d’année des élèves de chant du Conservatoire Municipal le mercredi 13 juin à 20h30 au Casino Municipal. \n\nEntrée libre \n> Casino Municipal\n2 rue du Champ de Foire \nInformations au 04 66 59 38 24
URL:https://www.beaucaire.fr/evenement/spectacle-de-fin-dannee-eleves-de-chant-conservatoire-municipal/
LOCATION:Casino Municipal\, 1\, allée du Casino\, Beaucaire\, 30300\, France
CATEGORIES:Spectacles
ATTACH;FMTTYPE=image/jpeg:https://www.beaucaire.fr/wp-content/uploads/2018/06/shutterstock_141727294.jpg
END:VEVENT
END:VCALENDAR