BEGIN:VCALENDAR
VERSION:2.0
PRODID:-//Le site officiel de la Ville de Beaucaire - ECPv6.7.0//NONSGML v1.0//EN
CALSCALE:GREGORIAN
METHOD:PUBLISH
X-ORIGINAL-URL:https://www.beaucaire.fr
X-WR-CALDESC:Évènements pour Le site officiel de la Ville de Beaucaire
REFRESH-INTERVAL;VALUE=DURATION:PT1H
X-Robots-Tag:noindex
X-PUBLISHED-TTL:PT1H
BEGIN:VTIMEZONE
TZID:Europe/Paris
BEGIN:DAYLIGHT
TZOFFSETFROM:+0100
TZOFFSETTO:+0200
TZNAME:CEST
DTSTART:20190331T010000
END:DAYLIGHT
BEGIN:STANDARD
TZOFFSETFROM:+0200
TZOFFSETTO:+0100
TZNAME:CET
DTSTART:20191027T010000
END:STANDARD
END:VTIMEZONE
BEGIN:VEVENT
DTSTART;TZID=Europe/Paris:20190517T203000
DTEND;TZID=Europe/Paris:20190517T220000
DTSTAMP:20260424T122801
CREATED:20190503T143629Z
LAST-MODIFIED:20190506T081851Z
UID:27042-1558125000-1558130400@www.beaucaire.fr
SUMMARY:Conservatoire Municipal "Théâtre"
DESCRIPTION:Le Maire de Beaucaire\, son adjointe déléguée à la culture et l’ensemble du conseil municipal vous convient à la pièce de théâtre du Conservatoire Municipal de Beaucaire présenté par les élèves de la section Théâtre le samedi 17 mai 2019 à 20h30. \nRendez-vous au Casino Municipal pour ce spectacle à ne pas manquer !
URL:https://www.beaucaire.fr/evenement/conservatoire-municipal-theatre/
LOCATION:Casino Municipal\, 1\, allée du Casino\, Beaucaire\, 30300\, France
CATEGORIES:Spectacles
ATTACH;FMTTYPE=image/jpeg:https://www.beaucaire.fr/wp-content/uploads/2019/05/Carré-Web-Théâtre.jpg
END:VEVENT
END:VCALENDAR