BEGIN:VCALENDAR
VERSION:2.0
PRODID:-//Le site officiel de la Ville de Beaucaire - ECPv6.7.0//NONSGML v1.0//EN
CALSCALE:GREGORIAN
METHOD:PUBLISH
X-ORIGINAL-URL:https://www.beaucaire.fr
X-WR-CALDESC:Évènements pour Le site officiel de la Ville de Beaucaire
REFRESH-INTERVAL;VALUE=DURATION:PT1H
X-Robots-Tag:noindex
X-PUBLISHED-TTL:PT1H
BEGIN:VTIMEZONE
TZID:Europe/Paris
BEGIN:DAYLIGHT
TZOFFSETFROM:+0100
TZOFFSETTO:+0200
TZNAME:CEST
DTSTART:20190331T010000
END:DAYLIGHT
BEGIN:STANDARD
TZOFFSETFROM:+0200
TZOFFSETTO:+0100
TZNAME:CET
DTSTART:20191027T010000
END:STANDARD
END:VTIMEZONE
BEGIN:VEVENT
DTSTART;TZID=Europe/Paris:20190621T203000
DTEND;TZID=Europe/Paris:20190621T220000
DTSTAMP:20260424T105043
CREATED:20190612T141825Z
LAST-MODIFIED:20190617T080527Z
UID:28026-1561149000-1561154400@www.beaucaire.fr
SUMMARY:Spectacle de fin d'année des élèves du Conservatoire Municipal
DESCRIPTION:La Mairie de Beaucaire vous invite au spectacle de fin d’année des élèves du Conservatoire Municipal le vendredi 21 juin à 20h30 au Casino Municipal. \n\nEntrée libre \n> Casino Municipal\n1 allée du Casino \nInformations au 04 66 59 38 24
URL:https://www.beaucaire.fr/evenement/spectacle-de-fin-dannee-des-eleves-du-conservatoire-municipal/
LOCATION:Casino Municipal\, 1\, allée du Casino\, Beaucaire\, 30300\, France
CATEGORIES:Événements,Spectacles
ATTACH;FMTTYPE=image/png:https://www.beaucaire.fr/wp-content/uploads/2019/06/carre-web-2.png
END:VEVENT
END:VCALENDAR