BEGIN:VCALENDAR
VERSION:2.0
PRODID:-//Le site officiel de la Ville de Beaucaire - ECPv6.7.0//NONSGML v1.0//EN
CALSCALE:GREGORIAN
METHOD:PUBLISH
X-ORIGINAL-URL:https://www.beaucaire.fr
X-WR-CALDESC:Évènements pour Le site officiel de la Ville de Beaucaire
REFRESH-INTERVAL;VALUE=DURATION:PT1H
X-Robots-Tag:noindex
X-PUBLISHED-TTL:PT1H
BEGIN:VTIMEZONE
TZID:Europe/Paris
BEGIN:DAYLIGHT
TZOFFSETFROM:+0100
TZOFFSETTO:+0200
TZNAME:CEST
DTSTART:20190331T010000
END:DAYLIGHT
BEGIN:STANDARD
TZOFFSETFROM:+0200
TZOFFSETTO:+0100
TZNAME:CET
DTSTART:20191027T010000
END:STANDARD
END:VTIMEZONE
BEGIN:VEVENT
DTSTART;TZID=Europe/Paris:20190705T190000
DTEND;TZID=Europe/Paris:20190830T233000
DTSTAMP:20260424T073544
CREATED:20190628T143821Z
LAST-MODIFIED:20190902T133103Z
UID:28743-1562353200-1567207800@www.beaucaire.fr
SUMMARY:Les Vendredis de Beaucaire 2019
DESCRIPTION:Les Vendredis de Beaucaire (anciennement Les Beaux Quais)\, animent le port de plaisance et le cœur de ville chaque vendredi de juillet et août. Les Beaucairois et les touristes viennent ainsi profiter\, dès 19h\, d’un marché artisanal de qualité le long du canal du Rhône à Sète. Les bars et restaurants de la ville organisent à cette occasion des animations musicales diverses et variées. L’ambiance y est décontractée\, il fait bon y flâner entre amis ou en famille. Les Vendredis de Beaucaire\, c’est aussi\, chaque vendredi de l’été dès 21h30\, un spectacle ou un concert gratuit sur la place Georges Clemenceau (devant la Mairie)\, offert par la Ville.\n– Dès 19h : Marché nocturne\, artistes de rue et déambulations (Port de plaisance)\n– Dès 21h : SPECTACLES gratuits (Place Georges Clemenceau) \nAu programme : \nVendredi 05 juillet : Élection de Miss Beaucaire \nVendredi 12 juillet : Grand spectacle équestre \nVendredi 19 juillet : Grand tournoi de joutes \nVendredi 02 août : Concert Latino avec Caramelo Latino \nVendredi 09 août : Concert de jazz manouche et de musiques gitanes avec Drom Blanchard Trio \nVendredi 16 août : Alain Sebbah chante Serge Lama et Michel Delpech  avec le Richard Gardet Orchestra \nVendredi 23 août : Concert pop rock avec le groupe Orblue \nVendredi 30 août : Concert de Julie Zenatti – Tournée d’été La Provence \n  \n \n 
URL:https://www.beaucaire.fr/evenement/les-vendredis-de-beaucaire/
LOCATION:Place Georges Clemenceau\, Place Georges Clemenceau\, Beaucaire\, 30300\, France
CATEGORIES:Événements,Fête,Les Vendredis de Beaucaire,Spectacles
ATTACH;FMTTYPE=image/png:https://www.beaucaire.fr/wp-content/uploads/2019/06/Facebook_Vendredis.png
END:VEVENT
END:VCALENDAR