BEGIN:VCALENDAR
VERSION:2.0
PRODID:-//Le site officiel de la Ville de Beaucaire - ECPv6.7.0//NONSGML v1.0//EN
CALSCALE:GREGORIAN
METHOD:PUBLISH
X-ORIGINAL-URL:https://www.beaucaire.fr
X-WR-CALDESC:Évènements pour Le site officiel de la Ville de Beaucaire
REFRESH-INTERVAL;VALUE=DURATION:PT1H
X-Robots-Tag:noindex
X-PUBLISHED-TTL:PT1H
BEGIN:VTIMEZONE
TZID:Europe/Paris
BEGIN:DAYLIGHT
TZOFFSETFROM:+0100
TZOFFSETTO:+0200
TZNAME:CEST
DTSTART:20190331T010000
END:DAYLIGHT
BEGIN:STANDARD
TZOFFSETFROM:+0200
TZOFFSETTO:+0100
TZNAME:CET
DTSTART:20191027T010000
END:STANDARD
END:VTIMEZONE
BEGIN:VEVENT
DTSTART;TZID=Europe/Paris:20191124T140000
DTEND;TZID=Europe/Paris:20191124T180000
DTSTAMP:20260424T022927
CREATED:20190219T132843Z
LAST-MODIFIED:20190830T163926Z
UID:25196-1574604000-1574618400@www.beaucaire.fr
SUMMARY:Après-midi dansant
DESCRIPTION:Le CCAS et la Mairie de Beaucaire vous donnent rendez-vous le dimanche 24 novembre\, pour un après-midi dansant. \nLES APRÈS-MIDIS DANSANTS\nde 14h à 18h\nEntrée gratuite – Goûters et animations offerts par le CCAS et la Mairie de Beaucaire.\nBuvette payante\n \nDimanche 24 novembre\nOrchestre Lionel Chayas Animation \n  \nLA SOIRÉE DANSANTE\nOrchestre Lionel Chayas Animation \nde 20h30 à 1h\n Entrée gratuite – animation offerte par le CCAS et la Mairie de Beaucaire.\nBuvette payante \n  \nInformations : 04 66 59 36 35
URL:https://www.beaucaire.fr/evenement/apres-midi-dansant-6/
CATEGORIES:Spectacles
ATTACH;FMTTYPE=image/jpeg:https://www.beaucaire.fr/wp-content/uploads/2019/02/Vignette-Web.jpg
END:VEVENT
END:VCALENDAR