BEGIN:VCALENDAR
VERSION:2.0
PRODID:-//Le site officiel de la Ville de Beaucaire - ECPv6.7.0//NONSGML v1.0//EN
CALSCALE:GREGORIAN
METHOD:PUBLISH
X-ORIGINAL-URL:https://www.beaucaire.fr
X-WR-CALDESC:Évènements pour Le site officiel de la Ville de Beaucaire
REFRESH-INTERVAL;VALUE=DURATION:PT1H
X-Robots-Tag:noindex
X-PUBLISHED-TTL:PT1H
BEGIN:VTIMEZONE
TZID:Europe/Paris
BEGIN:DAYLIGHT
TZOFFSETFROM:+0100
TZOFFSETTO:+0200
TZNAME:CEST
DTSTART:20200329T010000
END:DAYLIGHT
BEGIN:STANDARD
TZOFFSETFROM:+0200
TZOFFSETTO:+0100
TZNAME:CET
DTSTART:20201025T010000
END:STANDARD
END:VTIMEZONE
BEGIN:VEVENT
DTSTART;TZID=Europe/Paris:20200216T120000
DTEND;TZID=Europe/Paris:20200216T180000
DTSTAMP:20260423T214126
CREATED:20191128T162611Z
LAST-MODIFIED:20191129T075803Z
UID:37101-1581854400-1581876000@www.beaucaire.fr
SUMMARY:Un Déjeuner-Spectacle pour les seniors
DESCRIPTION:Chaque année\, en clôture de la Semaine Bleue (semaine dédiée à nos seniors se déroulant en octobre)\, un grand déjeuner-spectacle est offert aux seniors.\nDepuis 2018\, la Mairie et son CCAS organisent un deuxième déjeuner-spectacle pour les retraités\, en février. \nEn 2020\, celui-ci se déroulera le dimanche 16 février à 12h\, au Casino Municipal.\nLes inscriptions se dérouleront du 9 décembre 2019 au 31 janvier 2020\, au CCAS de Beaucaire (Hôtel de Ville)\nDu lundi au vendredi de 8h30 à 12h00 et de 13h30 à 17h00. \nPièces à fournir :\n– Carte nationale d’identité\n– Taxe d’habitation 2018\n– Numéro de téléphone \nConditions :\n– Résider sur la commune de Beaucaire depuis plus de 2 ans\n– Être âgé de 63 ans révolus à la date du repas \nPlus d’infos : CCAS – 04.66.59.36.35 \n \n 
URL:https://www.beaucaire.fr/evenement/dejeuner-spectacle-2/
CATEGORIES:Spectacles
ATTACH;FMTTYPE=image/jpeg:https://www.beaucaire.fr/wp-content/uploads/2019/11/DejeunerSPECTACLE-2019-carreWEB.jpg
END:VEVENT
END:VCALENDAR