BEGIN:VCALENDAR
VERSION:2.0
PRODID:-//Le site officiel de la Ville de Beaucaire - ECPv6.7.0//NONSGML v1.0//EN
CALSCALE:GREGORIAN
METHOD:PUBLISH
X-ORIGINAL-URL:https://www.beaucaire.fr
X-WR-CALDESC:Évènements pour Le site officiel de la Ville de Beaucaire
REFRESH-INTERVAL;VALUE=DURATION:PT1H
X-Robots-Tag:noindex
X-PUBLISHED-TTL:PT1H
BEGIN:VTIMEZONE
TZID:Europe/Paris
BEGIN:DAYLIGHT
TZOFFSETFROM:+0100
TZOFFSETTO:+0200
TZNAME:CEST
DTSTART:20200329T010000
END:DAYLIGHT
BEGIN:STANDARD
TZOFFSETFROM:+0200
TZOFFSETTO:+0100
TZNAME:CET
DTSTART:20201025T010000
END:STANDARD
END:VTIMEZONE
BEGIN:VEVENT
DTSTART;TZID=Europe/Paris:20200424T203000
DTEND;TZID=Europe/Paris:20200424T220000
DTSTAMP:20260423T185144
CREATED:20200407T065648Z
LAST-MODIFIED:20200407T065812Z
UID:41710-1587760200-1587765600@www.beaucaire.fr
SUMMARY:[REPORTÉ : 27/11/2020] Les 3 Mousquetaires (théâtre classique)
DESCRIPTION:Représentation de théâtre classique\, dans le cadre de la Saison Culturelle 2019-2020 de Beaucaire \nCette adaptation du célèbre roman de cape et d’épée d’Alexandre Dumas s’intéresse à la première partie de l’intrigue.\nOu comment le jeune D’Artagnan\, cadet de Gascogne fraîchement arrivé à Paris pour entrer dans la compagnie des Mousquetaires du Roi Louis XIII\, va se voir confier une mission de la plus haute importance : Sauver l’honneur de la Reine Anne d’Autriche..\n \nMise en scène : Florence Kleinbort\nArtistes : Claude Wasselin\, Benoît Garrigos\, Sébastien Mintoff\, Camille Damour\, Patrick Séminor\, Laure Rivolier\, Aurélie Mele\, Florence Kleinbort \n\nBilletterie \n> Accueil mairie\nDu lundi au vendredi  de 8h30 à 12h et de 13h30 à 17h.\nPlace Georges Clemenceau – 30300 Beaucaire – Tél : 04 66 59 10 06 \n> Réseau francebillet\nFNAC\, Carrefour\, Géant\, Super U\, Fnac.com\, Francebillet.com … \n> Sur place\, au Casino Municipal\nAttention : certains spectacles étant complets plusieurs semaines à l’avance\, il est conseillé d’acheter sa place avant le jour de la représentation.\nS’il reste des places\, les règlements le jour du spectacle se font uniquement en espèces ou par carte bancaire. Ouverture des guichets 1 heure avant le spectacle. Ouverture des portes de la salle 30 minutes avant le spectacle. \nPlaces numérotées sur plan. \n\nTarifs (Frais de gestion en supplément : 0\,50 €/ billet) \n> Tarif réduit\nLe tarif réduit concerne les enfants de 12 à 16 ans\, les étudiants\, les plus de 65 ans\, les personnes handicapées\, les demandeurs d’emploi et les bénéficiaires du RSA sur présentation d’un justificatif. \n> Gratuité\nPour les enfants de moins de 12 ans. \nLes billets délivrés ne seront ni repris\, ni échangés. La Ville de Beaucaire se réserve le droit de modifier la programmation en cas de nécessité. Le Casino Municipal est accessible aux personnes à mobilité réduite. Les textes et photographies du livret ont été fournis par les producteurs des spectacles. \n\nProgramme complet de la Saison Culturelle en cliquant ici
URL:https://www.beaucaire.fr/evenement/reporte-27-11-2020-les-3-mousquetaires-theatre-classique/
LOCATION:Casino Municipal\, 1\, allée du Casino\, Beaucaire\, 30300\, France
CATEGORIES:Culture,Spectacles
ATTACH;FMTTYPE=image/jpeg:https://www.beaucaire.fr/wp-content/uploads/2020/04/sc2019_a3-spectacles10.jpg
END:VEVENT
END:VCALENDAR