BEGIN:VCALENDAR
VERSION:2.0
PRODID:-//Le site officiel de la Ville de Beaucaire - ECPv6.7.0//NONSGML v1.0//EN
CALSCALE:GREGORIAN
METHOD:PUBLISH
X-ORIGINAL-URL:https://www.beaucaire.fr
X-WR-CALDESC:Évènements pour Le site officiel de la Ville de Beaucaire
REFRESH-INTERVAL;VALUE=DURATION:PT1H
X-Robots-Tag:noindex
X-PUBLISHED-TTL:PT1H
BEGIN:VTIMEZONE
TZID:Europe/Paris
BEGIN:DAYLIGHT
TZOFFSETFROM:+0100
TZOFFSETTO:+0200
TZNAME:CEST
DTSTART:20210328T010000
END:DAYLIGHT
BEGIN:STANDARD
TZOFFSETFROM:+0200
TZOFFSETTO:+0100
TZNAME:CET
DTSTART:20211031T010000
END:STANDARD
END:VTIMEZONE
BEGIN:VEVENT
DTSTART;TZID=Europe/Paris:20210924T180000
DTEND;TZID=Europe/Paris:20210924T193000
DTSTAMP:20260422T193053
CREATED:20210920T130826Z
LAST-MODIFIED:20210920T130826Z
UID:51891-1632506400-1632511800@www.beaucaire.fr
SUMMARY:Concert Monsieur Parallèle Trio. ( genre:  chanson française/musique du monde)
DESCRIPTION:Monsieur Parallèle se produira à la bibliothèque municipale le vendredi 24 septembre à 18h \nAccompagné de Dorian Bleuzé et Luc Hernandez aux guitares\, Monsieur Parallèle vous embarque pour un voyage musical autour de la poésie de Nimrod et les dernières chansons de son nouvel album en préparation. \nEntre les mots\, le violon faisant écho aux 4 continents chante sur la polyrythmie de l’harmonie riche des 2 guitares… \nPréparez-vous à plonger dans un univers original\, sensible et décalé. \n  \n> Bibliothèque municipale\nAngle rue Roger Pascal / Cours Gambetta\nEntrée gratuite – Mesure gouvernementale : Pass sanitaire\n©Shani Lemyre
URL:https://www.beaucaire.fr/evenement/concert-monsieur-parallele-trio-genre-chanson-francaise-musique-du-monde/
LOCATION:Bibliothèque Municipale\, 1 rue Roger Pascal\, Beaucaire\, 30300\, France
CATEGORIES:Animation culturelle,Culture,Spectacles
ATTACH;FMTTYPE=image/png:https://www.beaucaire.fr/wp-content/uploads/Capture-3.png
END:VEVENT
END:VCALENDAR